Workbook
Name \z: #N/A
Name ____abs45: #REF!
Name ____abs60: #REF!
Name ____abs90: #REF!
Name ____est45: #REF!
Name ____est60: #REF!
Name ____est90: #REF!
Name ___abs45: #REF!
Name ___abs60: #REF!
Name ___abs90: #REF!
Name ___cgi24: '[2]update Rate'!$E$86
Name ___cgi26: '[2]update Rate'!$E$87
Name ___est45: #REF!
Name ___est60: #REF!
Name ___est90: #REF!
Name __abs45: #REF!
Name __abs60: #REF!
Name __abs90: #REF!
Name __est45: #REF!
Name __est60: #REF!
Name __est90: #REF!
Name _abs45: #REF!
Name _abs45: #REF!
Name _abs45: #REF!
Name _abs45: #REF!
Name _abs45: #REF!
Name _abs45: #REF!
Name _abs45: #REF!
Name _abs45: #REF!
Name _abs45: #REF!
Name _abs45: #REF!
Name _abs45: #REF!
Name _abs45: #REF!
Name _abs45: #REF!
Name _abs45: #REF!
Name _abs45: #REF!
Name _abs45: #REF!
Name _abs45: #REF!
Name _abs45: #REF!
Name _abs45: #REF!
Name _abs60: #REF!
Name _abs60: #REF!
Name _abs60: #REF!
Name _abs60: #REF!
Name _abs60: #REF!
Name _abs60: #REF!
Name _abs60: #REF!
Name _abs60: #REF!
Name _abs60: #REF!
Name _abs60: #REF!
Name _abs60: #REF!
Name _abs60: #REF!
Name _abs60: #REF!
Name _abs60: #REF!
Name _abs60: #REF!
Name _abs60: #REF!
Name _abs60: #REF!
Name _abs60: #REF!
Name _abs60: #REF!
Name _abs90: #REF!

Sheet उपस्थिती
A1: आज मिति २०८२ साल असार २८ गते शुक्रबारका दिन दिनको २:०० बजे नवलपरासी (ब.सु.प.) जिल्लाका प्रमुख जिल्ला अधिकारी श्री हिरालाल रेग्मी ज्यूको अध्यक्षतामा आ.व.२०८२/०८३ को लागि निर्माण सामाग्री र ढुवानीको दररेट, मेशिन तथा उपकरणको भाडा र श्रमिकहरुको ज्यालादर निर्धारण गर्न सार्वजनिक खरिद नियमावली, २०६४ को नियम १४८ अनुसार जिल्ला दररेट निर्धारण समितिको बैठक देहायका पदाधिकारीहरुको उपस्थितीमा बसी देहाय बमोजिमको निर्णय गरीयो ।
A2: उपस्थिती
A3: सि.नं. | B3: पद | C3: नाम | D3: कार्यालय | E3: दस्तखत
A4: जिल्ला दररेट निर्धारण समितिबाट
A5: 1 | B5: प्रमुख जिल्ला अधिकारी | C5: हिरालाल रेग्मी | D5: जिल्ला प्रशासन कार्यालय
A6: 2
A7: 3
A8: 4
A9: 5
A10: 6
A11: 7
A12: 8
A13: 9
A14: 10
A15: 11
A16: 12
A17: 13
... A25: 21

Sheet Cover page
A7: जिल्ला प्रशासन कार्यालय
A8: नवलपरासी (ब.सु.प.)
A12: नवलपरासी (बर्दघाट सुस्ता पश्चिम) जिल्लाको
A13: आ.व.२०८३/०८४ को लागि
A14: स्वीकृत जिल्ला दररेट
A26: तयार गर्ने
A27: जिल्ला दररेट निर्धारण समिति
A28: नवलपरासी (ब.सु.प.)

Sheet निर्णयहरु
A1: निर्णयहरुः
A2: निर्णय नं. | B2: निर्णयको व्यहोरा
A3: 1 | B3: आ.व.२०८३/०८४ को लागि मिति २०८३/04/01 गते देखि नवलपरासी (ब.सु.प.) जिल्ला भरी लागू हुने गरी संलग्न सूची अनुसारका विभिन्न निर्माण सामाग्री र सो को ढुवानीको दररेट साथै श्रमिकहरुको ज्याला दररेट स्वीकृत गर्ने निर्णय गरीयो । उल्लेखित दररेटमा १३% मु.अ.कर समावेश गरीएको छैन ।
A4: 2 | B4: मेशिन, औजार तथा हेभी उपकरणको भाडादर सम्बन्धमा मेशिन प्रयोग गरी सडक निर्माण गर्दा वा अन्य कार्य गर्नु पर्दा डोजर, एक्जाभेटर, रोलर, ग्रेडर आदिको दर सडक विभागको नर्मस प्रयोग गरी हुन आउने प्रति घण्टाको भाडादर अनुसार कायम गर्ने निर्णय गरीयो ।
A5: 3 | B5: झोलुङ्गे पुलको निर्माण सामाग्रीहरुको दररेटको हकमा श्री शहरी विकास मन्त्रालय अन्तरगतको स्थानीय पूर्वाधार विकास विभागको वेबसाइट www.nepaltrailbridges.gov.np को Reference Rate लाई आधार मान्न सकिने ।
A6: 4 | B6: श्रमिकहरुको उमेर १६ वर्ष वा सो भन्दा माथि र दैनिक काम गर्ने अवधि ८ घण्टालाई आधार मानेर श्रमिकहरुको ज्यालादर सम्बन्धमा छिमेकी जिल्लाको दररेटलाई समेत आधार मानी आगामी आ.व. २०८३/०८४ को श्रमिकहरुको ज्यालादरलाई जिल्लागत औचित्यको आधारमा वृद्धी गरी नयाँ ज्यालादर कायम गर्ने निर्णय गरीयो ।
A7: 5 | B7: यसमा उल्लेख नभएका निर्माणसँग सम्बन्धित अन्य आवश्यक निर्माण सामाग्रीको हकमा सम्बन्धित कार्यालयले प्रचलित नियम कानुनको अधिनमा रही गुणस्तर तथा स्पेशिफिकेशन यकिन गरी निर्माण सामाग्रीहरुको उत्पादक वा आधिकारिक बिक्रेताहरुबाट दरभाउपत्र प्राप्त गरी कार्यान्वयन गर्न सक्ने निर्णय गरीयो ।

Sheet Index 
A1: विषय सूची
A2: क्र.सं. | B2: विषय | C2: पृष्ठ संख्या
B3: उपस्थिती
B4: निर्णयहरु
A5: 1 | B5: श्रमिकहरुको ज्याला दर सम्बन्धी | C5: 1-2
A6: 2 | B6: ढुवानी दर सम्बन्धी | C6: 3-4
A7: 3 | B7: भवन निर्माणमा प्रयोग हुने निर्माण सामाग्री | C7: 5-10
A8: 4 | B8: फलामजन्य निर्माण सामाग्री | C8: 11-15
A9: 5 | B9: सडक तथा पुल निर्माणमा प्रयोग हुने निर्माण सामाग्री | C9: 16-18
A10: 6 | B10: रङ्ग रोगन सम्बन्धी सामाग्री | C10: 19-20
A11: 7 | B11: खानेपानी तथा सरसफाई सम्बन्धी सामाग्री | C11: 21-26
A12: 7.1 | B12: यु.पि.भि.सी. पाइप (NS-206/046) | C12: 27
A13: 7.2 | B13: सि.पि.भि.सी. पाइप | C13: 28-34
A14: 7.3 | B14: पी.पी. आर फिटिङ्गस | C14: 35-36
A15: 7.4 | B15: U-PVC SWR फिटिङ्गस | C15: 37
A16: 7.5 | B16: खानेपानी सम्बन्धी फिटिङ्स | C16: 38-49
... A27: 16 | B27: सिंचाइ गेट तथा स्टिल स्ट्रक्चर | C27: 81-82

Sheet Jyala Dar Final
A1: १. श्रमिकहरुको ज्याला दर सम्बन्धी
A2: qm= ;+= | B2: ljj/)f | C2: OsfO{ | G2: cf=a= 2076÷77 sf] :jLs[t b/ /]^ | H2: cf=a= 2077÷78 sf] :jLs[t b/ /]^ | I2: cf=a= 2078÷79 sf] :jLs[t b/ /]^ | J2: आ.व. २०७९/०८० को दररेट | K2: आ.व. २०८०/०८१ को दररेट | L2: आ.व. २०८१/०८२ को दररेट | M2: आ.व. २०८२/०८३ को दररेट | N2: आ.व. २०८३/०८४ को दररेट | O2: s}lkmot | R2: Month/Year | S2: Index | T2: % Change | U2: Remarks
A3: 1 | B3: दक्ष / सिपालू कामदार : ( सिकर्मी, डकर्मी, नकर्मी), प्लम्बर, ग्याबीयन बुन्ने मिस्त्री, ट्यूववेल गाड्ने मिस्त्री, ड्रिलर, मेकानिक्स, ईलेक्ट्रिसियन, ढुङ्गा/काठमा बुट्टा भर्ने, फोटोग्राफर, चित्रकार, बार बेन्डर, ब्लास्टर, वेल्डर | C3: प्रति व्यक्ति प्रति दिन | D3: 280 | E3: 370 | F3: 395 | G3: 800 | H3: =800+20 -> 820 | I3: =800+20+20 -> 840 | J3: 900 | K3: =J3 -> 900 | L3: 945 | M3: 965 | N3: =Q3 -> 1025 | Q3: =ROUND(106%*M3/5,0)*5 -> 1025 | R3: Mar/Apr 025/26 | S3: 109.43 | T3: 0.063 | U3: चैत्र 082/83
A4: =A3+1 -> 2 | B4: अर्ध दक्ष कामदार : ज्यामी नाइके | C4: प्रति व्यक्ति प्रति दिन | K4: 620 | L4: 650 | M4: 665 | N4: 720 | Q4: =ROUND(106%*M4/5,0)*5 -> 705 | R4: =(N4-M4)/M4 -> 0.082706767 | T4: ६% बृद्धी मानेर रेट कायम गरीएको
A5: =A4+1 -> 3 | B5: (अदक्ष कामदार) ज्यामी साधारण, वन ज्यामी, माली, रनर, सयस | C5: प्रति व्यक्ति प्रति दिन | D5: 180 | E5: 230 | F5: 255 | G5: 550 | H5: =550+10 -> 560 | I5: =550+10+10 -> 570 | J5: 600 | K5: =J5 -> 600 | L5: 648 | M5: 660 | N5: 720 | Q5: =ROUND(106%*M5/5,0)*5 -> 700 | R5: =(N5-M5)/M5 -> 0.090909091
A6: =A5+1 -> 4 | B6: नर्सरी नाइके, वन हेरालु (दैनिक ८ घण्टा काम गर्ने ) | C6: मासिक | D6: 3450 | E6: 3800 | F6: 4060 | G6: 14000 | H6: 14300 | I6: =H6+10 -> 14310 | J6: 16000 | K6: =J6 -> 16000 | L6: 17300 | M6: 17645 | N6: =Q6 -> 18705 | Q6: =ROUND(106%*M6/5,0)*5 -> 18705 | R6: =(N6-M6)/M6 -> 0.060073675
A7: =A6+1 -> 5 | B7: साधारण सुपरभाइजर (निर्माण कार्यको लागि) | C7: प्रति व्यक्ति प्रति दिन | D7: 180 | E7: 200 | F7: 260 | G7: 517 | H7: 527 | I7: =H7+10 -> 537 | J7: 575 | K7: =J7 -> 575 | L7: 648 | M7: 660 | N7: 720 | Q7: =ROUND(106%*M7/5,0)*5 -> 700 | R7: =(N7-M7)/M7 -> 0.090909091
A8: =A7+1 -> 6 | B8: वनज्यामी सुपरभाइजर | C8: प्रति व्यक्ति प्रति दिन | D8: 180 | E8: 230 | F8: 255 | G8: 650 | H8: 660 | I8: =H8+10 -> 670 | J8: 700 | K8: =J8 -> 700 | L8: 735 | M8: 750 | N8: =Q8 -> 795 | Q8: =ROUND(106%*M8/5,0)*5 -> 795 | R8: =(N8-M8)/M8 -> 0.06
A9: =A8+1 -> 7 | B9: अग्नी नियन्त्रक | C9: मासिक | G9: 1400 | H9: 1410 | I9: =H9+10 -> 1420 | J9: 1500 | K9: =J9 -> 1500 | L9: 15000 | M9: 15300 | N9: =Q9 -> 16220 | Q9: =ROUND(106%*M9/5,0)*5 -> 16220 | R9: =(N9-M9)/M9 -> 0.060130719
A10: =A9+1 -> 8 | B10: स्वीपर (पूरा कार्यालय समय), सडकमा काम गर्ने लेन्थवर्कर | C10: प्रति व्यक्ति प्रति दिन | F10: 225 | G10: 517 | H10: 527 | I10: =H10+10 -> 537 | J10: 575 | K10: =J10 -> 575 | L10: 605 | M10: 615 | N10: 675 | Q10: =ROUND(106%*M10/5,0)*5 -> 650 | R10: =(N10-M10)/M10 -> 0.097560976 | T10: =668*1.06 -> 708.08
A11: =A10+1 -> 9 | B11: फोरम्यान (निर्माण कार्यको लागि) | C11: प्रति व्यक्ति प्रति दिन | D11: 225 | E11: 245 | F11: 265 | G11: 517 | H11: 527 | I11: =H11+10 -> 537 | J11: 575 | K11: =J11 -> 575 | L11: 605 | M11: 615 | N11: =N10 -> 675 | Q11: =ROUND(106%*M11/5,0)*5 -> 650 | R11: =(N11-M11)/M11 -> 0.097560976
A12: =A11+1 -> 10 | B12: फोरम्यान (ईलेक्ट्रिक कार्यको लागि) | C12: प्रति व्यक्ति प्रति दिन | D12: 225 | E12: 245 | F12: 265 | G12: 800 | H12: 810 | I12: =H12+10 -> 820 | J12: 860 | K12: =J12 -> 860 | L12: 905 | M12: 920 | N12: =Q12 -> 975 | Q12: =ROUND(106%*M12/5,0)*5 -> 975 | R12: =(N12-M12)/M12 -> 0.059782609
A13: =A12+1 -> 11 | B13: विभिन्न प्रकारका सिमेन्टका मूर्तीहरु कुद्ने/बनाउने विशेष किसिमका कालिगढ | C13: प्रति व्यक्ति प्रति दिन | G13: 1175 | H13: 1185 | I13: =H13+10 -> 1195 | J13: 1250 | K13: =J13 -> 1250 | L13: 1315 | M13: 1340 | N13: =Q13 -> 1420 | Q13: =ROUND(106%*M13/5,0)*5 -> 1420 | R13: =(N13-M13)/M13 -> 0.059701493
A14: =A13+1 -> 12 | B14: ब्लास्टर हेल्पर | C14: प्रति व्यक्ति प्रति दिन | D14: 200 | E14: 220 | F14: 235 | G14: 540 | H14: 550 | I14: =H14+10 -> 560 | J14: 600 | K14: =J14 -> 600 | L14: 630 | M14: 645 | N14: 700 | Q14: =ROUND(106%*M14/5,0)*5 -> 685 | R14: =(N14-M14)/M14 -> 0.085271318
A15: =A14+1 -> 13 | B15: इलेक्ट्रिसियन हेल्पर/ लाइनम्यान | C15: प्रति व्यक्ति प्रति दिन | D15: 200 | E15: 220 | F15: 235 | G15: 625 | H15: 635 | I15: =H15+10 -> 645 | J15: 680 | K15: =J15 -> 680 | L15: 715 | M15: 725 | N15: =Q15 -> 770 | Q15: =ROUND(106%*M15/5,0)*5 -> 770 | R15: =(N15-M15)/M15 -> 0.062068966
A16: =A15+1 -> 14 | B16: प्लम्बर हेल्पर | C16: प्रति व्यक्ति प्रति दिन | K16: 609 | L16: 640 | M16: 655 | N16: 720 | Q16: =ROUND(106%*M16/5,0)*5 -> 695 | R16: =(N16-M16)/M16 -> 0.099236641
A17: =A16+1 -> 15 | B17: चेनम्यान, टेपम्यान, स्टाफम्यान, नापी सहायक, सर्भे हेल्पर (नापीसँग सम्बन्धित कार्य) | C17: प्रति व्यक्ति प्रति दिन | D17: 200 | E17: 220 | F17: 235 | G17: 545 | H17: 555 | I17: =H17+10 -> 565 | J17: 600 | K17: =J17 -> 600 | L17: 630 | M17: 645 | N17: 700 | Q17: =ROUND(106%*M17/5,0)*5 -> 685 | R17: =(N17-M17)/M17 -> 0.085271318
A18: =A17+1 -> 16 | B18: पिच स्प्रेयर, पिच व्वायलर, पम्प अपरेटर, बोरीङ्ग अपरेटर,जिनियर ल्याव टक्निसियन, आ. वा. अपरेटर | C18: प्रति व्यक्ति प्रति दिन | D18: 225 | E18: 245 | F18: 265 | G18: 550 | H18: 560 | I18: =H18+10 -> 570 | J18: 600 | K18: =J18 -> 600 | L18: 630 | M18: 645 | N18: 700 | Q18: =ROUND(106%*M18/5,0)*5 -> 685 | R18: =(N18-M18)/M18 -> 0.085271318
A19: =A18+1 -> 17 | B19: सुरक्षा गार्ड, चौकिदार | C19: प्रति व्यक्ति प्रति दिन | D19: 200 | E19: 220 | F19: 235 | G19: 540 | H19: 550 | I19: =H19+10 -> 560 | J19: 600 | K19: =J19 -> 600 | L19: 630 | M19: 645 | N19: 700 | Q19: =ROUND(106%*M19/5,0)*5 -> 685 | R19: =(N19-M19)/M19 -> 0.085271318
A20: =A19+1 -> 18 | B20: भरिया (४० के.जी. तौलसम्म) | C20: प्रति व्यक्ति प्रति दिन | D20: 200 | E20: 220 | F20: 235 | G20: 517 | H20: 527 | I20: =H20+10 -> 537 | J20: 575 | K20: =J20 -> 575 | L20: 605 | M20: 620 | N20: 690 | Q20: =ROUND(106%*M20/5,0)*5 -> 655 | R20: =(N20-M20)/M20 -> 0.11290323
A21: =A20+1 -> 19 | B21: सिमा नापी कार्यको लागि चेनमेनको ज्याला | C21: प्रति व्यक्ति प्रति दिन | G21: 735 | H21: 745 | I21: =H21+10 -> 755 | J21: 800 | K21: =J21 -> 800 | L21: 840 | M21: 855 | N21: =Q21 -> 905 | Q21: =ROUND(106%*M21/5,0)*5 -> 905 | R21: =(N21-M21)/M21 -> 0.058479532
A22: =A21+1 -> 20 | B22: हेभी इक्वीपमेन्ट अपरेटर (क्रेन, डोजर, ग्रेडर, रोलर, लोडर, आदी ), हेभी सवारी चालक | C22: प्रति व्यक्ति प्रति दिन | D22: 400 | E22: 440 | F22: 470 | G22: 925 | H22: 935 | I22: =H22+10 -> 945 | J22: 1000 | K22: =J22 -> 1000 | L22: 1050 | M22: 1050 | N22: =Q22 -> 1115 | Q22: =ROUND(106%*M22/5,0)*5 -> 1115 | R22: =(N22-M22)/M22 -> 0.061904762
A23: =A22+1 -> 21 | B23: हेभी इक्वीपमेन्ट हेल्पर / सवारी हेल्पर | C23: प्रति व्यक्ति प्रति दिन | D23: 200 | E23: 220 | F23: 235 | G23: 517 | H23: 527 | I23: =H23+10 -> 537 | J23: 600 | K23: =J23 -> 600 | L23: 630 | M23: 645 | N23: 700 | Q23: =ROUND(106%*M23/5,0)*5 -> 685 | R23: =(N23-M23)/M23 -> 0.085271318
A24: =A23+1 -> 22 | B24: हलुका सवारी चालक | C24: प्रति व्यक्ति प्रति दिन | D24: 250 | E24: 275 | F24: 295 | G24: 570 | H24: 580 | I24: =H24+10 -> 590 | J24: 650 | K24: =J24 -> 650 | L24: 685 | M24: 700 | N24: =Q24 -> 740 | Q24: =ROUND(106%*M24/5,0)*5 -> 740 | R24: =(N24-M24)/M24 -> 0.057142857
A25: =A24+1 -> 23 | B25: गोताखोर | C25: प्रति व्यक्ति प्रति दिन | F25: 450 | G25: 900 | H25: 910 | I25: =H25+10 -> 920 | J25: 1000 | K25: =J25 -> 1000 | L25: 1050 | M25: 1070 | N25: =Q25 -> 1135 | Q25: =ROUND(106%*M25/5,0)*5 -> 1135 | R25: =(N25-M25)/M25 -> 0.060747664
A26: =A25+1 -> 24 | B26: फोहर ढल सफा गर्ने मजदुर | C26: प्रति लेवर / दिन | D26: 200 | E26: 220 | F26: 235 | G26: 680 | H26: 690 | I26: =H26+10 -> 700 | J26: 800 | K26: =J26 -> 800 | L26: 840 | M26: 865 | N26: =Q26 -> 915 | Q26: =ROUND(106%*M26/5,0)*5 -> 915 | R26: =(N26-M26)/M26 -> 0.057803468
A27: =A26+1 -> 25 | B27: सेनेटरी सामानको फिटिङ ज्याला (सामानको पसल मुल्यको आधारमा कायम गर्ने ) | C27: प्रतिशत | D27: 25 | E27: 25 | F27: 25 | G27: 30 | H27: 30 | I27: =H27+10 -> 40 | J27: 45 | K27: =J27 -> 45 | L27: 50 | M27: 50 | N27: 55 | Q27: =ROUND(106%*M27/5,0)*5 -> 55 | R27: =(N27-M27)/M27 -> 0.1
A28: =A27+1 -> 26 | B28: सुपरभाइजर SEE वा सो सरह | C28: प्रति व्यक्ति प्रति दिन | K28: 672 | L28: 1095 | M28: 750 | N28: =Q28 -> 795 | Q28: =ROUND(106%*M28/5,0)*5 -> 795 | R28: =(N28-M28)/M28 -> 0.06
A29: =A28+1 -> 27 | B29: सिनियर ल्याब टेक्निसियन (उच्च माध्यमिक तह उत्तीर्ण गरी तालिम प्राप्त गरेको) | C29: प्रति व्यक्ति प्रति दिन | K29: 672 | L29: 1130 | M29: 1130 | N29: =Q29 -> 1080 | Q29: =ROUND(106%*R29/5,0)*5 -> 1080 | R29: 1020
A30: =A29+1 -> 28 | B30: जुनियर ल्याब टेक्निसियन (SEE वा सो सरह उत्तीर्ण गरी तालिम प्राप्त गरेको) | C30: प्रति व्यक्ति प्रति दिन | K30: 609 | L30: 1095 | M30: 1095 | N30: =Q30 -> 805 | Q30: =ROUND(106%*R30/5,0)*5 -> 805 | R30: 760
A31: =A30+1 -> 29 | B31: अनुबन्धित ज्यामी | C31: प्रति व्यक्ति प्रति दिन | K31: 500 | L31: 525 | M31: 540 | N31: 690 | Q31: =ROUND(106%*M31/5,0)*5 -> 570 | R31: =(N31-M31)/M31 -> 0.27777778
A32: =A31+1 -> 30 | B32: कृषि मजदुर | C32: प्रति व्यक्ति प्रति दिन | D32: 160 | E32: 175 | F32: 200 | G32: 517 | H32: 527 | I32: =H32+10 -> 537 | J32: 600 | K32: =J32 -> 600 | L32: 648 | M32: 665 | N32: 720 | Q32: =ROUND(106%*M32/5,0)*5 -> 705 | R32: =(N32-M32)/M32 -> 0.082706767
A33: =A32+1 -> 31 | B33: खंदेल, स्याम्पलर | C33: प्रति व्यक्ति प्रति दिन | D33: 200 | E33: 230 | F33: 255 | G33: 540 | H33: 550 | I33: =H33+10 -> 560 | J33: 580 | K33: =J33 -> 580 | L33: 610 | M33: 620 | N33: 690 | Q33: =ROUND(106%*M33/5,0)*5 -> 655 | R33: =(N33-M33)/M33 -> 0.11290323
A34: =A33+1 -> 32 | B34: क्याम्प वर्कर | C34: ,, ,, | D34: 200 | E34: 230 | F34: 255 | G34: 540 | H34: 550 | I34: =H34+10 -> 560 | J34: 580 | K34: =J34 -> 580 | L34: 610 | M34: 620 | N34: 690 | Q34: =ROUND(106%*M34/5,0)*5 -> 655 | R34: =(N34-M34)/M34 -> 0.11290323
A35: =A34+1 -> 33 | B35: ड्रील हेल्पर, पम्प हेल्पर, पाइप फिटर | C35: ,, ,, | D35: 200 | E35: 230 | F35: 255 | G35: 540 | H35: 550 | I35: =H35+10 -> 560 | J35: 600 | K35: =J35 -> 600 | L35: 630 | M35: 640 | N35: 700 | Q35: =ROUND(106%*M35/5,0)*5 -> 680 | R35: =(N35-M35)/M35 -> 0.09375
A36: =A35+1 -> 34 | B36: गेट अपरेटर | C36: प्रति व्यक्ति प्रति दिन | G36: 575 | H36: 585 | I36: =H36+10 -> 595 | J36: 650 | K36: =J36 -> 650 | L36: 685 | M36: 700 | N36: =Q36 -> 740 | Q36: =ROUND(106%*M36/5,0)*5 -> 740 | R36: =(N36-M36)/M36 -> 0.057142857
A37: नोट : उपरोक्त पदका कामदारहरु बाहेक अन्य पदहरुमा ज्यालादारीमा काम गराउने भएमा जुन पदमा काम गराउने हो सो को लागि नेपाल सरकारको वा सम्बन्धित संस्थानको शुरु तलबमानलाई २६ दिनले भाग गरी आउने रकमलाई प्रतिदिनको ज्याला कायम गर्ने ।

Sheet Dhuwani_Machine_Upakaran Final
A1: २. ढुवानी दर सम्बन्धी
A2: qm= ;+= | B2: ljj/)f | C2: OsfO{ | G2: cf=a= 2076÷77 sf] :jLs[t b/ /]^ | H2: cf=a= 2077÷78 sf] :jLs[t b/ /]^ | I2: cf=a= 2078÷79 sf] :jLs[t b/ /]^ | J2: {='Jyala Dar Final'!J2:J2} -> आ.व. २०७९/०८० को दररेट | K2: {='Jyala Dar Final'!K2:K2} -> आ.व. २०८०/०८१ को दररेट | L2: {='Jyala Dar Final'!L2:L2} -> आ.व. २०८१/०८२ को दररेट | M2: {='Jyala Dar Final'!M2:M2} -> आ.व. २०८२/०८३ को दररेट | N2: {='Jyala Dar Final'!N2:N2} -> आ.व. २०८३/०८४ को दररेट | O2: कैफियत
A3: 1 | B3: dflg; -e/Lof_ åf/f ('jfgL
A4: =A3+0.01 -> 1.01 | B4: ;lhnf] ;fdfg -*f]sf], y'G;], af]/f, afs;, cflbdf /fvL 1 AolQmn] — Ifdtf cg';f/ tf}n k'Ug] u/L — af]Sg ;Sg] ;fdfgx?, h:t}M l;d]G^, afn'jf, /f;folgs dn, bfp/f, vfBfGg, cflb_ | C4: प्रति के.जी. प्रति कोश | D4: 1 | E4: 1.1 | F4: 1.2 | G4: 2.6 | H4: =G4 -> 2.6 | I4: =H4 -> 2.6 | J4: 3 | K4: =J4 -> 3 | L4: =K4 -> 3 | M4: =L4 -> 3 | N4: =M4 -> 3
A5: =A4+0.01 -> 1.02 | B5: c;lhnf] ;fdfg -;fdfGo ef/L agfO{ Ps AolQmn] af]Sg ;Sg] — t/ Ifdtf cg';f/ tf}n gk'Ug] — ;fdfgx?, h:t}Mss{^kftf, a'g]sf] Uoflaog tf/hfnL, la:kmf]^s kbfy{, Pr= l*= lk= O{= kfO{k, OG;'n]^/, cf}ifwL, sf&, s[lifhGo kmnk'mnsf] la?jf, cflb_ | C5: प्रति के.जी. प्रति कोश | D5: =D4*1.25 -> 1.25 | E5: 1.37 | F5: 1.5 | G5: 3.3 | H5: =G5 -> 3.3 | I5: =H5 -> 3.3 | J5: 4 | K5: =J5 -> 4 | L5: =K5 -> 4 | M5: =L5 -> 4 | N5: =M5 -> 4
A6: =A5+0.01 -> 1.03 | B6: clt c;lhnf] ;fdfg -;fdfGotM Ps AolQmn] dfq af]Sg g;Sg] ;fdfgx? h:t}M lh= cfO{= kfO{k, sf¤*]tf/, kmnfd] %*, On]S^«f]d]sflgsn ;fdfg, 3 b]lv 8 dL^/;Dd nfdf] :^Ln kf^{;\÷lah'nLsf] kf]n÷^]lnkmf]gsf] kf]n, lk= P;= l;= kf]n, cflb_ | C6: प्रति के.जी. प्रति कोश | D6: =1.6*D4 -> 1.6 | E6: 1.75 | F6: 1.9 | G6: 4.1 | H6: =G6 -> 4.1 | I6: =H6 -> 4.1 | J6: 5 | K6: =J6 -> 5 | L6: =K6 -> 5 | M6: =L6 -> 5 | N6: =M6 -> 5
A7: =A6+0.01 -> 1.04 | B7: झो.पू.को लठ्ठा | C7: प्रति के.जी. प्रति कोश | F7: 3.5 | G7: 5.85 | H7: =G7 -> 5.85 | I7: =H7 -> 5.85 | J7: 6 | K7: =J7 -> 6 | L7: =K7 -> 6 | M7: =L7 -> 6 | N7: =M7 -> 6
A8: =A7+0.01 -> 1.05 | B8: dflg;åf/f kf]n ('jfgL -8 dL^/ eGbf nfdf] kmnfd] ^\o"a"n/ kf]n_ | C8: प्रति के.जी. प्रति कोश | D8: 3 | E8: 3.3 | F8: 3.65 | G8: 6.05 | H8: =G8 -> 6.05 | I8: =H8 -> 6.05 | J8: 7 | K8: =J8 -> 7 | L8: =K8 -> 7 | M8: =L8 -> 7 | N8: =M8 -> 7
A9: =A8+0.01 -> 1.06 | B9: 6_ dflg;åf/f ^«fG;\km/d/ ('jfgL | C9: प्रति के.जी. प्रति कोश | D9: 5 | E9: 5.5 | F9: 6 | G9: 10.65 | H9: =G9 -> 10.65 | I9: =H9 -> 10.65 | J9: 11 | K9: =J9 -> 11 | L9: =K9 -> 11 | M9: =L9 -> 11 | N9: =M9 -> 11
A10: 2= | B10: vRr/åf/f ('jfgL -;lhnf] ;fdfg dfq_ | C10: प्रति के.जी. प्रति कोश | D10: 0.9 | E10: 1 | F10: 1.1 | G10: 1.85 | H10: =G10 -> 1.85 | I10: =H10 -> 1.85 | J10: 2 | K10: =J10 -> 2 | L10: =K10 -> 2 | M10: =L10 -> 2 | N10: =M10 -> 2
A11: 3= | B11: ^fo/uf*fåf/f ('jfgL c;lhnf] ;fdfg | C11: प्रति टन प्रति कि.मि. | D11: 200 | E11: 220 | F11: 245 | G11: 415 | H11: =G11 -> 415 | I11: =H11 -> 415 | J11: 500 | K11: =J11 -> 500 | L11: =K11 -> 500 | M11: =L11 -> 500 | N11: =M11 -> 500
A12: 4= | B12: ^«ofS^/åf/f ('jfgL -t/fOdf_ | H12: =G12 -> 0 | I12: =H12 -> 0 | K12: =J12 -> 0 | L12: =K12 -> 0 | M12: =L12 -> 0
A13: क | B13: ;lhnf] ;fdfg | H13: =G13 -> 0 | I13: =H13 -> 0 | K13: =J13 -> 0 | L13: =K13 -> 0 | M13: =L13 -> 0
A14: 1 | B14: sRrL -df^f]_ ;*sdf | C14: प्रति टन प्रति कि.मि. | D14: 28 | E14: 31 | F14: 34.4 | G14: 55 | H14: =G14 -> 55 | I14: =H14 -> 55 | J14: 75 | K14: =J14 -> 75 | L14: =K14 -> 75 | M14: =L14 -> 75 | N14: =M14 -> 75
A15: 2 | B15: sRrL -u|fe]n_ ;*sdf | C15: प्रति टन प्रति कि.मि. | D15: 23 | E15: 25.25 | F15: 28 | G15: 45 | H15: =G15 -> 45 | I15: =H15 -> 45 | J15: 70 | K15: =J15 -> 70 | L15: =K15 -> 70 | M15: =L15 -> 70 | N15: =M15 -> 70
A16: 3 | B16: kSsL -sfnf]kq]_ ;*sdf | C16: प्रति टन प्रति कि.मि. | D16: 18 | E16: 20 | F16: 22 | G16: 35 | H16: =G16 -> 35 | I16: =H16 -> 35 | J16: 50 | K16: =J16 -> 50 | L16: =K16 -> 50 | M16: =L16 -> 50 | N16: =M16 -> 50
A17: ख | B17: c;lhnf] ;fdfg | H17: =G17 -> 0 | I17: =H17 -> 0 | K17: =J17 -> 0 | L17: =K17 -> 0 | M17: =L17 -> 0
A18: 1 | B18: sRrL -df^]_ ;*sdf | C18: प्रति टन प्रति कि.मि. | D18: 42 | E18: 44.25 | F18: 48 | G18: 73 | H18: =G18 -> 73 | I18: =H18 -> 73 | J18: 100 | K18: =J18 -> 100 | L18: =K18 -> 100 | M18: =L18 -> 100 | N18: =M18 -> 100
A19: 2 | B19: sRrL -u|fe]n_ ;*sdf | C19: प्रति टन प्रति कि.मि. | D19: 35 | E19: 38.5 | F19: 42 | G19: 74 | H19: =G19 -> 74 | I19: =H19 -> 74 | J19: 90 | K19: =J19 -> 90 | L19: =K19 -> 90 | M19: =L19 -> 90 | N19: =M19 -> 90
A20: 3 | B20: kSsL -sfnf]kq]_ ;*sdf | C20: प्रति टन प्रति कि.मि. | D20: 28 | E20: 30.5 | F20: 33 | G20: 51 | H20: =G20 -> 51 | I20: =H20 -> 51 | J20: 70 | K20: =J20 -> 70 | L20: =K20 -> 70 | M20: =L20 -> 70 | N20: =M20 -> 70
A21: 5 | B21: ^«ofS^/ ef*f -sf& ('jfgL k|of]hg_ | H21: =G21 -> 0 | I21: =H21 -> 0 | K21: =J21 -> 0 | L21: =K21 -> 0 | M21: =L21 -> 0
A22: =A21+0.01 -> 5.01 | B22: t]n jfx]s | C22: प्रति दिन | G22: 3000 | H22: =G22 -> 3000 | I22: =H22 -> 3000 | J22: 3500 | K22: =J22 -> 3500 | L22: =K22 -> 3500 | M22: =L22 -> 3500 | N22: =M22 -> 3500
A23: =A22+0.01 -> 5.02 | B23: t]n ;lxt | C23: प्रति दिन | G23: 5000 | H23: =G23 -> 5000 | I23: =H23 -> 5000 | J23: 7000 | K23: =J23 -> 7000 | L23: =K23 -> 7000 | M23: 6000 | N23: =M23 -> 6000
A24: 6 | B24: ^«ofS^/åf/f ('jfgL kxf*L sRrL ;*s -^«s rNg g;Sg]_ df | C24: प्रति टन प्रति कि.मि. | D24: 60 | E24: 66 | F24: 73 | G24: 125 | H24: =G24 -> 125 | I24: =H24 -> 125 | J24: 150 | K24: =J24 -> 150 | L24: =K24 -> 150 | M24: =L24 -> 150 | N24: =M24 -> 150
A25: 7 | B25: ^«såf/f ('jfgL -50 ls=dL= ;Ddsf] nflu_ | H25: =G25 -> 0 | I25: =H25 -> 0 | K25: =J25 -> 0
A26: =A25+0.01 -> 7.01 | B26: kSsL -sfnf]kq]_ ;*sdf | C26: प्रति टन प्रति कि.मि. | D26: 11.5 | E26: 12.75 | F26: 14 | G26: 22 | H26: =G26 -> 22 | I26: =H26 -> 22 | J26: 35 | K26: =J26 -> 35 | L26: =K26 -> 35 | M26: =L26 -> 35 | N26: =M26 -> 35
A27: =A26+0.01 -> 7.02 | B27: sRrL -u|fe]n_ ;*sdf | C27: प्रति टन प्रति कि.मि. | D27: 14.4 | E27: 16 | F27: 17.6 | G27: 27 | H27: =G27 -> 27 | I27: =H27 -> 27 | J27: 40 | K27: =J27 -> 40 | L27: =K27 -> 40 | M27: =L27 -> 40 | N27: =M27 -> 40
A28: =A27+0.01 -> 7.03 | B28: sRrL -df^]_ ;*sdf | C28: प्रति टन प्रति कि.मि. | D28: 17.25 | E28: 19 | F28: 21 | G28: 33 | H28: =G28 -> 33 | I28: =H28 -> 33 | J28: 45 | K28: =J28 -> 45 | L28: =K28 -> 45 | M28: =L28 -> 45 | N28: =M28 -> 45
A29: 8 | B29: ^«såf/f ('jfgL -50ls=dL= eGbf a(Lsf] nflu_ | C29: प्रति टन प्रति कि.मि. | D29: 6.5 | E29: 6.34 | F29: 6.5 | G29: 11 | H29: =G29 -> 11 | I29: =H29 -> 11 | J29: 15 | K29: =J29 -> 15 | L29: =K29 -> 15 | M29: =L29 -> 15 | N29: =M29 -> 15
A30: 9 | B30: nf]* / cgnf]* -b'a}_ | H30: =G30 -> 0 | I30: =H30 -> 0 | K30: =J30 -> 0
A31: =A30+0.01 -> 9.01 | B31: 1_ ;lhnf] ;fdfg | C31: प्रति क्विन्टल | D31: 10 | E31: 10 | F31: 11 | G31: 20 | H31: =G31 -> 20 | I31: =H31 -> 20 | J31: 21 | K31: =J31 -> 21 | L31: =K31 -> 21 | M31: =L31 -> 21 | N31: =M31 -> 21
A32: =A31+0.01 -> 9.02 | B32: 2_ c;lhnf] ;fdfg | C32: प्रति क्विन्टल | D32: 12 | E32: 12 | F32: 13 | G32: 22 | H32: =G32 -> 22 | I32: =H32 -> 22 | J32: 23 | K32: =J32 -> 23 | L32: =K32 -> 23 | M32: =L32 -> 23 | N32: =M32 -> 23
A33: =A32+0.01 -> 9.03 | B33: 3_ clt c;lhnf] ;fdfg | C33: प्रति क्विन्टल | D33: 20 | E33: 20 | F33: 21 | G33: 35 | H33: =G33 -> 35 | I33: =H33 -> 35 | J33: 40 | K33: =J33 -> 40 | L33: =K33 -> 40 | M33: =L33 -> 40 | N33: =M33 -> 40
A34: 10 | B34: ;fdfgsf] tf}nfO{ / rf}sfO{ | C34: प्रति क्विन्टल | D34: 10 | E34: 10 | F34: 11 | G34: 19 | H34: =G34 -> 19 | I34: =H34 -> 19 | J34: 20 | K34: =J34 -> 20 | L34: =K34 -> 20 | M34: =L34 -> 20 | N34: =M34 -> 20
A35: 11 | B35: dn vfb nf]* cgnf]* | C35: प्रति क्विन्टल | D35: 10 | E35: 10 | F35: 11 | G35: 20 | H35: =G35 -> 20 | I35: =H35 -> 20 | J35: 21 | K35: =J35 -> 21 | L35: =K35 -> 21 | M35: =L35 -> 21 | N35: =M35 -> 21
A36: 12 | B36: cf}iflw ld;fOPsf] aLp nf]* cgnf]* | C36: प्रति क्विन्टल | D36: 10 | E36: 10 | F36: 11 | G36: 20 | H36: =G36 -> 20 | I36: =H36 -> 20 | J36: 21 | K36: =J36 -> 21 | L36: =K36 -> 21 | M36: =L36 -> 21 | N36: =M36 -> 21
A37: 13 | B37: ls^gfzs cf}iflw -w"nf]_ nf]* cgnf]* | C37: प्रति क्विन्टल | D37: 10 | E37: 10 | F37: 11 | G37: 21 | H37: =G37 -> 21 | I37: =H37 -> 21 | J37: 22 | K37: =J37 -> 22 | L37: =K37 -> 22 | M37: =L37 -> 22 | N37: =M37 -> 22
A38: 14 | B38: dnvfb l/k]l/ª tf}nfO{, l;nfO{, rf}sfO{ | C38: प्रति क्विन्टल | D38: 10 | E38: 10 | F38: 11 | G38: 20 | H38: =G38 -> 20 | I38: =H38 -> 20 | J38: =I38*1.1 -> 22 | K38: =J38 -> 22 | L38: =K38 -> 22 | M38: =L38 -> 22 | N38: =M38 -> 22
A39: 15 | B39: (naf^ (sg x^fO{ lg:s]sf] kmf]xf]/ lunf] df^f] ^«ofS^/af^ ("jfgL u/L ahf/af^ aflx/ kmfNg] sfo{ | C39: प्रति घ.मि. | D39: 200 | E39: 220 | F39: 250 | G39: 450 | H39: =G39 -> 450 | I39: =H39 -> 450 | J39: 600 | K39: =J39 -> 600 | L39: =K39 -> 600 | M39: =L39 -> 600 | N39: =M39 -> 600
A40: 16 | B40: xo"dkfOk tyf lkP;;Lkf]nsf] ("jfgL ef*f -sf/vfgf d"Nosf] cfwf/df_ | H40: =G40 -> 0 | I40: =H40 -> 0 | K40: =J40 -> 0
...

Sheet Bhawan
A1: ३. भवन निर्माणमा प्रयोग हुने निर्माण सामाग्री
A2: qm=;+= | B2: lgdf{)f ;fdu|Lsf] ljj/)f | C2: OsfO{ | D2: cf=a= 062÷063 | E2: cf=a= 2066÷67 | F2: cf=a= 2067÷68 | G2: cf=a= 2068÷69 | H2: cf=a= 2075÷76 | I2: cf=a= 2076÷77 sf] :jLs[t b/ /]^ | J2: cf=a= 2077÷78 sf] :jLs[t b/ /]^ | K2: cf=a= 2078÷79 sf] :jLs[t b/ /]^ | L2: ='Dhuwani_Machine_Upakaran Final'!J2 -> आ.व. २०७९/०८० को दररेट | M2: ='Dhuwani_Machine_Upakaran Final'!K2 -> आ.व. २०८०/०८१ को दररेट | N2: ='Dhuwani_Machine_Upakaran Final'!L2 -> आ.व. २०८१/०८२ को दररेट | O2: ='Dhuwani_Machine_Upakaran Final'!M2 -> आ.व. २०८२/०८३ को दररेट | P2: ='Dhuwani_Machine_Upakaran Final'!N2 -> आ.व. २०८३/०८४ को दररेट | Q2: s}lkmot
A3: 1 | B3: ईटा (ढुवानी समेत)
A4: =A3+0.01 -> 1.01 | B4: चिम्नी भट्टाको प्रथम श्रेणीको | C4: हजार | D4: 3000 | E4: 7200 | F4: 8100 | G4: 8800 | H4: 13000 | I4: =H4 -> 13000 | J4: 13300 | K4: =J4 -> 13300 | L4: =K4*1.1 -> 14630 | M4: =L4 -> 14630 | N4: =M4 -> 14630 | O4: 14630 | P4: =O4 -> 14630
A5: =A4+0.01 -> 1.02 | B5: चिम्नी भट्टाको द्वीतीय श्रेणीको | C5: हजार | D5: 2400 | E5: 6500 | F5: 7500 | G5: 7700 | H5: 9500 | I5: =H5 -> 9500 | J5: 9800 | K5: =J5 -> 9800 | L5: =K5*1.1 -> 10780 | M5: =L5 -> 10780 | N5: =M5 -> 10780 | O5: 10780 | P5: =O5 -> 10780
A6: =A5+0.01 -> 1.03 | B6: मेशिन मेड (चाइनिज ईट्टा) | C6: हजार | H6: 12900 | I6: =H6 -> 12900 | J6: 13000 | K6: =J6 -> 13000 | L6: =K6*1.1 -> 14300 | M6: =L6 -> 14300 | N6: =M6 -> 14300 | O6: 14300 | P6: =O6 -> 14300 | V6: Cum | W6: cuft
A7: =A6+0.01 -> 1.04 | B7: स्थानीय भट्टाको ईटा | C7: हजार | H7: 9500 | I7: =H7 -> 9500 | J7: 9700 | K7: =J7 -> 9700 | L7: =K7*1.1 -> 10670 | M7: =L7 -> 10670 | N7: =M7 -> 10670 | O7: 10670 | P7: =O7 -> 10670 | V7: 1 | W7: 35.314667
A8: =A7+0.01 -> 1.05 | B8: राठ ईट्टा | C8: हजार | H8: 8700 | I8: =H8 -> 8700 | J8: 9000 | K8: =J8 -> 9000 | L8: =K8*1.1 -> 9900 | M8: =L8 -> 9900 | N8: =M8 -> 9900 | O8: 9900 | P8: =O8 -> 9900
A9: =A8+0.01 -> 1.06 | B9: ईटाको टुक्रा (रविस) | C9: घ.मि. | D9: 525 | E9: 1200 | F9: 1300 | G9: 1400 | H9: 2200 | I9: =H9 -> 2200 | J9: 2500 | K9: =J9 -> 2500 | L9: =K9*1.1 -> 2750 | M9: =L9 -> 2750 | N9: =M9 -> 2750 | O9: 2750 | P9: =O9 -> 2750
A10: 2 | B10: ढुङ्गा | P10: ‍ | R10: गत आ.व.को रेट | S10: हाल कायम भएको प्रति फुट | T10: बागलुङ कालिका क्रसर प्रति फुट | U10: त्रिवेणी क्रसर उद्योग | V10: महादेवा कन्स्ट्रक्सन सियारी | W10: नवलपुर 82/83 | X10: प्रचलित बजार भाउ | Y10: रुपन्देही
A11: =A10+0.01 -> 2.01 | B11: बोल्डर | C11: घ.मि. | D11: 500 | E11: 800 | F11: 800 | G11: 800 | H11: 2000 | I11: 2050 | J11: =I11 -> 2050 | K11: =J11 -> 2050 | L11: =K11*1.1 -> 2255 | M11: =L11 -> 2255 | N11: =M11*1.05 -> 2367.75 | O11: 2486.1375 | P11: =O11 -> 2486.1375 | R11: =O11/$W$7 -> 70.399574 | S11: =P11/$W$7 -> 70.399574 | W11: =2100/W7 -> 59.465378 | Y11: 46 | AA11: =L12/L11 -> 1.1463415 | AB11: =N12/N11 -> 1.1463415
A12: =A11+0.01 -> 2.02 | B12: फोरुवा ढुङ्गा | C12: घ.मि. | D12: 550 | E12: 850 | F12: 875 | G12: 875 | H12: 2300 | I12: 2350 | J12: =I12 -> 2350 | K12: =J12 -> 2350 | L12: =K12*1.1 -> 2585 | M12: =L12 -> 2585 | N12: =M12*1.05 -> 2714.25 | O12: 2714.25 | P12: =O12 -> 2714.25 | R12: =O12/$W$7 -> 76.859001 | S12: =P12/$W$7 -> 76.859001 | W12: =2325/W7 -> 65.836668
A13: =A12+0.01 -> 2.03 | B13: ("+ufsf] w"nf] ("jfgL ;d]t | C13: घ.मि. | D13: 400 | E13: 825 | F13: 825 | G13: 860 | H13: 1500 | I13: =H13 -> 1500 | J13: =I13 -> 1500 | K13: =J13 -> 1500 | L13: =K13*1.1 -> 1650 | M13: 1730 | N13: =M13*1.05 -> 1816.5 | O13: 1816.5 | P13: =O13 -> 1816.5 | R13: =O13/$W$7 -> 51.437552 | S13: =P13/$W$7 -> 51.437552 | T13: 42 | U13: 40.68 | V13: 45 | W13: =1700/W7 -> 48.138639 | Y13: 48
A14: 3 | B14: नेचुरल गिटी/ग्राभल | C14: घ.मि.
A15: =A14+0.01 -> 3.01 | B15: u|fe]n ;*ssf] nflu -cf/ljPd_ | C15: घ.मि. | D15: 320 | E15: 575 | F15: 550 | G15: 575 | H15: 1275 | I15: 1275 | J15: 1500 | K15: =J15 -> 1500 | L15: =K15*1.1 -> 1650 | M15: 1730 | N15: =M15*1.05 -> 1816.5 | O15: 1650 | P15: =O15 -> 1650 | R15: =O15/$W$7 -> 46.722797 | S15: =P15/$W$7 -> 46.722797 | T15: 32 | U15: 30 | V15: 40 | W15: =1350/35.32 -> 38.221971
A16: =A15+0.01 -> 3.02 | B16: uf]nf] lu§L bfpGg] k"j{ -10 b]vL 40 dL=dL=_ | C16: घ.मि. | D16: 490 | E16: 700 | F16: 700 | G16: 725 | H16: 1475 | I16: 1600 | J16: =I16 -> 1600 | K16: =J16 -> 1600 | L16: =K16*1.1 -> 1760 | M16: 1850 | N16: =M16*1.05 -> 1942.5 | O16: 1942.5 | P16: =O16 -> 1942.5 | R16: =O16/$W$7 -> 55.005475 | S16: =P16/$W$7 -> 55.005475 | U16: 31.64 | V16: 40 | W16: =1475/35.32 -> 41.761042 | Y16: 64
A17: 4 | B17: क्रसरको गिटी
A18: =A17+0.01 -> 4.01 | B18: 20 b]lv 40 dL= dL= | C18: घ.मि. | D18: 700 | E18: 850 | F18: 850 | G18: 886 | H18: 1850 | I18: =H18 -> 1850 | J18: =I18 -> 1850 | K18: =J18 -> 1850 | L18: =K18*1.1 -> 2035 | M18: 2140 | N18: =M18*1.05 -> 2247 | O18: 2247 | P18: =O18 -> 2247 | R18: =O18/$W$7 -> 63.627954 | S18: =P18/$W$7 -> 63.627954 | T18: 40 | U18: 40.68 | V18: 50 | W18: =2100/35.32 -> 59.456399 | Y18: 64
A19: =A18+0.01 -> 4.02 | B19: 12 b]lv 20 dL= dL= | C19: घ.मि. | D19: 700 | E19: 900 | F19: 900 | G19: 939 | H19: 1875 | I19: =H19 -> 1875 | J19: =I19 -> 1875 | K19: =J19 -> 1875 | L19: =K19*1.1 -> 2062.5 | M19: 2165 | N19: =M19*1.05 -> 2273.25 | O19: 2050 | P19: 2115 | R19: =O19/$W$7 -> 58.049536 | S19: =P19/$W$7 -> 59.890131 | T19: 40 | U19: 40.68 | W19: =W18 -> 59.456399 | Y19: 66
A20: =A19+0.01 -> 4.03 | B20: 10 b]lv 12 dL= dL= | C20: घ.मि. | D20: 600 | E20: 650 | F20: 650 | G20: 678 | H20: 1625 | I20: =H20 -> 1625 | J20: =I20 -> 1625 | K20: =J20 -> 1625 | L20: =K20*1.1 -> 1787.5 | M20: 1875 | N20: =M20*1.05 -> 1968.75 | O20: 1968.75 | P20: 2115 | R20: =O20/$W$7 -> 55.748792 | S20: =P20/$W$7 -> 59.890131 | T20: 40 | U20: 40.68 | V20: 45 | W20: =1800/35.32 -> 50.962627 | Y20: 62
A21: =A20+0.01 -> 4.04 | B21: 10 dL= dL= eGbf d"lg -lh/f_ | C21: घ.मि. | D21: 300 | E21: 675 | F21: 675 | G21: 704 | H21: 1350 | I21: =H21 -> 1350 | J21: =I21 -> 1350 | K21: =J21 -> 1350 | L21: =K21*1.1 -> 1485 | M21: 1560 | N21: =M21*1.05 -> 1638 | O21: 1638 | P21: 1800 | R21: =O21/$W$7 -> 46.382995 | S21: =P21/$W$7 -> 50.970324 | T21: 40 | U21: 40.68 | W21: =1605/35.32 -> 45.441676 | Y21: 57
A22: =A21+0.01 -> 4.05 | B22: Crusher Run Material 0-63mm Down (for Sub-base) | C22: घ.मि. | N22: 2100 | O22: 1800 | P22: 1900 | R22: =O22/$W$7 -> 50.970324 | S22: =P22/$W$7 -> 53.802009 | T22: 40 | U22: 45.2 | Y22: 52
A23: =A22+0.01 -> 4.06 | B23: Crusher Run Material (45mm-75 micron) (For Base) | C23: घ.मि. | O23: 1850 | P23: 1950 | R23: =O23/$W$7 -> 52.386166 | S23: =P23/$W$7 -> 55.217851 | T23: 40 | U23: 40.68 | V23: 50 | Y23: 61
A24: 5 | B24: afn'jf÷df^f]
A25: =A24+0.01 -> 5.01 | B25: afn'jf -nf]sn vf]nf_ | C25: घ.मि. | D25: 330 | E25: 500 | F25: 520 | G25: 542 | H25: 1120 | I25: =H25 -> 1120 | J25: =I25 -> 1120 | K25: =J25 -> 1120 | L25: =K25*1.1 -> 1232 | M25: =L25 -> 1232 | N25: =M25*1.05 -> 1293.6 | O25: 1293.6 | P25: =O25 -> 1293.6 | R25: =O25/$W$7 -> 36.630673 | S25: =P25/$W$7 -> 36.630673 | U25: 36.66 | W25: =1200/35.32 -> 33.975085
A26: =A25+0.01 -> 5.02 | B26: wf]Psf] afn'jf -qm;/sf]_ | C26: घ.मि. | E26: 825 | F26: 850 | G26: 886 | H26: 2200 | I26: =H26 -> 2200 | J26: =I26 -> 2200 | K26: =J26 -> 2200 | L26: =K26*1.1 -> 2420 | M26: =L26 -> 2420 | N26: =M26*1.05 -> 2541 | O26: 2365 | P26: =O26 -> 2365 | R26: =O26/$W$7 -> 66.969342 | S26: =P26/$W$7 -> 66.969342 | T26: 50 | U26: 56.5 | V26: 50 | W26: =2400/35.32 -> 67.95017 | Y26: 66
A27: =A26+0.01 -> 5.03 | B27: k"g]{ df^f] | C27: घ.मि. | D27: 120 | E27: 155 | F27: 160 | G27: 166 | H27: 300 | I27: =H27 -> 300 | J27: =I27 -> 300 | K27: =J27 -> 300 | L27: =K27*1.1 -> 330 | M27: =L27 -> 330 | N27: =M27*1.05 -> 346.5 | O27: 450 | P27: =O27 -> 450 | R27: =O27/$W$7 -> 12.742581 | S27: =P27/$W$7 -> 12.742581 | W27: 340 | Y27: 9
A28: =A27+0.01 -> 5.04 | B28: hf]*fO{sf] df^f] | C28: घ.मि. | D28: 140 | F28: 165 | G28: 172 | H28: 310 | I28: =H28 -> 310 | J28: =I28 -> 310 | K28: =J28 -> 310 | L28: =K28*1.1 -> 341 | M28: =L28 -> 341 | N28: =M28*1.05 -> 358.05 | O28: 450 | P28: =O28 -> 450 | R28: =O28/$W$7 -> 12.742581 | S28: =P28/$W$7 -> 12.742581 | W28: 395 | Y28: 0
A29: =A28+0.01 -> 5.05 | B29: la?jf /f]Kgsf] nflu dlnnf] df^f] | C29: घ.मि. | D29: 140 | H29: 400 | I29: =H29 -> 400 | J29: =I29 -> 400 | K29: =J29 -> 400 | L29: =K29*1.1 -> 440 | M29: =L29 -> 440 | N29: =M29*1.05 -> 462 | O29: 462 | P29: =O29 -> 462 | R29: =O29/$W$7 -> 13.082383 | S29: =P29/$W$7 -> 13.082383 | W29: 450
A30: 6 | B30: l;d]G^ | R30: Palpa | S30: Rupandehi | T30: Siddhartha | W30: 700 | Z30: Rupandehi
A31: =A30+0.01 -> 6.01 | B31: g]kfnL l;d]G^ ( N/S OPC ) (50 kg) | C31: बोरा | D31: 315 | E31: 480 | F31: 470 | G31: 470 | H31: 725 | I31: =H31 -> 725 | J31: =I31 -> 725 | K31: =J31 -> 725 | L31: =K31 -> 725 | M31: =L31-10 -> 715 | N31: =M31-100 -> 615 | O31: 630 | P31: =O31 -> 630 | R31: 650 | S31: 630 | T31: 590 | W31: 600 | Z31: 630
A32: =A31+0.01 -> 6.02 | B32: l;d]G^ ( N/S PPC ) (50kg) | C32: बोरा | D32: 315 | E32: 480 | F32: 470 | G32: 470 | H32: 620 | I32: =H32 -> 620 | J32: =I32 -> 620 | K32: =J32 -> 620 | L32: =K32 -> 620 | M32: =L32-10 -> 610 | N32: =M32-95 -> 515 | O32: 528 | P32: 540 | R32: 550 | S32: 540 | T32: 520 | W32: 865 | Z32: 540
A33: =A32+0.01 -> 6.03 | B33: ;]tf] l;d]G^ (40 kg) | C33: बोरा | D33: 800 | E33: 950 | F33: 950 | G33: 900 | H33: 950 | I33: 975 | J33: =I33 -> 975 | K33: =J33 -> 975 | L33: =K33 -> 975 | M33: =L33-10 -> 965 | N33: =M33 -> 965 | O33: 965 | P33: 965 | S33: 931 | Z33: 931
A34: 7 | B34: s+qmL^ P*ldS:r/
A35: =A34+0.01 -> 7.01 | B35: s+qmL^ P*ldS:r/ | C35: के.जी. | H35: 340 | I35: =H35 -> 340 | J35: =I35 -> 340 | K35: =J35 -> 340 | L35: =K35*1.1 -> 374 | M35: =L35 -> 374 | N35: =M35 -> 374 | O35: 374 | P35: =O35 -> 374
A36: =A35+0.01 -> 7.02 | B36: Knfli^;fOh/ | C36: लिटर | H36: 355 | I36: =H36 -> 355 | J36: =I36 -> 355 | K36: =J36 -> 355 | L36: =K36*1.1 -> 390.5 | M36: =L36 -> 390.5 | N36: =M36 -> 390.5 | O36: 390.5 | P36: =O36 -> 390.5
A37: =A36+0.01 -> 7.03 | B37: PlG^ ^/dfO{^ | C37: लिटर | H37: 8580 | I37: =H37 -> 8580 | J37: =I37 -> 8580 | K37: =J37 -> 8580 | L37: =K37*1.1 -> 9438 | M37: =L37 -> 9438 | N37: =M37 -> 9438 | O37: 9438 | P37: =O37 -> 9438
A38: =A37+0.01 -> 7.04 | B38: jf^/ l/k]lné sDkfp)* | C38: लिटर | H38: 575 | I38: =H38 -> 575 | J38: =I38 -> 575 | K38: =J38 -> 575 | L38: =K38*1.1 -> 632.5 | M38: =L38 -> 632.5 | N38: =M38 -> 632.5 | O38: 632.5 | P38: =O38 -> 632.5
A39: =A38+0.01 -> 7.05 | B39: qmofs l/*\o';/ | C39: के.जी. | H39: 590 | I39: =H39 -> 590 | J39: =I39 -> 590 | K39: =J39 -> 590 | L39: =K39*1.1 -> 649 | M39: =L39 -> 649 | N39: =M39 -> 649 | O39: 649 | P39: =O39 -> 649
A40: =A39+0.01 -> 7.06 | B40: jf^/ k|'lkmé sDkfp)* | C40: लिटर | H40: 280 | I40: =H40 -> 280 | J40: =I40 -> 280 | K40: =J40 -> 280 | L40: =K40*1.1 -> 308 | M40: =L40 -> 308 | N40: =M40 -> 308 | O40: 308 | P40: =O40 -> 308
...

Sheet Falamjanya
A1: ४. फलामजन्य निर्माण सामाग्री
A2: qm=;+= | B2: lgdf{)f ;fdu|Lsf] ljj/)f | C2: OsfO{ | D2: cf=a= 062÷063 | E2: cf=a= 2066÷67 | F2: cf=a= 2067÷68 | G2: cf=a= 2068÷69 | H2: cf=a= 2075÷76 | I2: cf=a= 2076÷77 sf] :jLs[t b/ /]^ | J2: cf=a= 2077÷78 sf] :jLs[t b/ /]^ | K2: cf=a= 2078÷79 sf] :jLs[t b/ /]^ | L2: cf=a= 2079÷80 sf] :jLs[t b/ /]^ | M2: आ.व. २०८०/०८१ को दररेट | N2: आ.व. २०८१/०८२ को दररेट | O2: आ.व. २०८२/०८३ को दररेट | P2: आ.व. २०८३/०८४ को दररेट | Q2: s}lkmot
A3: 1 | B3: विभिन्न साइजको फलामे डन्डी-Fe500 (NS or Equivalent) | R3: Ambe | S3: Siddhartha | T3: Laxmi | U3: Rupandehi
A4: =A3+0.01 -> 1.01 | B4: 8, 25, 28 & 32 mm | C4: के.जी. | E4: 59 | F4: 60 | G4: 65 | H4: 78 | I4: =H4 -> 78 | J4: =I4 -> 78 | K4: 80 | L4: =K4*1.2 -> 96 | M4: =L4 -> 96 | N4: =M4 -> 96 | O4: =N4 -> 96 | P4: =O4 -> 96 | R4: 91 | S4: 87 | T4: 90 | U4: =105%*T4 -> 94.5
A5: =A4+0.01 -> 1.02 | B5: 10, 12 & 16 mm | C5: के.जी. | E5: 57 | F5: 58 | G5: 64 | H5: 76 | I5: =H5 -> 76 | J5: =I5 -> 76 | K5: =K4 -> 80 | L5: =K5*1.2 -> 96 | M5: =L5 -> 96 | N5: =M5 -> 96 | O5: =O4-3 -> 93 | P5: =O5 -> 93 | R5: 88 | S5: 84 | T5: 90 | U5: =105%*T5 -> 94.5
A6: =A5+0.01 -> 1.03 | B6: 20 mm | C6: के.जी. | M6: 96 | N6: 96 | O6: =O5+2 -> 95 | P6: =O6 -> 95 | R6: 91 | S6: 86 | T6: 90 | U6: =105%*T6 -> 94.5
A7: =A6+0.01 -> 1.04 | B7: 4.75 to 7mm dia | C7: के.जी. | D7: 43 | E7: 59 | F7: 61 | G7: 68 | H7: 70 | I7: =H7 -> 70 | J7: =I7 -> 70 | K7: 81 | L7: =K7*1.2 -> 97.2 | M7: =L7 -> 97.2 | N7: =M7 -> 97.2 | O7: 97 | P7: =O7 -> 97 | R7: 92 | S7: 88 | U7: =105%*T7 -> 0 | X7: काठमाडौ स्टिल | Z7: Siddhartha
A8: 2 | B8: बाइन्डिङ तार | C8: के.जी. | D8: 60 | E8: 85 | F8: 80 | G8: 85 | H8: 90 | I8: =H8 -> 90 | J8: =I8 -> 90 | K8: =J8 -> 90 | L8: =K8*1.2 -> 108 | M8: =L8 -> 108 | N8: =M8 -> 108 | O8: =ROUND(1.025*N8,0) -> 111 | P8: 115 | R8: 115 | X8: 122 | Z8: 120
A9: 3 | B9: काँडे तार | R9: Rupandehi | U9: Nawalpur | V9: Kapilvastu | W9: DFO
A10: =A9+0.01 -> 3.01 | B10: काँडे तार १२ गेज हेभी कोटेड NS168 | C10: के.जी. | D10: 53 | E10: 80 | F10: 80 | G10: 85 | H10: 95 | I10: =H10 -> 95 | J10: =I10 -> 95 | K10: =J10 -> 95 | L10: =K10*1.2 -> 114 | M10: =L10 -> 114 | N10: =M10 -> 114 | O10: =N10*102.5% -> 116.85 | P10: =O10*102% -> 119.187 | R10: 120 | U10: 110 | V10: 118 | W10: 135
A11: =A10+0.01 -> 3.02 | B11: काँडे तार १४ गेज हेभी कोटेड NS168 | C11: के.जी. | D11: 55 | E11: 82 | F11: 82 | G11: 86 | H11: 93 | I11: =H11 -> 93 | J11: =I11 -> 93 | K11: =J11 -> 93 | L11: =K11*1.2 -> 111.6 | M11: =L11 -> 111.6 | N11: =M11 -> 111.6 | O11: =N11*102.5% -> 114.39 | P11: =O11*102% -> 116.6778 | R11: 109 | U11: 110
A12: 4 | B12: विभिन्न साइजको किल्ला काँटी | C12: के.जी. | D12: 60 | E12: 89 | F12: 80 | G12: 82 | H12: 115 | I12: =H12 -> 115 | J12: =I12 -> 115 | K12: =J12 -> 115 | L12: =K12*1.2 -> 138 | M12: =L12 -> 138 | N12: =M12 -> 138 | O12: =N12 -> 138 | P12: =O12 -> 138
A13: 5 | B13: फलामे ग्रील/गेट/सटर आदी | R13: Nawalpur | U13: Rupandehi
A14: =A13+0.01 -> 5.01 | B14: कोल्याप्सिबल गेट (जडान र पेन्ट समेत) | C14: के.जी. | D14: 63 | E14: 100 | F14: 90 | G14: 100 | H14: 120 | I14: =H14 -> 120 | J14: =I14 -> 120 | K14: 125 | L14: =K14*1.2 -> 150 | M14: =L14 -> 150 | N14: =M14 -> 150 | O14: =N14 -> 150 | P14: =O14 -> 150 | R14: 132 | U14: 158
A15: =A14+0.01 -> 5.02 | B15: रोलिङ सटर (जडान र पेन्ट समेत) | C15: के.जी. | D15: 1600 | E15: 2100 | F15: 2700 | G15: 2850 | H15: 3250 | I15: =H15 -> 3250 | J15: =I15 -> 3250 | K15: 3400 | L15: =K15*1.2 -> 4080 | M15: =L15 -> 4080 | N15: =M15 -> 4080 | O15: =N15 -> 4080 | P15: =O15 -> 4080 | R15: 3575 | U15: 158
A16: =A15+0.01 -> 5.03 | B16: फलामे गेट (जडान र पेन्ट समेत) | C16: के.जी. | D16: 56 | E16: 95 | F16: 105 | G16: 110 | H16: 135 | I16: =H16 -> 135 | J16: =I16 -> 135 | K16: 145 | L16: =K16*1.2 -> 174 | M16: =L16 -> 174 | N16: =M16 -> 174 | O16: =N16 -> 174 | P16: =O16 -> 174
A17: =A16+0.01 -> 5.04 | B17: स्क्वायर पाइप गेट/रेलिङ जडान र पेन्ट समेत | C17: के.जी. | D17: 50 | E17: 100 | F17: 110 | G17: 115 | H17: 140 | I17: =H17 -> 140 | J17: =I17 -> 140 | K17: 145 | L17: =K17*1.2 -> 174 | M17: =L17 -> 174 | N17: =M17 -> 174 | O17: =N17 -> 174 | P17: =O17 -> 174
A18: =A17+0.01 -> 5.05 | B18: एमएस ब्ल्याक पाइपको तयारी ट्यूबुलर ट्रस | C18: के.जी. | H18: 135 | I18: =H18 -> 135 | J18: =I18 -> 135 | K18: 145 | L18: =K18*1.2 -> 174 | M18: =L18 -> 174 | N18: =M18 -> 174 | O18: =N18 -> 174 | P18: =O18 -> 174
A19: =A18+0.01 -> 5.06 | B19: फलामे ग्रील जडान समेत पाताको | C19: के.जी. | D19: 60 | E19: 100 | F19: 90 | G19: 100 | H19: 110 | I19: =H19 -> 110 | J19: =I19 -> 110 | K19: 115 | L19: =K19*1.2 -> 138 | M19: =L19 -> 138 | N19: =M19 -> 138 | O19: =N19 -> 138 | P19: =O19 -> 138 | R19: 121
A20: =A19+0.01 -> 5.07 | B20: फलामे ग्रील जडान समेत स्क्वायर रडको | C20: के.जी. | D20: 60 | E20: 100 | F20: 90 | G20: 100 | H20: 114 | I20: =H20 -> 114 | J20: =I20 -> 114 | K20: 120 | L20: =K20*1.2 -> 144 | M20: =L20 -> 144 | N20: =M20 -> 144 | O20: =N20 -> 144 | P20: =O20 -> 144
A21: =A20+0.01 -> 5.08 | B21: विभिन्न साइजको एमएस एङ्गल/एमएस च्यानल वेल्डिङ्ग समेत | C21: के.जी. | D21: 55 | E21: 70 | F21: 70 | G21: 73 | H21: 107 | I21: =H21 -> 107 | J21: =I21 -> 107 | K21: 110 | L21: =K21*1.2 -> 132 | M21: =L21 -> 132 | N21: =M21 -> 132 | O21: =N21 -> 132 | P21: =O21 -> 132
A22: =A21+0.01 -> 5.09 | B22: विभिन्न साइजको एमएस सीट | C22: के.जी. | H22: 95 | I22: =H22 -> 95 | J22: =I22 -> 95 | K22: 100 | L22: =K22*1.2 -> 120 | M22: =L22 -> 120 | N22: =M22 -> 120 | O22: =N22 -> 120 | P22: =O22 -> 120
A23: 6 | B23: जि.आइ. वायर (ग्याबियन, विभिन्न गेज ८,१०) | R23: Rup
A24: =A23+0.01 -> 6.01 | B24: हेभी कोटेड | C24: के.जी. | D24: 54 | E24: 82 | F24: 82 | G24: 83 | H24: 95 | I24: 104 | J24: =I24 -> 104 | K24: =J24 -> 104 | L24: =K24*1.2 -> 124.8 | M24: =L24 -> 124.8 | N24: =M24 -> 124.8 | O24: =N24 -> 124.8 | P24: =O24+1 -> 125.8 | R24: 125
A25: =A24+0.01 -> 6.02 | B25: मिडियम कोटेड | C25: के.जी. | D25: 53 | E25: 81 | F25: 81 | G25: 82 | H25: 92 | I25: 101 | J25: =I25 -> 101 | K25: =J25 -> 101 | L25: =K25*1.2 -> 121.2 | M25: =L25 -> 121.2 | N25: =M25 -> 121.2 | O25: =N25 -> 121.2 | P25: =O25+1 -> 122.2 | R25: 111
A26: =A25+0.01 -> 6.03 | B26: कमर्सियल | C26: के.जी. | D26: 51 | E26: 78 | F26: 78 | G26: 79 | H26: 87 | I26: 95 | J26: =I26 -> 95 | K26: =J26 -> 95 | L26: =K26*1.2 -> 114 | M26: =L26 -> 114 | N26: =M26 -> 114 | O26: =N26 -> 114 | P26: =O26+1 -> 115 | R26: 106
A27: 7 | B27: जि.आइ. वायर (ग्याबियन, १२ गेज)
A28: =A27+0.01 -> 7.01 | B28: हेभी कोटेड | C28: के.जी. | D28: 54 | E28: 82 | F28: 82 | G28: 83 | H28: 96 | I28: 104 | J28: =I28 -> 104 | K28: =J28 -> 104 | L28: =K28*1.2 -> 124.8 | M28: =L28 -> 124.8 | N28: =M28 -> 124.8 | O28: =N28 -> 124.8 | P28: =O28+1 -> 125.8
A29: =A28+0.01 -> 7.02 | B29: मिडियम कोटेड | C29: के.जी. | D29: 53 | E29: 81 | F29: 81 | G29: 82 | H29: 91 | I29: 100 | J29: =I29 -> 100 | K29: =J29 -> 100 | L29: =K29*1.2 -> 120 | M29: =L29 -> 120 | N29: =M29 -> 120 | O29: =N29 -> 120 | P29: =O29+1 -> 121
A30: =A29+0.01 -> 7.03 | B30: कमर्सियल | C30: के.जी. | D30: 51 | E30: 78 | F30: 78 | G30: 79 | H30: 87 | I30: 95 | J30: =I30 -> 95 | K30: =J30 -> 95 | L30: =K30*1.2 -> 114 | M30: =L30 -> 114 | N30: =M30 -> 114 | O30: =N30 -> 114 | P30: =O30+1 -> 115
A31: 8 | B31: Machinemade Ready Made Gabion Boxes (Factory Price)
A32: 8.1 | B32: एन.एस. १६३/१६९ अनुसारको हेभी जिङ्क कोटेड जि.आई. मेस तार ३.0 मि.मि., सेल्भेज तार ३.९ मि.मि., लेसिङ तार २.४ मि.मि. प्रयोग गरी डबल ट्विस्टेड हेक्सागनल मेस साइज १००X१२० मि.मि. को मेसिनबाट बुनेको ग्याबियन बक्स ( ढुवानी बाहेकको एक्स फेक्ट्री मुल्य) | R32: meccaferri | S32: फरक | T32: RUP with Transport | U32: फरक % | V32: Area | W32: Rs/Sqm | X32: Rs/Sqm
A33: 8.1.1 | B33: बक्स साइज 1.5x1x0.5 | C33: प्रति बक्सा | H33: 1557 | I33: 1712 | J33: =H33 -> 1557 | K33: =J33 -> 1557 | L33: =K33*1.15 -> 1790.55 | M33: =L33 -> 1790.55 | N33: =M33 -> 1790.55 | O33: =N33 -> 1790.55 | P33: =TRUNC(O33-125,0) -> 1665 | R33: 1566.18 | S33: =P33-R33 -> 98.82 | U33: =(R33-O33)/O33 -> -0.12530787 | V33: =2*1.5*(1.5+1+0.5) -> 9 | W33: =R33/V33 -> 174.02 | X33: 250 | Y33: Siddhartha
A34: 8.1.2 | B34: बक्स साइज 2x1x0.5 (एक डायफ्राम समेत) | C34: प्रति बक्सा | H34: 2118 | I34: 2329 | J34: =H34 -> 2118 | K34: =J34 -> 2118 | L34: =K34*1.15 -> 2435.7 | M34: =L34 -> 2435.7 | N34: =M34 -> 2435.7 | O34: =N34 -> 2435.7 | P34: =TRUNC(O34-125,0) -> 2310 | R34: 2130.05 | S34: =P34-R34 -> 179.95 | T34: 2382 | U34: =(R34-O34)/O34 -> -0.12548754 | V34: =2*2*(2+1+0.5) -> 14 | W34: =R34/V34 -> 152.14643
A35: 8.1.3 | B35: बक्स साइज ३x1x0.5 (दुई डायफ्राम समेत) | C35: प्रति बक्सा | H35: 3023 | I35: 3325 | J35: =H35 -> 3023 | K35: =J35 -> 3023 | L35: =K35*1.15 -> 3476.45 | M35: =L35 -> 3476.45 | N35: =M35 -> 3476.45 | O35: =N35 -> 3476.45 | P35: =TRUNC(O35-125,0) -> 3351 | R35: 3039.7 | S35: =P35-R35 -> 311.3 | T35: 3402 | U35: =(R35-O35)/O35 -> -0.12563103 | V35: =2*3*(3+1+0.5) -> 27 | W35: =R35/V35 -> 112.58148
A36: 8.1.4 | B36: बक्स साइज ४x1x0.5 (तीन डायफ्राम समेत) | C36: प्रति बक्सा | H36: 3817 | I36: 4198 | J36: =H36 -> 3817 | K36: =J36 -> 3817 | L36: =K36*1.15 -> 4389.55 | M36: =L36 -> 4389.55 | N36: =M36 -> 4389.55 | O36: =N36 -> 4389.55 | P36: =TRUNC(O36-125,0) -> 4264 | R36: 3836.35 | S36: =P36-R36 -> 427.65 | U36: =(R36-O36)/O36 -> -0.12602659 | V36: =2*4*(4+1+0.5) -> 44 | W36: =R36/V36 -> 87.189773
A37: 8.1.5 | B37: बक्स साइज 1.5x1x1 | C37: प्रति बक्सा | H37: 2263 | I37: 2489 | J37: =H37 -> 2263 | K37: =J37 -> 2263 | L37: =K37*1.15 -> 2602.45 | M37: =L37 -> 2602.45 | N37: =M37 -> 2602.45 | O37: =N37 -> 2602.45 | P37: =TRUNC(O37-125,0) -> 2477 | R37: 2275.82 | S37: =P37-R37 -> 201.18 | U37: =(R37-O37)/O37 -> -0.12550866 | V37: =2*1.5*(1.5+1+1) -> 10.5 | W37: =R37/V37 -> 216.74476
A38: 8.1.6 | B38: बक्स साइज २x1x१ (एक डायफ्राम समेत) | C38: प्रति बक्सा | H38: 3008 | I38: 3308 | J38: =H38 -> 3008 | K38: =J38 -> 3008 | L38: =K38*1.15 -> 3459.2 | M38: =L38 -> 3459.2 | N38: =M38 -> 3459.2 | O38: =N38 -> 3459.2 | P38: =TRUNC(O38-125,0) -> 3334 | R38: 3023.88 | S38: =P38-R38 -> 310.12 | T38: 3384 | U38: =(R38-O38)/O38 -> -0.12584413 | V38: =2*2*(2+1+1) -> 16 | W38: =R38/V38 -> 188.9925
A39: 8.1.7 | B39: बक्स साइज ३x1x१ (दुई डायफ्राम समेत) | C39: प्रति बक्सा | H39: 4269 | I39: 4695 | J39: =H39 -> 4269 | K39: =J39 -> 4269 | L39: =K39*1.15 -> 4909.35 | M39: =L39 -> 4909.35 | N39: =M39 -> 4909.35 | O39: =N39 -> 4909.35 | P39: =TRUNC(O39-125,0) -> 4784 | R39: 4291.74 | S39: =P39-R39 -> 492.26 | T39: 4800 | U39: =(R39-O39)/O39 -> -0.1258028 | V39: =2*3*(3+1+1) -> 30 | W39: =R39/V39 -> 143.058
A40: 8.1.8 | B40: बक्स साइज ४x1x१ (तीन डायफ्राम समेत) | C40: प्रति बक्सा | H40: 5497 | I40: 6046 | J40: =H40 -> 5497 | K40: =J40 -> 5497 | L40: =K40*1.15 -> 6321.55 | M40: =L40 -> 6321.55 | N40: =M40 -> 6321.55 | O40: =N40 -> 6321.55 | P40: =TRUNC(O40-125,0) -> 6196 | R40: 5526.83 | S40: =P40-R40 -> 669.17 | U40: =(R40-O40)/O40 -> -0.125716 | V40: =2*4*(4+1+1) -> 48 | W40: =R40/V40 -> 115.14229
...

Sheet Sadak
A1: 5. सडक तथा पुल निर्माणमा प्रयोग हुने निर्माण सामाग्री
A2: qm=;+= | B2: lgdf{)f ;fdu|Lsf] ljj/)f | C2: OsfO{ | D2: cf=a= 062÷063 | E2: cf=a= 2066÷67 | F2: cf=a= 2067÷68 | G2: cf=a= 2068÷69 | H2: cf=a= 2074÷75 | I2: cf=a= 2075÷76 | J2: cf=a= 2076÷77 sf] :jLs[t b/ /]^ | K2: cf=a= 2077÷78 sf] :jLs[t b/ /]^ | L2: cf=a= 2078÷79 sf] :jLs[t b/ /]^ | M2: cf=a= 2079÷80 sf] :jLs[t b/ /]^ | N2: cf=a= 2080÷81 sf] :jLs[t b/ /]^ | O2: आ.व. २०८१/०८२ को दररेट | P2: आ.व. २०८२/०८३ को दररेट | Q2: =Falamjanya!P2 -> आ.व. २०८३/०८४ को दररेट | R2: s}lkmot | S2: Nepal B&B | U2: Harsit Exims | W2: Kathmandu | X2: Rupandehi | Y2: Kapilvastu | Z2: % Diff wrt Kath | AA2: % diff wrt Rup
A3: 1 | B3: विटूमिन | S3: 82/83 | T3: 83/84 | U3: 82/83 | V3: 83/84
A4: 1.1 | B4: विटूमिन ८०/१०० ग्रेड VG-10 | C4: के.जी. | H4: 65.4 | I4: 70.1 | J4: 73 | K4: =J4 -> 73 | L4: 75 | M4: =L4*1.2 -> 90 | N4: 95 | O4: =N4 -> 95 | P4: =ROUND(102.67%*X4,0) -> 99 | Q4: नेपाल बिटुमिन तथा ब्यारेल उद्योग लिमिटेडले निर्धारण गरे बमोजिम | S4: 108.4 | T4: 147.8 | U4: 102 | W4: 108 | X4: 96 | Y4: 99 | Z4: =(W4-O4)/O4 -> 0.13684211 | AA4: =(X4-O4)/O4 -> 0.010526316
A5: 1.2 | B5: विटूमिन 60/70 ग्रेड VG-30 | C5: के.जी. | I5: 70.1 | J5: 73 | K5: =J5 -> 73 | L5: 75 | M5: =L5*1.2 -> 90 | N5: 95 | O5: 98 | P5: =ROUND(102.67%*X5,0) -> 101 | S5: 110.7 | T5: 151.8 | U5: 103 | W5: 110 | X5: 98 | Y5: 100 | Z5: =(W5-O5)/O5 -> 0.12244898 | AA5: =(X5-O5)/O5 -> 0
A6: 1.3 | B6: रबर बेस बिटूमिन (CRMB-DIGO 50) | C6: के.जी. | I6: 70.1 | J6: =I6 -> 70.1 | K6: =J6 -> 70.1 | L6: =K6 -> 70.1 | M6: =L6*1.2 -> 84.12 | N6: 90 | O6: =N6 -> 90 | P6: =ROUND(102.67%*O6,0) -> 92 | S6: 2.67% increase | Z6: =(W6-O6)/O6 -> -1 | AA6: =(X6-O6)/O6 -> -1
A7: 1.4 | B7: रबर बेस बिटूमिन (CRMB-DIGO 55) | C7: के.जी. | H7: 70.7 | I7: 70.7 | J7: =I7 -> 70.7 | K7: =J7 -> 70.7 | L7: =K7 -> 70.7 | M7: =L7*1.2 -> 84.84 | N7: 90 | O7: =N7 -> 90 | P7: =ROUND(102.67%*O7,0) -> 92 | S7: 2.67% increase | W7: 59 | Z7: =(W7-O7)/O7 -> -0.34444444 | AA7: =(X7-O7)/O7 -> -1
A8: 1.5 | B8: पोलिमर बेस बिटूमिन (PMB-40) | C8: के.जी. | I8: 87 | J8: =I8 -> 87 | K8: =J8 -> 87 | L8: =K8 -> 87 | M8: =L8*1.2 -> 104.4 | N8: 110 | O8: =N8 -> 110 | P8: =ROUND(102.67%*O8,0) -> 113 | S8: 2.67% increase | W8: 125 | Z8: =(W8-O8)/O8 -> 0.13636364 | AA8: =(X8-O8)/O8 -> -1
A9: 2 | B9: विटूमिन इमल्सन | S9: Nepal B&B | U9: Harsit Exims | W9: Kathmandu | X9: Rupandehi
A10: 2.1 | B10: छिटो जम्ने ६०% विटूमिन | C10: के.जी. | H10: 60.8 | I10: 63.3 | J10: =I10 -> 63.3 | K10: =J10 -> 63.3 | L10: =K10 -> 63.3 | M10: =L10*1.2 -> 75.96 | N10: 80 | O10: =N10 -> 80 | P10: =W10 -> 89 | Q10: नेपाल बिटुमिन तथा ब्यारेल उद्योग लिमिटेडले निर्धारण गरे बमोजिम | S10: 98.9 | T10: 132.3 | U10: 98 | W10: 89 | Y10: 102 | Z10: =(W10-O10)/O10 -> 0.1125 | AA10: =(X10-O10)/O10 -> -1
A11: 2.2 | B11: छिटो जम्ने ६५% विटूमिन | C11: के.जी. | H11: 64.6 | I11: 62.2 | J11: =I11 -> 62.2 | K11: =J11 -> 62.2 | L11: =K11 -> 62.2 | M11: =L11*1.2 -> 74.64 | N11: 80 | O11: =N11 -> 80 | P11: =W11 -> 94 | S11: 104.8 | T11: 140.8 | U11: 98 | W11: 94 | Y11: 108 | Z11: =(W11-O11)/O11 -> 0.175 | AA11: =(X11-O11)/O11 -> -1
A12: 2.3 | B12: छिटो जम्ने ७०% विटूमिन | C12: के.जी. | H12: 68.3 | I12: 71.1 | J12: =I12 -> 71.1 | K12: =J12 -> 71.1 | L12: =K12 -> 71.1 | M12: =L12*1.2 -> 85.32 | N12: 90 | O12: =N12 -> 90 | P12: =W12 -> 99 | S12: 110.6 | T12: 149.3 | U12: 98 | W12: 99 | Y12: 115 | Z12: =(W12-O12)/O12 -> 0.1 | AA12: =(X12-O12)/O12 -> -1
A13: 2.4 | B13: मध्यम जम्ने ६०% विटूमिन | C13: के.जी. | H13: 61.6 | I13: 64.1 | J13: =I13 -> 64.1 | K13: =J13 -> 64.1 | L13: =K13 -> 64.1 | M13: =L13*1.2 -> 76.92 | N13: 80 | O13: =N13 -> 80 | P13: =W13 -> 90 | S13: 100 | T13: 133.5 | U13: 97 | W13: 90 | Y13: 103 | Z13: =(W13-O13)/O13 -> 0.125 | AA13: =(X13-O13)/O13 -> -1
A14: 2.5 | B14: मध्यम जम्ने ६५% विटूमिन | C14: के.जी. | H14: 66.3 | I14: 68.1 | J14: =I14 -> 68.1 | K14: =J14 -> 68.1 | L14: =K14 -> 68.1 | M14: =L14*1.2 -> 81.72 | N14: 85 | O14: =N14 -> 85 | P14: =W14 -> 94 | S14: 112.3 | T14: 140.34 | U14: 97 | W14: 94 | X14: 97 | Y14: 109 | Z14: =(W14-O14)/O14 -> 0.10588235 | AA14: =(X14-O14)/O14 -> 0.14117647
A15: 2.6 | B15: ढिलो जम्ने ६०% विटूमिन | C15: के.जी. | H15: 62.7 | I15: 65.3 | J15: =I15 -> 65.3 | K15: =J15 -> 65.3 | L15: =K15 -> 65.3 | M15: =L15*1.2 -> 78.36 | N15: 82 | O15: =N15 -> 82 | P15: =W15 -> 91 | S15: 101.6 | T15: 135 | U15: 96 | W15: 91 | Y15: 105 | Z15: =(W15-O15)/O15 -> 0.1097561 | AA15: =(X15-O15)/O15 -> -1
A16: 3 | B16: स्लरी सिल ६०% विटूमिन | C16: के.जी. | H16: 69.4 | I16: 70.4 | J16: =I16 -> 70.4 | K16: =J16 -> 70.4 | L16: =K16 -> 70.4 | M16: =L16*1.2 -> 84.48 | N16: 88 | O16: =N16 -> 88 | P16: =W16 -> 98 | S16: 105.7 | T16: 139.1 | W16: 98 | Y16: 108 | Z16: =(W16-O16)/O16 -> 0.11363636 | AA16: =(X16-O16)/O16 -> -1
A17: 4 | B17: Antistripping Agent (Liquid)
A18: 4.1 | B18: Anstrip' | C18: के.जी. | H18: 310 | I18: 320 | J18: =I18 -> 320 | K18: =J18 -> 320 | L18: =K18 -> 320 | M18: =L18*1.2 -> 384 | N18: =M18 -> 384 | O18: =N18 -> 384 | P18: 400 | Q18: 450 | S18: 560 | T18: 700 | U18: 400 | W18: 370 | X18: 465 | Y18: 510 | Z18: =(W18-O18)/O18 -> -0.036458333 | AA18: =(X18-O18)/O18 -> 0.2109375
A19: 5 | B19: ईन्धन जन्य सामाग्री
A20: 5.1 | B20: डिजेल, पेट्रोल, मट्टीतेल | C20: लि. | N20: नेपाल आयल निगमको दररेट अनुसार
A21: 5.2 | B21: लुब्रिकेन्ट | C21: लि. | P21: 774 | Q21: =P21 -> 774 | S21: दाङ्गबाट साभार
A22: 5.3 | B22: ग्रिज | C22: के.जी. | P22: 659 | Q22: =P22 -> 659 | S22: दाङ्गबाट साभार
A23: 5.4 | B23: हाइड्रलिक आयल, गेयर आयल, ब्रेक आयल | C23: लि. | P23: 672 | Q23: =P23 -> 672 | S23: दाङ्गबाट साभार | V23: increment rate 4.04% as per WPI
A24: 6 | B24: ह्यूम पाइप | S24: Bhairav | T24: Mk Industries | U24: Rupandehi | V24: % Increment | W24: % Increase wrt Last Year
A25: 6.1 | B25: 15cm ø (NP3 Class) | C25: र.मि. | D25: 1392 | G25: 1660 | H25: 1415 | I25: 1415 | J25: =I25 -> 1415 | K25: =J25 -> 1415 | L25: 1500 | M25: =L25*1.1 -> 1650 | N25: =M25 -> 1650 | O25: =N25 -> 1650 | P25: =O25 -> 1650 | Q25: =P25 -> 1650 | S25: 2500 | T25: 2550 | U25: 2321 | V25: =(Q25-P25) -> 0 | W25: =(Q25-P25)/P25 -> 0
A26: 6.2 | B26: 20cm ø (NP3 Class) | C26: र.मि. | D26: 1392 | G26: 1660 | H26: 1890 | I26: 1890 | J26: =I26 -> 1890 | K26: =J26 -> 1890 | L26: 1950 | M26: =L26*1.1 -> 2145 | N26: =M26 -> 2145 | O26: =N26 -> 2145 | P26: =O26 -> 2145 | Q26: =P26 -> 2145 | S26: 3200 | T26: 3240 | U26: 2861 | V26: =TRUNC(105%*U26,0) -> 3004 | W26: =(Q26-P26)/P26 -> 0
A27: 6.3 | B27: 25cm ø (NP3 Class) | C27: र.मि. | H27: 2365 | I27: 2365 | J27: =I27 -> 2365 | K27: =J27 -> 2365 | L27: 2450 | M27: =L27*1.1 -> 2695 | N27: =M27 -> 2695 | O27: =N27 -> 2695 | P27: =O27 -> 2695 | Q27: =P27 -> 2695 | S27: 3650 | T27: 3680 | U27: 3476 | V27: =TRUNC(105%*U27,0) -> 3649 | W27: =(Q27-P27)/P27 -> 0
A28: 6.4 | B28: 30 cm ø (NP3 Class) | C28: र.मि. | D28: 1392 | E28: 2045 | F28: 2150 | G28: 2260 | H28: 3415 | I28: 3415 | J28: =I28 -> 3415 | K28: =J28 -> 3415 | L28: 3550 | M28: =L28*1.1 -> 3905 | N28: =M28 -> 3905 | O28: =N28 -> 3905 | P28: =O28 -> 3905 | Q28: =P28 -> 3905 | S28: 4400 | T28: 4450 | U28: 3953 | V28: =TRUNC(105%*U28,0) -> 4150 | W28: =(Q28-P28)/P28 -> 0
A29: 6.5 | B29: 40 cm ø (NP3 Class) | C29: र.मि. | D29: 1569 | E29: 2615 | F29: 2750 | G29: 2890 | H29: 4570 | I29: 4570 | J29: =I29 -> 4570 | K29: =J29 -> 4570 | L29: 4800 | M29: =L29*1.1 -> 5280 | N29: =M29 -> 5280 | O29: =N29 -> 5280 | P29: =O29 -> 5280 | Q29: =P29 -> 5280 | S29: 5400 | T29: 5440 | U29: 5045 | V29: =TRUNC(105%*U29,0) -> 5297 | W29: =(Q29-P29)/P29 -> 0
A30: 6.6 | B30: 45 cm ø (NP3 Class) | C30: र.मि. | D30: 1711 | E30: 3000 | F30: 3150 | G30: 3310 | H30: 4895 | I30: 4895 | J30: =I30 -> 4895 | K30: =J30 -> 4895 | L30: 5000 | M30: =L30*1.1 -> 5500 | N30: =M30 -> 5500 | O30: =N30 -> 5500 | P30: =O30 -> 5500 | Q30: =P30 -> 5500 | S30: 6200 | T30: 6240 | U30: 5796 | V30: =TRUNC(105%*U30,0) -> 6085 | W30: =(Q30-P30)/P30 -> 0
A31: 6.7 | B31: 50 cm ø (NP3 Class) | C31: र.मि. | D31: 2012 | E31: 3360 | F31: 3530 | G31: 3710 | H31: 5460 | I31: 5460 | J31: =I31 -> 5460 | K31: =J31 -> 5460 | L31: 5600 | M31: =L31*1.1 -> 6160 | N31: =M31 -> 6160 | O31: =N31 -> 6160 | P31: =O31 -> 6160 | Q31: =P31 -> 6160 | S31: 7200 | T31: 7250 | U31: 6473 | V31: =TRUNC(105%*U31,0) -> 6796 | W31: =(Q31-P31)/P31 -> 0
A32: 6.8 | B32: 60 cm ø (NP3 Class) | C32: र.मि. | D32: 2340 | E32: 4000 | F32: 4200 | G32: 4420 | H32: 6755 | I32: 6755 | J32: =I32 -> 6755 | K32: =J32 -> 6755 | L32: 6850 | M32: =L32*1.1 -> 7535 | N32: =M32 -> 7535 | O32: =N32 -> 7535 | P32: =O32 -> 7535 | Q32: =P32 -> 7535 | S32: 8200 | T32: 8240 | U32: 7770 | V32: =TRUNC(105%*U32,0) -> 8158 | W32: =(Q32-P32)/P32 -> 0
A33: 6.9 | B33: 75 cm ø (NP3 Class) | C33: र.मि. | D33: 3289 | E33: 5800 | F33: 6090 | G33: 6400 | H33: 9240 | I33: 9240 | J33: =I33 -> 9240 | K33: =J33 -> 9240 | L33: 9500 | M33: =L33*1.1 -> 10450 | N33: =M33 -> 10450 | O33: =N33 -> 10450 | P33: =O33 -> 10450 | Q33: =P33 -> 10450 | S33: 12000 | T33: 12040 | U33: 11177 | V33: =TRUNC(105%*U33,0) -> 11735 | W33: =(Q33-P33)/P33 -> 0
A34: 6.1 | B34: 90 cm ø (NP3 Class) | C34: र.मि. | D34: 4376 | E34: 7350 | F34: 7700 | G34: 8110 | H34: 12240 | I34: 12240 | J34: =I34 -> 12240 | K34: =J34 -> 12240 | L34: 12400 | M34: =L34*1.1 -> 13640 | N34: =M34 -> 13640 | O34: =N34 -> 13640 | P34: =O34 -> 13640 | Q34: =P34 -> 13640 | S34: 16200 | T34: 16250 | U34: 14338 | V34: =TRUNC(105%*U34,0) -> 15054 | W34: =(Q34-P34)/P34 -> 0
A35: 6.11 | B35: 100 cm ø (NP3 Class) | C35: र.मि. | D35: 4933 | E35: 8150 | F35: 8800 | G35: 9000 | H35: 13165 | I35: 13165 | J35: =I35 -> 13165 | K35: =J35 -> 13165 | L35: 13400 | M35: =L35*1.1 -> 14740 | N35: =M35 -> 14740 | O35: =N35 -> 14740 | P35: =O35 -> 14740 | Q35: =P35 -> 14740 | S35: 16400 | T35: 16470 | U35: 15808 | V35: =TRUNC(105%*U35,0) -> 16598 | W35: =(Q35-P35)/P35 -> 0
A36: 6.12 | B36: 120 cm ø (NP3 Class) | C36: र.मि. | E36: 9560 | F36: 10000 | G36: 10560 | H36: 16120 | I36: 16120 | J36: =I36 -> 16120 | K36: =J36 -> 16120 | L36: 16500 | M36: =L36*1.1 -> 18150 | N36: =M36 -> 18150 | O36: =N36 -> 18150 | P36: =O36 -> 18150 | Q36: =P36 -> 18150 | S36: 20000 | T36: 20050 | U36: 18533 | V36: =TRUNC(105%*U36,0) -> 19459 | W36: =(Q36-P36)/P36 -> 0
A37: 6.13 | B37: 150cm ø (NP3 Class) | C37: र.मि. | G37: 15500 | H37: 24715 | I37: 24715 | J37: =I37 -> 24715 | K37: =J37 -> 24715 | L37: 25000 | M37: =L37*1.1 -> 27500 | N37: =M37 -> 27500 | O37: =N37 -> 27500 | P37: =O37 -> 27500 | Q37: =P37 -> 27500 | S37: 28300 | T37: 28350 | U37: 27253 | V37: =TRUNC(105%*U37,0) -> 28615 | W37: =(Q37-P37)/P37 -> 0
A38: 6.14 | B38: 15 cm ø (NP2 Class) | C38: र.मि. | D38: 455 | E38: 610 | F38: 640 | G38: 680 | H38: 655 | I38: 655 | J38: =I38 -> 655 | K38: =J38 -> 655 | L38: 700 | M38: =L38*1.1 -> 770 | N38: =M38 -> 770 | O38: =N38 -> 770 | P38: =O38 -> 770 | Q38: =P38 -> 770 | S38: 1000 | T38: 1025 | U38: 856 | V38: =TRUNC(105%*U38,0) -> 898 | W38: =(Q38-P38)/P38 -> 0
A39: 6.15 | B39: 20 cm ø (NP2 Class) | C39: र.मि. | D39: 455 | E39: 610 | F39: 640 | G39: 680 | H39: 875 | I39: 875 | J39: =I39 -> 875 | K39: =J39 -> 875 | L39: 900 | M39: =L39*1.1 -> 990 | N39: =M39 -> 990 | O39: =N39 -> 990 | P39: =O39 -> 990 | Q39: =P39 -> 990 | S39: 1100 | T39: 1140 | U39: 1024 | V39: =TRUNC(105%*U39,0) -> 1075 | W39: =(Q39-P39)/P39 -> 0
A40: 6.16 | B40: 25 cm ø (NP2 Class) | C40: र.मि. | D40: 455 | E40: 610 | F40: 640 | G40: 680 | H40: 1050 | I40: 1050 | J40: =I40 -> 1050 | K40: =J40 -> 1050 | L40: 1100 | M40: =L40*1.1 -> 1210 | N40: =M40 -> 1210 | O40: =N40 -> 1210 | P40: =O40 -> 1210 | Q40: =P40 -> 1210 | S40: 1200 | T40: 1250 | U40: 1160 | V40: =TRUNC(105%*U40,0) -> 1218 | W40: =(Q40-P40)/P40 -> 0
...

Sheet Rang rogan
A1: 6. रङ्ग रोगन सम्बन्धी सामाग्री
A2: qm=;+= | B2: lgdf{)f ;fdu|Lsf] ljj/)f | C2: OsfO{ | D2: cf=a= 062÷063 | E2: cf=a= 2066÷67 | F2: cf=a= 2067÷68 | G2: cf=a= 2068÷69 | H2: cf=a= 2075÷76 | I2: cf=a= 2076÷77 sf] :jLs[t b/ /]^ | J2: cf=a= 2077÷78 sf] :jLs[t b/ /]^ | K2: cf=a= 2078÷79 sf] :jLs[t b/ /]^ | L2: cf=a= 2079÷80 sf] :jLs[t b/ /]^ | M2: =Falamjanya!M2 -> आ.व. २०८०/०८१ को दररेट | N2: =Falamjanya!N2 -> आ.व. २०८१/०८२ को दररेट | O2: =Falamjanya!O2 -> आ.व. २०८२/०८३ को दररेट | P2: =Sadak!Q2 -> आ.व. २०८३/०८४ को दररेट | Q2: s}lkmot
A3: 1 | B3: वाटर प्रुफ सिमेन्ट पेन्ट (Snowcem) | C3: =C13 -> के.जी. | D3: 50 | E3: 48 | F3: 46 | G3: 46 | H3: 65 | I3: =H3 -> 65 | J3: =I3 -> 65 | K3: =J3 -> 65 | L3: =K3*1.1 -> 71.5 | M3: =L3 -> 71.5 | N3: =M3 -> 71.5 | O3: =N3 -> 71.5 | P3: =O3 -> 71.5
A4: =A3+1 -> 2 | B4: सिमेन्ट प्राइमर | C4: लिटर | F4: 115 | G4: 125 | H4: 195 | I4: =H4 -> 195 | J4: =I4 -> 195 | K4: =J4 -> 195 | L4: =K4*1.1 -> 214.5 | M4: =L4 -> 214.5 | N4: =M4 -> 214.5 | O4: =N4 -> 214.5 | P4: =O4 -> 214.5 | R4: 139.5
A5: =A4+1 -> 3 | B5: उडन प्राइमर | C5: लिटर | D5: 170 | E5: 215 | F5: 220 | G5: 230 | H5: 349 | I5: =H5 -> 349 | J5: =I5 -> 349 | K5: =J5 -> 349 | L5: =K5*1.1 -> 383.9 | M5: =L5 -> 383.9 | N5: =M5 -> 383.9 | O5: =N5 -> 383.9 | P5: =O5 -> 383.9
A6: =A5+1 -> 4 | B6: इनामेल पेन्ट | C6: लिटर | D6: 215 | E6: 285 | F6: 285 | G6: 298 | H6: 534 | I6: =H6 -> 534 | J6: =I6 -> 534 | K6: =J6 -> 534 | L6: =K6*1.1 -> 587.4 | M6: =L6 -> 587.4 | N6: =M6 -> 587.4 | O6: =N6 -> 587.4 | P6: =O6 -> 587.4
A7: =A6+1 -> 5 | B7: अलमुनियम पेन्ट | C7: लिटर | D7: 260 | E7: 350 | F7: 375 | G7: 391 | H7: 590 | I7: =H7 -> 590 | J7: =I7 -> 590 | K7: =J7 -> 590 | L7: =K7*1.1 -> 649 | M7: =L7 -> 649 | N7: =M7 -> 649 | O7: =N7 -> 649 | P7: =O7 -> 649 | R7: 585
A8: =A7+1 -> 6 | B8: वारनिस | C8: लिटर | D8: 45 | E8: 80 | F8: 80 | G8: 84 | H8: 312 | I8: =H8 -> 312 | J8: =I8 -> 312 | K8: =J8 -> 312 | L8: =K8*1.1 -> 343.2 | M8: =L8 -> 343.2 | N8: =M8 -> 343.2 | O8: =N8 -> 343.2 | P8: =O8 -> 343.2 | R8: 385
A9: =A8+1 -> 7 | B9: टारपेन्टाइन आयल | C9: =C16 -> लिटर | D9: 50 | E9: 130 | F9: 120 | G9: 125 | H9: 156 | I9: =H9 -> 156 | J9: =I9 -> 156 | K9: =J9 -> 156 | L9: =K9*1.1 -> 171.6 | M9: =L9 -> 171.6 | N9: =M9 -> 171.6 | O9: =N9 -> 171.6 | P9: =O9 -> 171.6
A10: =A9+1 -> 8 | B10: प्लास्टिक इमल्सन पेन्ट (Interior) | C10: लिटर | D10: 275 | E10: 380 | F10: 380 | G10: 396 | H10: 534 | I10: =H10 -> 534 | J10: =I10 -> 534 | K10: =J10 -> 534 | L10: =K10*1.1 -> 587.4 | M10: =L10 -> 587.4 | N10: =M10 -> 587.4 | O10: =N10 -> 587.4 | P10: =O10 -> 587.4
A11: =A10+1 -> 9 | B11: फर्निचर इनामेल | C11: लिटर | D11: 215 | E11: 335 | F11: 340 | G11: 355 | H11: 534 | I11: =H11 -> 534 | J11: =I11 -> 534 | K11: =J11 -> 534 | L11: =K11*1.1 -> 587.4 | M11: =L11 -> 587.4 | N11: =M11 -> 587.4 | O11: =N11 -> 587.4 | P11: =O11 -> 587.4
