Workbook
Name \z: #N/A
Name ____abs45: #REF!
Name ____abs60: #REF!
Name ____abs90: #REF!
Name ____est45: #REF!
Name ____est60: #REF!
Name ____est90: #REF!
Name ___abs45: #REF!
Name ___abs60: #REF!
Name ___abs90: #REF!
Name ___cgi24: '[2]update Rate'!$E$86
Name ___cgi26: '[2]update Rate'!$E$87
Name ___est45: #REF!
Name ___est60: #REF!
Name ___est90: #REF!
Name __abs45: #REF!
Name __abs60: #REF!
Name __abs90: #REF!
Name __est45: #REF!
Name __est60: #REF!
Name __est90: #REF!
Name _abs45: #REF!
Name _abs45: #REF!
Name _abs45: #REF!
Name _abs45: #REF!
Name _abs45: #REF!
Name _abs45: #REF!
Name _abs45: #REF!
Name _abs45: #REF!
Name _abs45: #REF!
Name _abs45: #REF!
Name _abs45: #REF!
Name _abs45: #REF!
Name _abs45: #REF!
Name _abs45: #REF!
Name _abs45: #REF!
Name _abs45: #REF!
Name _abs45: #REF!
Name _abs45: #REF!
Name _abs45: #REF!
Name _abs60: #REF!
Name _abs60: #REF!
Name _abs60: #REF!
Name _abs60: #REF!
Name _abs60: #REF!
Name _abs60: #REF!
Name _abs60: #REF!
Name _abs60: #REF!
Name _abs60: #REF!
Name _abs60: #REF!
Name _abs60: #REF!
Name _abs60: #REF!
Name _abs60: #REF!
Name _abs60: #REF!
Name _abs60: #REF!
Name _abs60: #REF!
Name _abs60: #REF!
Name _abs60: #REF!
Name _abs60: #REF!
Name _abs90: #REF!

Sheet उपस्थिती
A1: आज मिति २०८२ साल असार २८ गते शुक्रबारका दिन दिनको २:०० बजे नवलपरासी (ब.सु.प.) जिल्लाका प्रमुख जिल्ला अधिकारी श्री हिरालाल रेग्मी ज्यूको अध्यक्षतामा आ.व.२०८२/०८३ को लागि निर्माण सामाग्री र ढुवानीको दररेट, मेशिन तथा उपकरणको भाडा र श्रमिकहरुको ज्यालादर निर्धारण गर्न सार्वजनिक खरिद नियमावली, २०६४ को नियम १४८ अनुसार जिल्ला दररेट निर्धारण समितिको बैठक देहायका पदाधिकारीहरुको उपस्थितीमा बसी देहाय बमोजिमको निर्णय गरीयो ।
A2: उपस्थिती
A3: सि.नं. | B3: पद | C3: नाम | D3: कार्यालय | E3: दस्तखत
A4: जिल्ला दररेट निर्धारण समितिबाट
A5: 1 | B5: प्रमुख जिल्ला अधिकारी | C5: हिरालाल रेग्मी | D5: जिल्ला प्रशासन कार्यालय
A6: 2
A7: 3
A8: 4
A9: 5
A10: 6
A11: 7
A12: 8
A13: 9
A14: 10
A15: 11
A16: 12
A17: 13
... A25: 21

Sheet Cover page
A7: जिल्ला प्रशासन कार्यालय
A8: नवलपरासी (ब.सु.प.)
A12: नवलपरासी (बर्दघाट सुस्ता पश्चिम) जिल्लाको
A13: आ.व.२०८३/०८४ को लागि
A14: स्वीकृत जिल्ला दररेट
A26: तयार गर्ने
A27: जिल्ला दररेट निर्धारण समिति
A28: नवलपरासी (ब.सु.प.)

Sheet निर्णयहरु
A1: निर्णयहरुः
A2: निर्णय नं. | B2: निर्णयको व्यहोरा
A3: 1 | B3: आ.व.२०८३/०८४ को लागि मिति २०८३/04/01 गते देखि नवलपरासी (ब.सु.प.) जिल्ला भरी लागू हुने गरी संलग्न सूची अनुसारका विभिन्न निर्माण सामाग्री र सो को ढुवानीको दररेट साथै श्रमिकहरुको ज्याला दररेट स्वीकृत गर्ने निर्णय गरीयो । उल्लेखित दररेटमा १३% मु.अ.कर समावेश गरीएको छैन ।
A4: 2 | B4: मेशिन, औजार तथा हेभी उपकरणको भाडादर सम्बन्धमा मेशिन प्रयोग गरी सडक निर्माण गर्दा वा अन्य कार्य गर्नु पर्दा डोजर, एक्जाभेटर, रोलर, ग्रेडर आदिको दर सडक विभागको नर्मस प्रयोग गरी हुन आउने प्रति घण्टाको भाडादर अनुसार कायम गर्ने निर्णय गरीयो ।
A5: 3 | B5: झोलुङ्गे पुलको निर्माण सामाग्रीहरुको दररेटको हकमा श्री शहरी विकास मन्त्रालय अन्तरगतको स्थानीय पूर्वाधार विकास विभागको वेबसाइट www.nepaltrailbridges.gov.np को Reference Rate लाई आधार मान्न सकिने ।
A6: 4 | B6: श्रमिकहरुको उमेर १६ वर्ष वा सो भन्दा माथि र दैनिक काम गर्ने अवधि ८ घण्टालाई आधार मानेर श्रमिकहरुको ज्यालादर सम्बन्धमा छिमेकी जिल्लाको दररेटलाई समेत आधार मानी आगामी आ.व. २०८३/०८४ को श्रमिकहरुको ज्यालादरलाई जिल्लागत औचित्यको आधारमा वृद्धी गरी नयाँ ज्यालादर कायम गर्ने निर्णय गरीयो ।
A7: 5 | B7: यसमा उल्लेख नभएका निर्माणसँग सम्बन्धित अन्य आवश्यक निर्माण सामाग्रीको हकमा सम्बन्धित कार्यालयले प्रचलित नियम कानुनको अधिनमा रही गुणस्तर तथा स्पेशिफिकेशन यकिन गरी निर्माण सामाग्रीहरुको उत्पादक वा आधिकारिक बिक्रेताहरुबाट दरभाउपत्र प्राप्त गरी कार्यान्वयन गर्न सक्ने निर्णय गरीयो ।

Sheet Index 
A1: विषय सूची
A2: क्र.सं. | B2: विषय | C2: पृष्ठ संख्या
B3: उपस्थिती
B4: निर्णयहरु
A5: 1 | B5: श्रमिकहरुको ज्याला दर सम्बन्धी | C5: 1-2
A6: 2 | B6: ढुवानी दर सम्बन्धी | C6: 3-4
A7: 3 | B7: भवन निर्माणमा प्रयोग हुने निर्माण सामाग्री | C7: 5-10
A8: 4 | B8: फलामजन्य निर्माण सामाग्री | C8: 11-15
A9: 5 | B9: सडक तथा पुल निर्माणमा प्रयोग हुने निर्माण सामाग्री | C9: 16-18
A10: 6 | B10: रङ्ग रोगन सम्बन्धी सामाग्री | C10: 19-20
A11: 7 | B11: खानेपानी तथा सरसफाई सम्बन्धी सामाग्री | C11: 21-26
A12: 7.1 | B12: यु.पि.भि.सी. पाइप (NS-206/046) | C12: 27
A13: 7.2 | B13: सि.पि.भि.सी. पाइप | C13: 28-34
A14: 7.3 | B14: पी.पी. आर फिटिङ्गस | C14: 35-36
A15: 7.4 | B15: U-PVC SWR फिटिङ्गस | C15: 37
A16: 7.5 | B16: खानेपानी सम्बन्धी फिटिङ्स | C16: 38-49
... A27: 16 | B27: सिंचाइ गेट तथा स्टिल स्ट्रक्चर | C27: 81-82

Sheet Jyala Dar Final
A1: १. श्रमिकहरुको ज्याला दर सम्बन्धी
A2: qm= ;+= | B2: ljj/)f | C2: OsfO{ | G2: cf=a= 2076÷77 sf] :jLs[t b/ /]^ | H2: cf=a= 2077÷78 sf] :jLs[t b/ /]^ | I2: cf=a= 2078÷79 sf] :jLs[t b/ /]^ | J2: आ.व. २०७९/०८० को दररेट | K2: आ.व. २०८०/०८१ को दररेट | L2: आ.व. २०८१/०८२ को दररेट | M2: आ.व. २०८२/०८३ को दररेट | N2: आ.व. २०८३/०८४ को दररेट | O2: s}lkmot | R2: Month/Year | S2: Index | T2: % Change | U2: Remarks
A3: 1 | B3: दक्ष / सिपालू कामदार : ( सिकर्मी, डकर्मी, नकर्मी), प्लम्बर, ग्याबीयन बुन्ने मिस्त्री, ट्यूववेल गाड्ने मिस्त्री, ड्रिलर, मेकानिक्स, ईलेक्ट्रिसियन, ढुङ्गा/काठमा बुट्टा भर्ने, फोटोग्राफर, चित्रकार, बार बेन्डर, ब्लास्टर, वेल्डर | C3: प्रति व्यक्ति प्रति दिन | D3: 280 | E3: 370 | F3: 395 | G3: 800 | H3: =800+20 -> 820 | I3: =800+20+20 -> 840 | J3: 900 | K3: =J3 -> 900 | L3: 945 | M3: 965 | N3: =Q3 -> 1025 | Q3: =ROUND(106%*M3/5,0)*5 -> 1025 | R3: Mar/Apr 025/26 | S3: 109.43 | T3: 0.063 | U3: चैत्र 082/83
A4: =A3+1 -> 2 | B4: अर्ध दक्ष कामदार : ज्यामी नाइके | C4: प्रति व्यक्ति प्रति दिन | K4: 620 | L4: 650 | M4: 665 | N4: 720 | Q4: =ROUND(106%*M4/5,0)*5 -> 705 | R4: =(N4-M4)/M4 -> 0.082706767 | T4: ६% बृद्धी मानेर रेट कायम गरीएको
A5: =A4+1 -> 3 | B5: (अदक्ष कामदार) ज्यामी साधारण, वन ज्यामी, माली, रनर, सयस | C5: प्रति व्यक्ति प्रति दिन | D5: 180 | E5: 230 | F5: 255 | G5: 550 | H5: =550+10 -> 560 | I5: =550+10+10 -> 570 | J5: 600 | K5: =J5 -> 600 | L5: 648 | M5: 660 | N5: 720 | Q5: =ROUND(106%*M5/5,0)*5 -> 700 | R5: =(N5-M5)/M5 -> 0.090909091
A6: =A5+1 -> 4 | B6: नर्सरी नाइके, वन हेरालु (दैनिक ८ घण्टा काम गर्ने ) | C6: मासिक | D6: 3450 | E6: 3800 | F6: 4060 | G6: 14000 | H6: 14300 | I6: =H6+10 -> 14310 | J6: 16000 | K6: =J6 -> 16000 | L6: 17300 | M6: 17645 | N6: =Q6 -> 18705 | Q6: =ROUND(106%*M6/5,0)*5 -> 18705 | R6: =(N6-M6)/M6 -> 0.060073675
A7: =A6+1 -> 5 | B7: साधारण सुपरभाइजर (निर्माण कार्यको लागि) | C7: प्रति व्यक्ति प्रति दिन | D7: 180 | E7: 200 | F7: 260 | G7: 517 | H7: 527 | I7: =H7+10 -> 537 | J7: 575 | K7: =J7 -> 575 | L7: 648 | M7: 660 | N7: 720 | Q7: =ROUND(106%*M7/5,0)*5 -> 700 | R7: =(N7-M7)/M7 -> 0.090909091
A8: =A7+1 -> 6 | B8: वनज्यामी सुपरभाइजर | C8: प्रति व्यक्ति प्रति दिन | D8: 180 | E8: 230 | F8: 255 | G8: 650 | H8: 660 | I8: =H8+10 -> 670 | J8: 700 | K8: =J8 -> 700 | L8: 735 | M8: 750 | N8: =Q8 -> 795 | Q8: =ROUND(106%*M8/5,0)*5 -> 795 | R8: =(N8-M8)/M8 -> 0.06
A9: =A8+1 -> 7 | B9: अग्नी नियन्त्रक | C9: मासिक | G9: 1400 | H9: 1410 | I9: =H9+10 -> 1420 | J9: 1500 | K9: =J9 -> 1500 | L9: 15000 | M9: 15300 | N9: =Q9 -> 16220 | Q9: =ROUND(106%*M9/5,0)*5 -> 16220 | R9: =(N9-M9)/M9 -> 0.060130719
A10: =A9+1 -> 8 | B10: स्वीपर (पूरा कार्यालय समय), सडकमा काम गर्ने लेन्थवर्कर | C10: प्रति व्यक्ति प्रति दिन | F10: 225 | G10: 517 | H10: 527 | I10: =H10+10 -> 537 | J10: 575 | K10: =J10 -> 575 | L10: 605 | M10: 615 | N10: 675 | Q10: =ROUND(106%*M10/5,0)*5 -> 650 | R10: =(N10-M10)/M10 -> 0.097560976 | T10: =668*1.06 -> 708.08
A11: =A10+1 -> 9 | B11: फोरम्यान (निर्माण कार्यको लागि) | C11: प्रति व्यक्ति प्रति दिन | D11: 225 | E11: 245 | F11: 265 | G11: 517 | H11: 527 | I11: =H11+10 -> 537 | J11: 575 | K11: =J11 -> 575 | L11: 605 | M11: 615 | N11: =N10 -> 675 | Q11: =ROUND(106%*M11/5,0)*5 -> 650 | R11: =(N11-M11)/M11 -> 0.097560976
A12: =A11+1 -> 10 | B12: फोरम्यान (ईलेक्ट्रिक कार्यको लागि) | C12: प्रति व्यक्ति प्रति दिन | D12: 225 | E12: 245 | F12: 265 | G12: 800 | H12: 810 | I12: =H12+10 -> 820 | J12: 860 | K12: =J12 -> 860 | L12: 905 | M12: 920 | N12: =Q12 -> 975 | Q12: =ROUND(106%*M12/5,0)*5 -> 975 | R12: =(N12-M12)/M12 -> 0.059782609
A13: =A12+1 -> 11 | B13: विभिन्न प्रकारका सिमेन्टका मूर्तीहरु कुद्ने/बनाउने विशेष किसिमका कालिगढ | C13: प्रति व्यक्ति प्रति दिन | G13: 1175 | H13: 1185 | I13: =H13+10 -> 1195 | J13: 1250 | K13: =J13 -> 1250 | L13: 1315 | M13: 1340 | N13: =Q13 -> 1420 | Q13: =ROUND(106%*M13/5,0)*5 -> 1420 | R13: =(N13-M13)/M13 -> 0.059701493
A14: =A13+1 -> 12 | B14: ब्लास्टर हेल्पर | C14: प्रति व्यक्ति प्रति दिन | D14: 200 | E14: 220 | F14: 235 | G14: 540 | H14: 550 | I14: =H14+10 -> 560 | J14: 600 | K14: =J14 -> 600 | L14: 630 | M14: 645 | N14: 700 | Q14: =ROUND(106%*M14/5,0)*5 -> 685 | R14: =(N14-M14)/M14 -> 0.085271318
A15: =A14+1 -> 13 | B15: इलेक्ट्रिसियन हेल्पर/ लाइनम्यान | C15: प्रति व्यक्ति प्रति दिन | D15: 200 | E15: 220 | F15: 235 | G15: 625 | H15: 635 | I15: =H15+10 -> 645 | J15: 680 | K15: =J15 -> 680 | L15: 715 | M15: 725 | N15: =Q15 -> 770 | Q15: =ROUND(106%*M15/5,0)*5 -> 770 | R15: =(N15-M15)/M15 -> 0.062068966
A16: =A15+1 -> 14 | B16: प्लम्बर हेल्पर | C16: प्रति व्यक्ति प्रति दिन | K16: 609 | L16: 640 | M16: 655 | N16: 720 | Q16: =ROUND(106%*M16/5,0)*5 -> 695 | R16: =(N16-M16)/M16 -> 0.099236641
A17: =A16+1 -> 15 | B17: चेनम्यान, टेपम्यान, स्टाफम्यान, नापी सहायक, सर्भे हेल्पर (नापीसँग सम्बन्धित कार्य) | C17: प्रति व्यक्ति प्रति दिन | D17: 200 | E17: 220 | F17: 235 | G17: 545 | H17: 555 | I17: =H17+10 -> 565 | J17: 600 | K17: =J17 -> 600 | L17: 630 | M17: 645 | N17: 700 | Q17: =ROUND(106%*M17/5,0)*5 -> 685 | R17: =(N17-M17)/M17 -> 0.085271318
A18: =A17+1 -> 16 | B18: पिच स्प्रेयर, पिच व्वायलर, पम्प अपरेटर, बोरीङ्ग अपरेटर,जिनियर ल्याव टक्निसियन, आ. वा. अपरेटर | C18: प्रति व्यक्ति प्रति दिन | D18: 225 | E18: 245 | F18: 265 | G18: 550 | H18: 560 | I18: =H18+10 -> 570 | J18: 600 | K18: =J18 -> 600 | L18: 630 | M18: 645 | N18: 700 | Q18: =ROUND(106%*M18/5,0)*5 -> 685 | R18: =(N18-M18)/M18 -> 0.085271318
A19: =A18+1 -> 17 | B19: सुरक्षा गार्ड, चौकिदार | C19: प्रति व्यक्ति प्रति दिन | D19: 200 | E19: 220 | F19: 235 | G19: 540 | H19: 550 | I19: =H19+10 -> 560 | J19: 600 | K19: =J19 -> 600 | L19: 630 | M19: 645 | N19: 700 | Q19: =ROUND(106%*M19/5,0)*5 -> 685 | R19: =(N19-M19)/M19 -> 0.085271318
A20: =A19+1 -> 18 | B20: भरिया (४० के.जी. तौलसम्म) | C20: प्रति व्यक्ति प्रति दिन | D20: 200 | E20: 220 | F20: 235 | G20: 517 | H20: 527 | I20: =H20+10 -> 537 | J20: 575 | K20: =J20 -> 575 | L20: 605 | M20: 620 | N20: 690 | Q20: =ROUND(106%*M20/5,0)*5 -> 655 | R20: =(N20-M20)/M20 -> 0.11290323
A21: =A20+1 -> 19 | B21: सिमा नापी कार्यको लागि चेनमेनको ज्याला | C21: प्रति व्यक्ति प्रति दिन | G21: 735 | H21: 745 | I21: =H21+10 -> 755 | J21: 800 | K21: =J21 -> 800 | L21: 840 | M21: 855 | N21: =Q21 -> 905 | Q21: =ROUND(106%*M21/5,0)*5 -> 905 | R21: =(N21-M21)/M21 -> 0.058479532
A22: =A21+1 -> 20 | B22: हेभी इक्वीपमेन्ट अपरेटर (क्रेन, डोजर, ग्रेडर, रोलर, लोडर, आदी ), हेभी सवारी चालक | C22: प्रति व्यक्ति प्रति दिन | D22: 400 | E22: 440 | F22: 470 | G22: 925 | H22: 935 | I22: =H22+10 -> 945 | J22: 1000 | K22: =J22 -> 1000 | L22: 1050 | M22: 1050 | N22: =Q22 -> 1115 | Q22: =ROUND(106%*M22/5,0)*5 -> 1115 | R22: =(N22-M22)/M22 -> 0.061904762
A23: =A22+1 -> 21 | B23: हेभी इक्वीपमेन्ट हेल्पर / सवारी हेल्पर | C23: प्रति व्यक्ति प्रति दिन | D23: 200 | E23: 220 | F23: 235 | G23: 517 | H23: 527 | I23: =H23+10 -> 537 | J23: 600 | K23: =J23 -> 600 | L23: 630 | M23: 645 | N23: 700 | Q23: =ROUND(106%*M23/5,0)*5 -> 685 | R23: =(N23-M23)/M23 -> 0.085271318
A24: =A23+1 -> 22 | B24: हलुका सवारी चालक | C24: प्रति व्यक्ति प्रति दिन | D24: 250 | E24: 275 | F24: 295 | G24: 570 | H24: 580 | I24: =H24+10 -> 590 | J24: 650 | K24: =J24 -> 650 | L24: 685 | M24: 700 | N24: =Q24 -> 740 | Q24: =ROUND(106%*M24/5,0)*5 -> 740 | R24: =(N24-M24)/M24 -> 0.057142857
A25: =A24+1 -> 23 | B25: गोताखोर | C25: प्रति व्यक्ति प्रति दिन | F25: 450 | G25: 900 | H25: 910 | I25: =H25+10 -> 920 | J25: 1000 | K25: =J25 -> 1000 | L25: 1050 | M25: 1070 | N25: =Q25 -> 1135 | Q25: =ROUND(106%*M25/5,0)*5 -> 1135 | R25: =(N25-M25)/M25 -> 0.060747664
A26: =A25+1 -> 24 | B26: फोहर ढल सफा गर्ने मजदुर | C26: प्रति लेवर / दिन | D26: 200 | E26: 220 | F26: 235 | G26: 680 | H26: 690 | I26: =H26+10 -> 700 | J26: 800 | K26: =J26 -> 800 | L26: 840 | M26: 865 | N26: =Q26 -> 915 | Q26: =ROUND(106%*M26/5,0)*5 -> 915 | R26: =(N26-M26)/M26 -> 0.057803468
A27: =A26+1 -> 25 | B27: सेनेटरी सामानको फिटिङ ज्याला (सामानको पसल मुल्यको आधारमा कायम गर्ने ) | C27: प्रतिशत | D27: 25 | E27: 25 | F27: 25 | G27: 30 | H27: 30 | I27: =H27+10 -> 40 | J27: 45 | K27: =J27 -> 45 | L27: 50 | M27: 50 | N27: 55 | Q27: =ROUND(106%*M27/5,0)*5 -> 55 | R27: =(N27-M27)/M27 -> 0.1
A28: =A27+1 -> 26 | B28: सुपरभाइजर SEE वा सो सरह | C28: प्रति व्यक्ति प्रति दिन | K28: 672 | L28: 1095 | M28: 750 | N28: =Q28 -> 795 | Q28: =ROUND(106%*M28/5,0)*5 -> 795 | R28: =(N28-M28)/M28 -> 0.06
A29: =A28+1 -> 27 | B29: सिनियर ल्याब टेक्निसियन (उच्च माध्यमिक तह उत्तीर्ण गरी तालिम प्राप्त गरेको) | C29: प्रति व्यक्ति प्रति दिन | K29: 672 | L29: 1130 | M29: 1130 | N29: =Q29 -> 1080 | Q29: =ROUND(106%*R29/5,0)*5 -> 1080 | R29: 1020
A30: =A29+1 -> 28 | B30: जुनियर ल्याब टेक्निसियन (SEE वा सो सरह उत्तीर्ण गरी तालिम प्राप्त गरेको) | C30: प्रति व्यक्ति प्रति दिन | K30: 609 | L30: 1095 | M30: 1095 | N30: =Q30 -> 805 | Q30: =ROUND(106%*R30/5,0)*5 -> 805 | R30: 760
A31: =A30+1 -> 29 | B31: अनुबन्धित ज्यामी | C31: प्रति व्यक्ति प्रति दिन | K31: 500 | L31: 525 | M31: 540 | N31: 690 | Q31: =ROUND(106%*M31/5,0)*5 -> 570 | R31: =(N31-M31)/M31 -> 0.27777778
A32: =A31+1 -> 30 | B32: कृषि मजदुर | C32: प्रति व्यक्ति प्रति दिन | D32: 160 | E32: 175 | F32: 200 | G32: 517 | H32: 527 | I32: =H32+10 -> 537 | J32: 600 | K32: =J32 -> 600 | L32: 648 | M32: 665 | N32: 720 | Q32: =ROUND(106%*M32/5,0)*5 -> 705 | R32: =(N32-M32)/M32 -> 0.082706767
A33: =A32+1 -> 31 | B33: खंदेल, स्याम्पलर | C33: प्रति व्यक्ति प्रति दिन | D33: 200 | E33: 230 | F33: 255 | G33: 540 | H33: 550 | I33: =H33+10 -> 560 | J33: 580 | K33: =J33 -> 580 | L33: 610 | M33: 620 | N33: 690 | Q33: =ROUND(106%*M33/5,0)*5 -> 655 | R33: =(N33-M33)/M33 -> 0.11290323
A34: =A33+1 -> 32 | B34: क्याम्प वर्कर | C34: ,, ,, | D34: 200 | E34: 230 | F34: 255 | G34: 540 | H34: 550 | I34: =H34+10 -> 560 | J34: 580 | K34: =J34 -> 580 | L34: 610 | M34: 620 | N34: 690 | Q34: =ROUND(106%*M34/5,0)*5 -> 655 | R34: =(N34-M34)/M34 -> 0.11290323
A35: =A34+1 -> 33 | B35: ड्रील हेल्पर, पम्प हेल्पर, पाइप फिटर | C35: ,, ,, | D35: 200 | E35: 230 | F35: 255 | G35: 540 | H35: 550 | I35: =H35+10 -> 560 | J35: 600 | K35: =J35 -> 600 | L35: 630 | M35: 640 | N35: 700 | Q35: =ROUND(106%*M35/5,0)*5 -> 680 | R35: =(N35-M35)/M35 -> 0.09375
A36: =A35+1 -> 34 | B36: गेट अपरेटर | C36: प्रति व्यक्ति प्रति दिन | G36: 575 | H36: 585 | I36: =H36+10 -> 595 | J36: 650 | K36: =J36 -> 650 | L36: 685 | M36: 700 | N36: =Q36 -> 740 | Q36: =ROUND(106%*M36/5,0)*5 -> 740 | R36: =(N36-M36)/M36 -> 0.057142857
A37: नोट : उपरोक्त पदका कामदारहरु बाहेक अन्य पदहरुमा ज्यालादारीमा काम गराउने भएमा जुन पदमा काम गराउने हो सो को लागि नेपाल सरकारको वा सम्बन्धित संस्थानको शुरु तलबमानलाई २६ दिनले भाग गरी आउने रकमलाई प्रतिदिनको ज्याला कायम गर्ने ।

Sheet Dhuwani_Machine_Upakaran Final
A1: २. ढुवानी दर सम्बन्धी
A2: qm= ;+= | B2: ljj/)f | C2: OsfO{ | G2: cf=a= 2076÷77 sf] :jLs[t b/ /]^ | H2: cf=a= 2077÷78 sf] :jLs[t b/ /]^ | I2: cf=a= 2078÷79 sf] :jLs[t b/ /]^ | J2: {='Jyala Dar Final'!J2:J2} -> आ.व. २०७९/०८० को दररेट | K2: {='Jyala Dar Final'!K2:K2} -> आ.व. २०८०/०८१ को दररेट | L2: {='Jyala Dar Final'!L2:L2} -> आ.व. २०८१/०८२ को दररेट | M2: {='Jyala Dar Final'!M2:M2} -> आ.व. २०८२/०८३ को दररेट | N2: {='Jyala Dar Final'!N2:N2} -> आ.व. २०८३/०८४ को दररेट | O2: कैफियत
A3: 1 | B3: dflg; -e/Lof_ åf/f ('jfgL
A4: =A3+0.01 -> 1.01 | B4: ;lhnf] ;fdfg -*f]sf], y'G;], af]/f, afs;, cflbdf /fvL 1 AolQmn] — Ifdtf cg';f/ tf}n k'Ug] u/L — af]Sg ;Sg] ;fdfgx?, h:t}M l;d]G^, afn'jf, /f;folgs dn, bfp/f, vfBfGg, cflb_ | C4: प्रति के.जी. प्रति कोश | D4: 1 | E4: 1.1 | F4: 1.2 | G4: 2.6 | H4: =G4 -> 2.6 | I4: =H4 -> 2.6 | J4: 3 | K4: =J4 -> 3 | L4: =K4 -> 3 | M4: =L4 -> 3 | N4: =M4 -> 3
A5: =A4+0.01 -> 1.02 | B5: c;lhnf] ;fdfg -;fdfGo ef/L agfO{ Ps AolQmn] af]Sg ;Sg] — t/ Ifdtf cg';f/ tf}n gk'Ug] — ;fdfgx?, h:t}Mss{^kftf, a'g]sf] Uoflaog tf/hfnL, la:kmf]^s kbfy{, Pr= l*= lk= O{= kfO{k, OG;'n]^/, cf}ifwL, sf&, s[lifhGo kmnk'mnsf] la?jf, cflb_ | C5: प्रति के.जी. प्रति कोश | D5: =D4*1.25 -> 1.25 | E5: 1.37 | F5: 1.5 | G5: 3.3 | H5: =G5 -> 3.3 | I5: =H5 -> 3.3 | J5: 4 | K5: =J5 -> 4 | L5: =K5 -> 4 | M5: =L5 -> 4 | N5: =M5 -> 4
A6: =A5+0.01 -> 1.03 | B6: clt c;lhnf] ;fdfg -;fdfGotM Ps AolQmn] dfq af]Sg g;Sg] ;fdfgx? h:t}M lh= cfO{= kfO{k, sf¤*]tf/, kmnfd] %*, On]S^«f]d]sflgsn ;fdfg, 3 b]lv 8 dL^/;Dd nfdf] :^Ln kf^{;\÷lah'nLsf] kf]n÷^]lnkmf]gsf] kf]n, lk= P;= l;= kf]n, cflb_ | C6: प्रति के.जी. प्रति कोश | D6: =1.6*D4 -> 1.6 | E6: 1.75 | F6: 1.9 | G6: 4.1 | H6: =G6 -> 4.1 | I6: =H6 -> 4.1 | J6: 5 | K6: =J6 -> 5 | L6: =K6 -> 5 | M6: =L6 -> 5 | N6: =M6 -> 5
A7: =A6+0.01 -> 1.04 | B7: झो.पू.को लठ्ठा | C7: प्रति के.जी. प्रति कोश | F7: 3.5 | G7: 5.85 | H7: =G7 -> 5.85 | I7: =H7 -> 5.85 | J7: 6 | K7: =J7 -> 6 | L7: =K7 -> 6 | M7: =L7 -> 6 | N7: =M7 -> 6
A8: =A7+0.01 -> 1.05 | B8: dflg;åf/f kf]n ('jfgL -8 dL^/ eGbf nfdf] kmnfd] ^\o"a"n/ kf]n_ | C8: प्रति के.जी. प्रति कोश | D8: 3 | E8: 3.3 | F8: 3.65 | G8: 6.05 | H8: =G8 -> 6.05 | I8: =H8 -> 6.05 | J8: 7 | K8: =J8 -> 7 | L8: =K8 -> 7 | M8: =L8 -> 7 | N8: =M8 -> 7
A9: =A8+0.01 -> 1.06 | B9: 6_ dflg;åf/f ^«fG;\km/d/ ('jfgL | C9: प्रति के.जी. प्रति कोश | D9: 5 | E9: 5.5 | F9: 6 | G9: 10.65 | H9: =G9 -> 10.65 | I9: =H9 -> 10.65 | J9: 11 | K9: =J9 -> 11 | L9: =K9 -> 11 | M9: =L9 -> 11 | N9: =M9 -> 11
A10: 2= | B10: vRr/åf/f ('jfgL -;lhnf] ;fdfg dfq_ | C10: प्रति के.जी. प्रति कोश | D10: 0.9 | E10: 1 | F10: 1.1 | G10: 1.85 | H10: =G10 -> 1.85 | I10: =H10 -> 1.85 | J10: 2 | K10: =J10 -> 2 | L10: =K10 -> 2 | M10: =L10 -> 2 | N10: =M10 -> 2
A11: 3= | B11: ^fo/uf*fåf/f ('jfgL c;lhnf] ;fdfg | C11: प्रति टन प्रति कि.मि. | D11: 200 | E11: 220 | F11: 245 | G11: 415 | H11: =G11 -> 415 | I11: =H11 -> 415 | J11: 500 | K11: =J11 -> 500 | L11: =K11 -> 500 | M11: =L11 -> 500 | N11: =M11 -> 500
A12: 4= | B12: ^«ofS^/åf/f ('jfgL -t/fOdf_ | H12: =G12 -> 0 | I12: =H12 -> 0 | K12: =J12 -> 0 | L12: =K12 -> 0 | M12: =L12 -> 0
A13: क | B13: ;lhnf] ;fdfg | H13: =G13 -> 0 | I13: =H13 -> 0 | K13: =J13 -> 0 | L13: =K13 -> 0 | M13: =L13 -> 0
A14: 1 | B14: sRrL -df^f]_ ;*sdf | C14: प्रति टन प्रति कि.मि. | D14: 28 | E14: 31 | F14: 34.4 | G14: 55 | H14: =G14 -> 55 | I14: =H14 -> 55 | J14: 75 | K14: =J14 -> 75 | L14: =K14 -> 75 | M14: =L14 -> 75 | N14: =M14 -> 75
A15: 2 | B15: sRrL -u|fe]n_ ;*sdf | C15: प्रति टन प्रति कि.मि. | D15: 23 | E15: 25.25 | F15: 28 | G15: 45 | H15: =G15 -> 45 | I15: =H15 -> 45 | J15: 70 | K15: =J15 -> 70 | L15: =K15 -> 70 | M15: =L15 -> 70 | N15: =M15 -> 70
A16: 3 | B16: kSsL -sfnf]kq]_ ;*sdf | C16: प्रति टन प्रति कि.मि. | D16: 18 | E16: 20 | F16: 22 | G16: 35 | H16: =G16 -> 35 | I16: =H16 -> 35 | J16: 50 | K16: =J16 -> 50 | L16: =K16 -> 50 | M16: =L16 -> 50 | N16: =M16 -> 50
A17: ख | B17: c;lhnf] ;fdfg | H17: =G17 -> 0 | I17: =H17 -> 0 | K17: =J17 -> 0 | L17: =K17 -> 0 | M17: =L17 -> 0
A18: 1 | B18: sRrL -df^]_ ;*sdf | C18: प्रति टन प्रति कि.मि. | D18: 42 | E18: 44.25 | F18: 48 | G18: 73 | H18: =G18 -> 73 | I18: =H18 -> 73 | J18: 100 | K18: =J18 -> 100 | L18: =K18 -> 100 | M18: =L18 -> 100 | N18: =M18 -> 100
A19: 2 | B19: sRrL -u|fe]n_ ;*sdf | C19: प्रति टन प्रति कि.मि. | D19: 35 | E19: 38.5 | F19: 42 | G19: 74 | H19: =G19 -> 74 | I19: =H19 -> 74 | J19: 90 | K19: =J19 -> 90 | L19: =K19 -> 90 | M19: =L19 -> 90 | N19: =M19 -> 90
A20: 3 | B20: kSsL -sfnf]kq]_ ;*sdf | C20: प्रति टन प्रति कि.मि. | D20: 28 | E20: 30.5 | F20: 33 | G20: 51 | H20: =G20 -> 51 | I20: =H20 -> 51 | J20: 70 | K20: =J20 -> 70 | L20: =K20 -> 70 | M20: =L20 -> 70 | N20: =M20 -> 70
A21: 5 | B21: ^«ofS^/ ef*f -sf& ('jfgL k|of]hg_ | H21: =G21 -> 0 | I21: =H21 -> 0 | K21: =J21 -> 0 | L21: =K21 -> 0 | M21: =L21 -> 0
A22: =A21+0.01 -> 5.01 | B22: t]n jfx]s | C22: प्रति दिन | G22: 3000 | H22: =G22 -> 3000 | I22: =H22 -> 3000 | J22: 3500 | K22: =J22 -> 3500 | L22: =K22 -> 3500 | M22: =L22 -> 3500 | N22: =M22 -> 3500
A23: =A22+0.01 -> 5.02 | B23: t]n ;lxt | C23: प्रति दिन | G23: 5000 | H23: =G23 -> 5000 | I23: =H23 -> 5000 | J23: 7000 | K23: =J23 -> 7000 | L23: =K23 -> 7000 | M23: 6000 | N23: =M23 -> 6000
A24: 6 | B24: ^«ofS^/åf/f ('jfgL kxf*L sRrL ;*s -^«s rNg g;Sg]_ df | C24: प्रति टन प्रति कि.मि. | D24: 60 | E24: 66 | F24: 73 | G24: 125 | H24: =G24 -> 125 | I24: =H24 -> 125 | J24: 150 | K24: =J24 -> 150 | L24: =K24 -> 150 | M24: =L24 -> 150 | N24: =M24 -> 150
A25: 7 | B25: ^«såf/f ('jfgL -50 ls=dL= ;Ddsf] nflu_ | H25: =G25 -> 0 | I25: =H25 -> 0 | K25: =J25 -> 0
A26: =A25+0.01 -> 7.01 | B26: kSsL -sfnf]kq]_ ;*sdf | C26: प्रति टन प्रति कि.मि. | D26: 11.5 | E26: 12.75 | F26: 14 | G26: 22 | H26: =G26 -> 22 | I26: =H26 -> 22 | J26: 35 | K26: =J26 -> 35 | L26: =K26 -> 35 | M26: =L26 -> 35 | N26: =M26 -> 35
A27: =A26+0.01 -> 7.02 | B27: sRrL -u|fe]n_ ;*sdf | C27: प्रति टन प्रति कि.मि. | D27: 14.4 | E27: 16 | F27: 17.6 | G27: 27 | H27: =G27 -> 27 | I27: =H27 -> 27 | J27: 40 | K27: =J27 -> 40 | L27: =K27 -> 40 | M27: =L27 -> 40 | N27: =M27 -> 40
A28: =A27+0.01 -> 7.03 | B28: sRrL -df^]_ ;*sdf | C28: प्रति टन प्रति कि.मि. | D28: 17.25 | E28: 19 | F28: 21 | G28: 33 | H28: =G28 -> 33 | I28: =H28 -> 33 | J28: 45 | K28: =J28 -> 45 | L28: =K28 -> 45 | M28: =L28 -> 45 | N28: =M28 -> 45
A29: 8 | B29: ^«såf/f ('jfgL -50ls=dL= eGbf a(Lsf] nflu_ | C29: प्रति टन प्रति कि.मि. | D29: 6.5 | E29: 6.34 | F29: 6.5 | G29: 11 | H29: =G29 -> 11 | I29: =H29 -> 11 | J29: 15 | K29: =J29 -> 15 | L29: =K29 -> 15 | M29: =L29 -> 15 | N29: =M29 -> 15
A30: 9 | B30: nf]* / cgnf]* -b'a}_ | H30: =G30 -> 0 | I30: =H30 -> 0 | K30: =J30 -> 0
A31: =A30+0.01 -> 9.01 | B31: 1_ ;lhnf] ;fdfg | C31: प्रति क्विन्टल | D31: 10 | E31: 10 | F31: 11 | G31: 20 | H31: =G31 -> 20 | I31: =H31 -> 20 | J31: 21 | K31: =J31 -> 21 | L31: =K31 -> 21 | M31: =L31 -> 21 | N31: =M31 -> 21
A32: =A31+0.01 -> 9.02 | B32: 2_ c;lhnf] ;fdfg | C32: प्रति क्विन्टल | D32: 12 | E32: 12 | F32: 13 | G32: 22 | H32: =G32 -> 22 | I32: =H32 -> 22 | J32: 23 | K32: =J32 -> 23 | L32: =K32 -> 23 | M32: =L32 -> 23 | N32: =M32 -> 23
A33: =A32+0.01 -> 9.03 | B33: 3_ clt c;lhnf] ;fdfg | C33: प्रति क्विन्टल | D33: 20 | E33: 20 | F33: 21 | G33: 35 | H33: =G33 -> 35 | I33: =H33 -> 35 | J33: 40 | K33: =J33 -> 40 | L33: =K33 -> 40 | M33: =L33 -> 40 | N33: =M33 -> 40
A34: 10 | B34: ;fdfgsf] tf}nfO{ / rf}sfO{ | C34: प्रति क्विन्टल | D34: 10 | E34: 10 | F34: 11 | G34: 19 | H34: =G34 -> 19 | I34: =H34 -> 19 | J34: 20 | K34: =J34 -> 20 | L34: =K34 -> 20 | M34: =L34 -> 20 | N34: =M34 -> 20
A35: 11 | B35: dn vfb nf]* cgnf]* | C35: प्रति क्विन्टल | D35: 10 | E35: 10 | F35: 11 | G35: 20 | H35: =G35 -> 20 | I35: =H35 -> 20 | J35: 21 | K35: =J35 -> 21 | L35: =K35 -> 21 | M35: =L35 -> 21 | N35: =M35 -> 21
A36: 12 | B36: cf}iflw ld;fOPsf] aLp nf]* cgnf]* | C36: प्रति क्विन्टल | D36: 10 | E36: 10 | F36: 11 | G36: 20 | H36: =G36 -> 20 | I36: =H36 -> 20 | J36: 21 | K36: =J36 -> 21 | L36: =K36 -> 21 | M36: =L36 -> 21 | N36: =M36 -> 21
A37: 13 | B37: ls^gfzs cf}iflw -w"nf]_ nf]* cgnf]* | C37: प्रति क्विन्टल | D37: 10 | E37: 10 | F37: 11 | G37: 21 | H37: =G37 -> 21 | I37: =H37 -> 21 | J37: 22 | K37: =J37 -> 22 | L37: =K37 -> 22 | M37: =L37 -> 22 | N37: =M37 -> 22
A38: 14 | B38: dnvfb l/k]l/ª tf}nfO{, l;nfO{, rf}sfO{ | C38: प्रति क्विन्टल | D38: 10 | E38: 10 | F38: 11 | G38: 20 | H38: =G38 -> 20 | I38: =H38 -> 20 | J38: =I38*1.1 -> 22 | K38: =J38 -> 22 | L38: =K38 -> 22 | M38: =L38 -> 22 | N38: =M38 -> 22
A39: 15 | B39: (naf^ (sg x^fO{ lg:s]sf] kmf]xf]/ lunf] df^f] ^«ofS^/af^ ("jfgL u/L ahf/af^ aflx/ kmfNg] sfo{ | C39: प्रति घ.मि. | D39: 200 | E39: 220 | F39: 250 | G39: 450 | H39: =G39 -> 450 | I39: =H39 -> 450 | J39: 600 | K39: =J39 -> 600 | L39: =K39 -> 600 | M39: =L39 -> 600 | N39: =M39 -> 600
A40: 16 | B40: xo"dkfOk tyf lkP;;Lkf]nsf] ("jfgL ef*f -sf/vfgf d"Nosf] cfwf/df_ | H40: =G40 -> 0 | I40: =H40 -> 0 | K40: =J40 -> 0
A41: =A40+0.01 -> 16.01 | B41: 50 ls= dL= ;Dd | C41: प्रतिशत | D41: 15 | E41: 15 | F41: 10 | G41: 13 | H41: =G41 -> 13 | I41: =H41 -> 13 | J41: 15 | K41: =J41 -> 15 | L41: =K41 -> 15 | M41: =L41 -> 15 | N41: =M41 -> 15
A42: =A41+0.01 -> 16.02 | B42: 50 b]lv 75 ls= dL= ;Dd | C42: प्रतिशत | D42: 20 | E42: 20 | F42: 15 | G42: 16.5 | H42: =G42 -> 16.5 | I42: =H42 -> 16.5 | J42: 18 | K42: =J42 -> 18 | L42: =K42 -> 18 | M42: =L42 -> 18 | N42: =M42 -> 18
A43: =A42+0.01 -> 16.03 | B43: 75 b]lv 100 ls= dL= ;Dd | C43: प्रतिशत | D43: 20 | E43: 20 | F43: 15 | G43: 20 | H43: =G43 -> 20 | I43: =H43 -> 20 | J43: 22 | K43: =J43 -> 22 | L43: =K43 -> 22 | M43: =L43 -> 22 | N43: =M43 -> 22
A44: =A43+0.01 -> 16.04 | B44: 101 b]lv 200 ls= dL= ;Dd | C44: प्रतिशत | D44: 20 | E44: 20 | F44: 15 | G44: 25 | H44: =G44 -> 25 | I44: =H44 -> 25 | J44: 27 | K44: =J44 -> 27 | L44: =K44 -> 27 | M44: =L44 -> 27 | N44: =M44 -> 27
A45: 17 | B45: Uofljog tf/hfnL ^«s jf ^«]S^/af^ ("jfgL | H45: =G45 -> 0 | I45: =H45 -> 0 | K45: =J45 -> 0
A46: क | B46: kSsL ;*sdf | H46: =G46 -> 0 | I46: =H46 -> 0 | J46: 5 | K46: =J46 -> 5
A47: 1 | B47: 3x1.5x0.75, 3x1x1 | C47: प्रति जाली/कि.मि. | D47: 1.5 | E47: 1.5 | F47: 1.7 | G47: 2.65 | H47: =G47 -> 2.65 | I47: =H47 -> 2.65 | J47: 4 | K47: =J47 -> 4 | L47: =K47 -> 4 | M47: =L47 -> 4 | N47: =M47 -> 4
A48: 2 | B48: 3x1x0.75, 2x1x1 | C48: प्रति जाली/कि.मि. | D48: 1.3 | E48: 1.3 | F48: 1.5 | G48: 2.35 | H48: =G48 -> 2.35 | I48: =H48 -> 2.35 | J48: 4 | K48: =J48 -> 4 | L48: =K48 -> 4 | M48: =L48 -> 4 | N48: =M48 -> 4
A49: 3 | B49: 3x1x0.60, 2x1.5x0.50 | C49: प्रति जाली/कि.मि. | D49: 1 | E49: 1 | F49: 1.2 | G49: 1.85 | H49: =G49 -> 1.85 | I49: =H49 -> 1.85 | J49: 2 | K49: =J49 -> 2 | L49: =K49 -> 2 | M49: =L49 -> 2 | N49: =M49 -> 2
A50: ख | B50: sRrL ;*sdf | H50: =G50 -> 0 | I50: =H50 -> 0 | K50: =J50 -> 0 | L50: =K50 -> 0 | M50: =L50 -> 0
A51: 1 | B51: 3x1.5x0.75, 3x1x1 | C51: प्रति जाली/कि.मि. | D51: 2 | E51: 2 | F51: 2.2 | G51: 3.4 | H51: =G51 -> 3.4 | I51: =H51 -> 3.4 | J51: 5 | K51: =J51 -> 5 | L51: =K51 -> 5 | M51: =L51 -> 5 | N51: =M51 -> 5
A52: 2 | B52: 3x1x0.75, 2x1x1 | C52: प्रति जाली/कि.मि. | D52: 1.75 | E52: 1.75 | F52: 1.95 | G52: 3.1 | H52: =G52 -> 3.1 | I52: =H52 -> 3.1 | J52: 5 | K52: =J52 -> 5 | L52: =K52 -> 5 | M52: =L52 -> 5 | N52: =M52 -> 5
A53: 3 | B53: 3x1x0.60, 2x1.5x0.50 | C53: प्रति जाली/कि.मि. | D53: 1.5 | E53: 1.5 | F53: 1.7 | G53: 2.65 | H53: =G53 -> 2.65 | I53: =H53 -> 2.65 | J53: 4 | K53: =J53 -> 4 | L53: =K53 -> 4 | M53: =L53 -> 4 | N53: =M53 -> 4
A54: 18 | B54: डुंगा बाट समान ढुवानी गर्ने कार्य | K54: =J54 -> 0 | L54: =K54 -> 0 | M54: =L54 -> 0
A55: =A54+0.01 -> 18.01 | B55: ग्याबिन जाली | C55: प्रति गोटा | I55: 50 | J55: 60 | K55: =J55 -> 60 | L55: =K55 -> 60 | M55: =L55 -> 60 | N55: =M55 -> 60
A56: =A55+0.01 -> 18.02 | B56: ढुंगा | C56: प्रति घ.मि. | I56: 350 | J56: 400 | K56: =J56 -> 400 | L56: =K56 -> 400 | M56: =L56 -> 400 | N56: =M56 -> 400
A57: =A56+0.01 -> 18.03 | B57: अन्य सामाग्री | C57: प्रति किलो | I57: 0.5 | J57: 0.6 | K57: =J57 -> 0.6 | L57: =K57 -> 0.6 | M57: =L57 -> 0.6 | N57: =M57 -> 0.6 | P57: kathmandu | Q57: Kapilvastu
A58: 19 | B58: बोलेरो ४ व्हील डबल क्याब वा सो सरहको पिकअप भाडा ईन्धन र चालक समेत | C58: प्रति दिन | K58: − | L58: − | M58: 5900 | N58: =M58 -> 5900 | P58: 6350
A59: 20 | B59: बोलेरो ४ व्हील डबल क्याब वा सो सरहको पिकअप भाडा ईन्धन बहेक र चालक समेत | C59: प्रति दिन | K59: − | L59: − | M59: =M58-2500 -> 3400 | N59: =M59 -> 3400 | Q59: 4000
A60: 21 | B60: स्करपियो ४ व्हील डबल क्याब वा सो सरहको पिकअप भाडा ईन्धन र चालक समेत | C60: प्रति दिन | K60: − | L60: − | M60: 6800 | N60: =M60 -> 6800 | P60: 7620
A61: 22 | B61: स्करपियो ४ व्हील डबल क्याब वा सो सरहको पिकअप भाडा ईन्धन बाहेक र चालक समेत | C61: प्रति दिन | K61: − | L61: − | M61: 4350 | N61: =M61 -> 4350 | Q61: 4000
B62: नोटः
A63: 1 | B63: माथि उल्लेख नभएका ढुवानीको हकमा प्रचलित कानुन बमोजिम हुनेछ ।
A64: 2 | B64: निर्माण सामाग्रीको ढुवानी सम्बन्धमा नेपाल सरकारले स्वीकृत गरेको नर्मस प्रयोग गरी आवश्यकता अनुसार ढुवानी भाडा कायम गर्न बाधा पर्ने छैन ।

Sheet Bhawan
A1: ३. भवन निर्माणमा प्रयोग हुने निर्माण सामाग्री
A2: qm=;+= | B2: lgdf{)f ;fdu|Lsf] ljj/)f | C2: OsfO{ | D2: cf=a= 062÷063 | E2: cf=a= 2066÷67 | F2: cf=a= 2067÷68 | G2: cf=a= 2068÷69 | H2: cf=a= 2075÷76 | I2: cf=a= 2076÷77 sf] :jLs[t b/ /]^ | J2: cf=a= 2077÷78 sf] :jLs[t b/ /]^ | K2: cf=a= 2078÷79 sf] :jLs[t b/ /]^ | L2: ='Dhuwani_Machine_Upakaran Final'!J2 -> आ.व. २०७९/०८० को दररेट | M2: ='Dhuwani_Machine_Upakaran Final'!K2 -> आ.व. २०८०/०८१ को दररेट | N2: ='Dhuwani_Machine_Upakaran Final'!L2 -> आ.व. २०८१/०८२ को दररेट | O2: ='Dhuwani_Machine_Upakaran Final'!M2 -> आ.व. २०८२/०८३ को दररेट | P2: ='Dhuwani_Machine_Upakaran Final'!N2 -> आ.व. २०८३/०८४ को दररेट | Q2: s}lkmot
A3: 1 | B3: ईटा (ढुवानी समेत)
A4: =A3+0.01 -> 1.01 | B4: चिम्नी भट्टाको प्रथम श्रेणीको | C4: हजार | D4: 3000 | E4: 7200 | F4: 8100 | G4: 8800 | H4: 13000 | I4: =H4 -> 13000 | J4: 13300 | K4: =J4 -> 13300 | L4: =K4*1.1 -> 14630 | M4: =L4 -> 14630 | N4: =M4 -> 14630 | O4: 14630 | P4: =O4 -> 14630
A5: =A4+0.01 -> 1.02 | B5: चिम्नी भट्टाको द्वीतीय श्रेणीको | C5: हजार | D5: 2400 | E5: 6500 | F5: 7500 | G5: 7700 | H5: 9500 | I5: =H5 -> 9500 | J5: 9800 | K5: =J5 -> 9800 | L5: =K5*1.1 -> 10780 | M5: =L5 -> 10780 | N5: =M5 -> 10780 | O5: 10780 | P5: =O5 -> 10780
A6: =A5+0.01 -> 1.03 | B6: मेशिन मेड (चाइनिज ईट्टा) | C6: हजार | H6: 12900 | I6: =H6 -> 12900 | J6: 13000 | K6: =J6 -> 13000 | L6: =K6*1.1 -> 14300 | M6: =L6 -> 14300 | N6: =M6 -> 14300 | O6: 14300 | P6: =O6 -> 14300 | V6: Cum | W6: cuft
A7: =A6+0.01 -> 1.04 | B7: स्थानीय भट्टाको ईटा | C7: हजार | H7: 9500 | I7: =H7 -> 9500 | J7: 9700 | K7: =J7 -> 9700 | L7: =K7*1.1 -> 10670 | M7: =L7 -> 10670 | N7: =M7 -> 10670 | O7: 10670 | P7: =O7 -> 10670 | V7: 1 | W7: 35.314667
A8: =A7+0.01 -> 1.05 | B8: राठ ईट्टा | C8: हजार | H8: 8700 | I8: =H8 -> 8700 | J8: 9000 | K8: =J8 -> 9000 | L8: =K8*1.1 -> 9900 | M8: =L8 -> 9900 | N8: =M8 -> 9900 | O8: 9900 | P8: =O8 -> 9900
A9: =A8+0.01 -> 1.06 | B9: ईटाको टुक्रा (रविस) | C9: घ.मि. | D9: 525 | E9: 1200 | F9: 1300 | G9: 1400 | H9: 2200 | I9: =H9 -> 2200 | J9: 2500 | K9: =J9 -> 2500 | L9: =K9*1.1 -> 2750 | M9: =L9 -> 2750 | N9: =M9 -> 2750 | O9: 2750 | P9: =O9 -> 2750
A10: 2 | B10: ढुङ्गा | P10: ‍ | R10: गत आ.व.को रेट | S10: हाल कायम भएको प्रति फुट | T10: बागलुङ कालिका क्रसर प्रति फुट | U10: त्रिवेणी क्रसर उद्योग | V10: महादेवा कन्स्ट्रक्सन सियारी | W10: नवलपुर 82/83 | X10: प्रचलित बजार भाउ | Y10: रुपन्देही
A11: =A10+0.01 -> 2.01 | B11: बोल्डर | C11: घ.मि. | D11: 500 | E11: 800 | F11: 800 | G11: 800 | H11: 2000 | I11: 2050 | J11: =I11 -> 2050 | K11: =J11 -> 2050 | L11: =K11*1.1 -> 2255 | M11: =L11 -> 2255 | N11: =M11*1.05 -> 2367.75 | O11: 2486.1375 | P11: =O11 -> 2486.1375 | R11: =O11/$W$7 -> 70.399574 | S11: =P11/$W$7 -> 70.399574 | W11: =2100/W7 -> 59.465378 | Y11: 46 | AA11: =L12/L11 -> 1.1463415 | AB11: =N12/N11 -> 1.1463415
A12: =A11+0.01 -> 2.02 | B12: फोरुवा ढुङ्गा | C12: घ.मि. | D12: 550 | E12: 850 | F12: 875 | G12: 875 | H12: 2300 | I12: 2350 | J12: =I12 -> 2350 | K12: =J12 -> 2350 | L12: =K12*1.1 -> 2585 | M12: =L12 -> 2585 | N12: =M12*1.05 -> 2714.25 | O12: 2714.25 | P12: =O12 -> 2714.25 | R12: =O12/$W$7 -> 76.859001 | S12: =P12/$W$7 -> 76.859001 | W12: =2325/W7 -> 65.836668
A13: =A12+0.01 -> 2.03 | B13: ("+ufsf] w"nf] ("jfgL ;d]t | C13: घ.मि. | D13: 400 | E13: 825 | F13: 825 | G13: 860 | H13: 1500 | I13: =H13 -> 1500 | J13: =I13 -> 1500 | K13: =J13 -> 1500 | L13: =K13*1.1 -> 1650 | M13: 1730 | N13: =M13*1.05 -> 1816.5 | O13: 1816.5 | P13: =O13 -> 1816.5 | R13: =O13/$W$7 -> 51.437552 | S13: =P13/$W$7 -> 51.437552 | T13: 42 | U13: 40.68 | V13: 45 | W13: =1700/W7 -> 48.138639 | Y13: 48
A14: 3 | B14: नेचुरल गिटी/ग्राभल | C14: घ.मि.
A15: =A14+0.01 -> 3.01 | B15: u|fe]n ;*ssf] nflu -cf/ljPd_ | C15: घ.मि. | D15: 320 | E15: 575 | F15: 550 | G15: 575 | H15: 1275 | I15: 1275 | J15: 1500 | K15: =J15 -> 1500 | L15: =K15*1.1 -> 1650 | M15: 1730 | N15: =M15*1.05 -> 1816.5 | O15: 1650 | P15: =O15 -> 1650 | R15: =O15/$W$7 -> 46.722797 | S15: =P15/$W$7 -> 46.722797 | T15: 32 | U15: 30 | V15: 40 | W15: =1350/35.32 -> 38.221971
A16: =A15+0.01 -> 3.02 | B16: uf]nf] lu§L bfpGg] k"j{ -10 b]vL 40 dL=dL=_ | C16: घ.मि. | D16: 490 | E16: 700 | F16: 700 | G16: 725 | H16: 1475 | I16: 1600 | J16: =I16 -> 1600 | K16: =J16 -> 1600 | L16: =K16*1.1 -> 1760 | M16: 1850 | N16: =M16*1.05 -> 1942.5 | O16: 1942.5 | P16: =O16 -> 1942.5 | R16: =O16/$W$7 -> 55.005475 | S16: =P16/$W$7 -> 55.005475 | U16: 31.64 | V16: 40 | W16: =1475/35.32 -> 41.761042 | Y16: 64
A17: 4 | B17: क्रसरको गिटी
A18: =A17+0.01 -> 4.01 | B18: 20 b]lv 40 dL= dL= | C18: घ.मि. | D18: 700 | E18: 850 | F18: 850 | G18: 886 | H18: 1850 | I18: =H18 -> 1850 | J18: =I18 -> 1850 | K18: =J18 -> 1850 | L18: =K18*1.1 -> 2035 | M18: 2140 | N18: =M18*1.05 -> 2247 | O18: 2247 | P18: =O18 -> 2247 | R18: =O18/$W$7 -> 63.627954 | S18: =P18/$W$7 -> 63.627954 | T18: 40 | U18: 40.68 | V18: 50 | W18: =2100/35.32 -> 59.456399 | Y18: 64
A19: =A18+0.01 -> 4.02 | B19: 12 b]lv 20 dL= dL= | C19: घ.मि. | D19: 700 | E19: 900 | F19: 900 | G19: 939 | H19: 1875 | I19: =H19 -> 1875 | J19: =I19 -> 1875 | K19: =J19 -> 1875 | L19: =K19*1.1 -> 2062.5 | M19: 2165 | N19: =M19*1.05 -> 2273.25 | O19: 2050 | P19: 2115 | R19: =O19/$W$7 -> 58.049536 | S19: =P19/$W$7 -> 59.890131 | T19: 40 | U19: 40.68 | W19: =W18 -> 59.456399 | Y19: 66
A20: =A19+0.01 -> 4.03 | B20: 10 b]lv 12 dL= dL= | C20: घ.मि. | D20: 600 | E20: 650 | F20: 650 | G20: 678 | H20: 1625 | I20: =H20 -> 1625 | J20: =I20 -> 1625 | K20: =J20 -> 1625 | L20: =K20*1.1 -> 1787.5 | M20: 1875 | N20: =M20*1.05 -> 1968.75 | O20: 1968.75 | P20: 2115 | R20: =O20/$W$7 -> 55.748792 | S20: =P20/$W$7 -> 59.890131 | T20: 40 | U20: 40.68 | V20: 45 | W20: =1800/35.32 -> 50.962627 | Y20: 62
A21: =A20+0.01 -> 4.04 | B21: 10 dL= dL= eGbf d"lg -lh/f_ | C21: घ.मि. | D21: 300 | E21: 675 | F21: 675 | G21: 704 | H21: 1350 | I21: =H21 -> 1350 | J21: =I21 -> 1350 | K21: =J21 -> 1350 | L21: =K21*1.1 -> 1485 | M21: 1560 | N21: =M21*1.05 -> 1638 | O21: 1638 | P21: 1800 | R21: =O21/$W$7 -> 46.382995 | S21: =P21/$W$7 -> 50.970324 | T21: 40 | U21: 40.68 | W21: =1605/35.32 -> 45.441676 | Y21: 57
A22: =A21+0.01 -> 4.05 | B22: Crusher Run Material 0-63mm Down (for Sub-base) | C22: घ.मि. | N22: 2100 | O22: 1800 | P22: 1900 | R22: =O22/$W$7 -> 50.970324 | S22: =P22/$W$7 -> 53.802009 | T22: 40 | U22: 45.2 | Y22: 52
A23: =A22+0.01 -> 4.06 | B23: Crusher Run Material (45mm-75 micron) (For Base) | C23: घ.मि. | O23: 1850 | P23: 1950 | R23: =O23/$W$7 -> 52.386166 | S23: =P23/$W$7 -> 55.217851 | T23: 40 | U23: 40.68 | V23: 50 | Y23: 61
A24: 5 | B24: afn'jf÷df^f]
A25: =A24+0.01 -> 5.01 | B25: afn'jf -nf]sn vf]nf_ | C25: घ.मि. | D25: 330 | E25: 500 | F25: 520 | G25: 542 | H25: 1120 | I25: =H25 -> 1120 | J25: =I25 -> 1120 | K25: =J25 -> 1120 | L25: =K25*1.1 -> 1232 | M25: =L25 -> 1232 | N25: =M25*1.05 -> 1293.6 | O25: 1293.6 | P25: =O25 -> 1293.6 | R25: =O25/$W$7 -> 36.630673 | S25: =P25/$W$7 -> 36.630673 | U25: 36.66 | W25: =1200/35.32 -> 33.975085
A26: =A25+0.01 -> 5.02 | B26: wf]Psf] afn'jf -qm;/sf]_ | C26: घ.मि. | E26: 825 | F26: 850 | G26: 886 | H26: 2200 | I26: =H26 -> 2200 | J26: =I26 -> 2200 | K26: =J26 -> 2200 | L26: =K26*1.1 -> 2420 | M26: =L26 -> 2420 | N26: =M26*1.05 -> 2541 | O26: 2365 | P26: =O26 -> 2365 | R26: =O26/$W$7 -> 66.969342 | S26: =P26/$W$7 -> 66.969342 | T26: 50 | U26: 56.5 | V26: 50 | W26: =2400/35.32 -> 67.95017 | Y26: 66
A27: =A26+0.01 -> 5.03 | B27: k"g]{ df^f] | C27: घ.मि. | D27: 120 | E27: 155 | F27: 160 | G27: 166 | H27: 300 | I27: =H27 -> 300 | J27: =I27 -> 300 | K27: =J27 -> 300 | L27: =K27*1.1 -> 330 | M27: =L27 -> 330 | N27: =M27*1.05 -> 346.5 | O27: 450 | P27: =O27 -> 450 | R27: =O27/$W$7 -> 12.742581 | S27: =P27/$W$7 -> 12.742581 | W27: 340 | Y27: 9
A28: =A27+0.01 -> 5.04 | B28: hf]*fO{sf] df^f] | C28: घ.मि. | D28: 140 | F28: 165 | G28: 172 | H28: 310 | I28: =H28 -> 310 | J28: =I28 -> 310 | K28: =J28 -> 310 | L28: =K28*1.1 -> 341 | M28: =L28 -> 341 | N28: =M28*1.05 -> 358.05 | O28: 450 | P28: =O28 -> 450 | R28: =O28/$W$7 -> 12.742581 | S28: =P28/$W$7 -> 12.742581 | W28: 395 | Y28: 0
A29: =A28+0.01 -> 5.05 | B29: la?jf /f]Kgsf] nflu dlnnf] df^f] | C29: घ.मि. | D29: 140 | H29: 400 | I29: =H29 -> 400 | J29: =I29 -> 400 | K29: =J29 -> 400 | L29: =K29*1.1 -> 440 | M29: =L29 -> 440 | N29: =M29*1.05 -> 462 | O29: 462 | P29: =O29 -> 462 | R29: =O29/$W$7 -> 13.082383 | S29: =P29/$W$7 -> 13.082383 | W29: 450
A30: 6 | B30: l;d]G^ | R30: Palpa | S30: Rupandehi | T30: Siddhartha | W30: 700 | Z30: Rupandehi
A31: =A30+0.01 -> 6.01 | B31: g]kfnL l;d]G^ ( N/S OPC ) (50 kg) | C31: बोरा | D31: 315 | E31: 480 | F31: 470 | G31: 470 | H31: 725 | I31: =H31 -> 725 | J31: =I31 -> 725 | K31: =J31 -> 725 | L31: =K31 -> 725 | M31: =L31-10 -> 715 | N31: =M31-100 -> 615 | O31: 630 | P31: =O31 -> 630 | R31: 650 | S31: 630 | T31: 590 | W31: 600 | Z31: 630
A32: =A31+0.01 -> 6.02 | B32: l;d]G^ ( N/S PPC ) (50kg) | C32: बोरा | D32: 315 | E32: 480 | F32: 470 | G32: 470 | H32: 620 | I32: =H32 -> 620 | J32: =I32 -> 620 | K32: =J32 -> 620 | L32: =K32 -> 620 | M32: =L32-10 -> 610 | N32: =M32-95 -> 515 | O32: 528 | P32: 540 | R32: 550 | S32: 540 | T32: 520 | W32: 865 | Z32: 540
A33: =A32+0.01 -> 6.03 | B33: ;]tf] l;d]G^ (40 kg) | C33: बोरा | D33: 800 | E33: 950 | F33: 950 | G33: 900 | H33: 950 | I33: 975 | J33: =I33 -> 975 | K33: =J33 -> 975 | L33: =K33 -> 975 | M33: =L33-10 -> 965 | N33: =M33 -> 965 | O33: 965 | P33: 965 | S33: 931 | Z33: 931
A34: 7 | B34: s+qmL^ P*ldS:r/
A35: =A34+0.01 -> 7.01 | B35: s+qmL^ P*ldS:r/ | C35: के.जी. | H35: 340 | I35: =H35 -> 340 | J35: =I35 -> 340 | K35: =J35 -> 340 | L35: =K35*1.1 -> 374 | M35: =L35 -> 374 | N35: =M35 -> 374 | O35: 374 | P35: =O35 -> 374
A36: =A35+0.01 -> 7.02 | B36: Knfli^;fOh/ | C36: लिटर | H36: 355 | I36: =H36 -> 355 | J36: =I36 -> 355 | K36: =J36 -> 355 | L36: =K36*1.1 -> 390.5 | M36: =L36 -> 390.5 | N36: =M36 -> 390.5 | O36: 390.5 | P36: =O36 -> 390.5
A37: =A36+0.01 -> 7.03 | B37: PlG^ ^/dfO{^ | C37: लिटर | H37: 8580 | I37: =H37 -> 8580 | J37: =I37 -> 8580 | K37: =J37 -> 8580 | L37: =K37*1.1 -> 9438 | M37: =L37 -> 9438 | N37: =M37 -> 9438 | O37: 9438 | P37: =O37 -> 9438
A38: =A37+0.01 -> 7.04 | B38: jf^/ l/k]lné sDkfp)* | C38: लिटर | H38: 575 | I38: =H38 -> 575 | J38: =I38 -> 575 | K38: =J38 -> 575 | L38: =K38*1.1 -> 632.5 | M38: =L38 -> 632.5 | N38: =M38 -> 632.5 | O38: 632.5 | P38: =O38 -> 632.5
A39: =A38+0.01 -> 7.05 | B39: qmofs l/*\o';/ | C39: के.जी. | H39: 590 | I39: =H39 -> 590 | J39: =I39 -> 590 | K39: =J39 -> 590 | L39: =K39*1.1 -> 649 | M39: =L39 -> 649 | N39: =M39 -> 649 | O39: 649 | P39: =O39 -> 649
A40: =A39+0.01 -> 7.06 | B40: jf^/ k|'lkmé sDkfp)* | C40: लिटर | H40: 280 | I40: =H40 -> 280 | J40: =I40 -> 280 | K40: =J40 -> 280 | L40: =K40*1.1 -> 308 | M40: =L40 -> 308 | N40: =M40 -> 308 | O40: 308 | P40: =O40 -> 308
A41: =A40+0.01 -> 7.07 | B41: l;lnsf l;d])^ P*ldS:r/ | C41: के.जी. | F41: 318 | G41: 302 | H41: 330 | I41: =H41 -> 330 | J41: =I41 -> 330 | K41: =J41 -> 330 | L41: =K41*1.1 -> 363 | M41: =L41 -> 363 | N41: =M41 -> 363 | O41: 363 | P41: =O41 -> 363
A42: =A41+0.01 -> 7.08 | B42: माइक्रो सिलिका (For High Performance ConcreteASTM C 1240-2005, IS 15388-2003) | C42: के.जी. | M42: − | N42: − | O42: 119.34 | P42: =O42 -> 119.34 | R42: काठमाडौबाट साभार २% मुल्य वृद्धी सहित
A43: =A42+0.01 -> 7.09 | B43: Epoxy Bonding Agent for old and new construction | C43: लिटर | M43: − | N43: − | O43: 2142 | P43: =O43 -> 2142 | R43: काठमाडौबाट साभार २% मुल्य वृद्धी सहित
A44: =A43+0.01 -> 7.1 | B44: Rust Remover & Passivator | C44: लिटर | M44: − | N44: − | O44: 1071 | P44: =O44 -> 1071 | R44: काठमाडौबाट साभार २% मुल्य वृद्धी सहित
A45: =A44+0.01 -> 7.11 | B45: Integral Waterproofing Additive for Concrete and Plaster ASTM C 494, IS 2645-75 (Type G) , IS 9103-2007/IS 2645 | C45: के.जी. | M45: − | N45: − | O45: 325.38 | P45: =O45 -> 325.38 | R45: काठमाडौबाट साभार २% मुल्य वृद्धी सहित
A46: =A45+0.01 -> 7.12 | B46: Integral Crystalline Waterproofing Liquid/Powder Admixture STD Conformance : ASTM C 494, IS 3085-1997, DIN 1048-1991 | C46: के.जी. | M46: − | N46: − | O46: 1071 | P46: =O46 -> 1071 | R46: काठमाडौबाट साभार २% मुल्य वृद्धी सहित
A47: =A46+0.01 -> 7.13 | B47: Fast Setting Plugging Compound for Stopping Running Water System | C47: के.जी. | M47: − | N47: − | O47: 434.52 | P47: =O47 -> 434.52 | R47: काठमाडौबाट साभार २% मुल्य वृद्धी सहित
A48: 8 | B48: sf& | R48: रुपन्देही (क्यूफीट) | S48: रुपन्देही (Cum) | V48: 1cum= | W48: 35.314667 | X48: cuft
A49: =A48+0.01 -> 8.01 | B49: ;fnsf] sf& (lr/fg jfnf) | C49: घ.मि. | D49: 37000 | E49: 47000 | F49: 74000 | G49: 76450 | H49: 150000 | I49: =H49 -> 150000 | J49: =I49 -> 150000 | K49: =J49 -> 150000 | L49: =K49*1.1 -> 165000 | M49: =L49 -> 165000 | N49: =M49 -> 165000 | O49: 165000 | P49: =O49 -> 165000 | R49: 4334 | S49: =R49*$W$48 -> 153053.77
A50: =A49+0.01 -> 8.02 | B50: l;;f} sf& -lr/fg jfnf_ cfjfbL | C50: घ.मि. | D50: 24000 | E50: 26500 | F50: 41000 | G50: 36100 | H50: 108000 | I50: =H50 -> 108000 | J50: =I50 -> 108000 | K50: =J50 -> 108000 | L50: =K50*1.1 -> 118800 | M50: =L50 -> 118800 | N50: =M50 -> 118800 | O50: 118800 | P50: =O50 -> 118800 | R50: 3048 | S50: =R50*$W$48 -> 107639.1
A51: =A50+0.01 -> 8.03 | B51: cGo sf& -s"sf&_ lr/fg jfnf | C51: घ.मि. | D51: 14000 | E51: 18000 | F51: 28000 | G51: 32705 | H51: 45300 | I51: =H51 -> 45300 | J51: =I51 -> 45300 | K51: =J51 -> 45300 | L51: =K51*1.1 -> 49830 | M51: =L51 -> 49830 | N51: =M51 -> 49830 | O51: 49830 | P51: =O51 -> 49830 | R51: 1306 | S51: =R51*$W$48 -> 46120.955
A52: =A51+0.01 -> 8.04 | B52: bfp/f | C52: के.जी. | E52: 6 | F52: 6 | G52: 7.5 | H52: 11.5 | I52: =H52 -> 11.5 | J52: =I52 -> 11.5 | K52: =J52 -> 11.5 | L52: =K52*1.1 -> 12.65 | M52: =L52 -> 12.65 | N52: =M52 -> 12.65 | O52: 12.65 | P52: =O52 -> 12.65
A53: 9 | B53: l;d]G^ s+lqm^ -cf/=l;=;L=_af^ lgld{t - em\ofn, (f]sf÷ e]N^Ln];gsf km|]dx? -size 4"x2.75" Concrete mix design- 1:1:1_ proportion & 2 no of 7mmø Re-bar)
A54: =A53+0.01 -> 9.01 | B54: em\ofn, (f]sf / e]N^Ln];gsf km|]dx? | C54: र.फी. | D54: 37000 | E54: 47000 | F54: 74000 | G54: 76450 | H54: 221 | I54: =H54 -> 221 | J54: =I54 -> 221 | K54: =J54 -> 221 | L54: =K54*1.1 -> 243.1 | M54: =L54 -> 243.1 | N54: =M54 -> 243.1 | O54: 243.1 | P54: =O54 -> 243.1
A55: =A54+0.01 -> 9.02 | B55: em\ofn, (f]sf / e]N^Ln];gsf cfs{ km|]dx? | C55: र.फी. | D55: 24000 | E55: 26500 | F55: 41000 | G55: 36100 | H55: 415 | I55: =H55 -> 415 | J55: =I55 -> 415 | K55: =J55 -> 415 | L55: =K55*1.1 -> 456.5 | M55: =L55 -> 456.5 | N55: =M55 -> 456.5 | O55: 456.5 | P55: =O55 -> 456.5
A56: 10 | B56: %]l:sgL
A57: =A56+0.01 -> 10.01 | B57: %]:sgL 100 ld=ld= | C57: गोटा | D57: 18 | E57: 22 | F57: 22 | G57: 23 | H57: 33 | I57: =H57 -> 33 | J57: =I57 -> 33 | K57: =J57 -> 33 | L57: =K57*1.1 -> 36.3 | M57: =L57 -> 36.3 | N57: =M57 -> 36.3 | O57: 36.3 | P57: =O57 -> 36.3
A58: =A57+0.01 -> 10.02 | B58: %]:sgL 150 ld=ld= | C58: गोटा | D58: 22 | E58: 35 | F58: 35 | G58: 37 | H58: 41 | I58: =H58 -> 41 | J58: =I58 -> 41 | K58: =J58 -> 41 | L58: =K58*1.1 -> 45.1 | M58: =L58 -> 45.1 | N58: =M58 -> 45.1 | O58: 45.1 | P58: =O58 -> 45.1
A59: =A58+0.01 -> 10.03 | B59: %]:sgL 200 ld=ld= | C59: गोटा | D59: 27 | E59: 47 | F59: 47 | G59: 49 | H59: 58 | I59: =H59 -> 58 | J59: =I59 -> 58 | K59: =J59 -> 58 | L59: =K59*1.1 -> 63.8 | M59: =L59 -> 63.8 | N59: =M59 -> 63.8 | O59: 63.8 | P59: =O59 -> 63.8
A60: =A59+0.01 -> 10.04 | B60: %]:sgL 225 ld=ld= | C60: गोटा | D60: 36 | E60: 58 | F60: 58 | G60: 60 | H60: 69 | I60: =H60 -> 69 | J60: =I60 -> 69 | K60: =J60 -> 69 | L60: =K60*1.1 -> 75.9 | M60: =L60 -> 75.9 | N60: =M60 -> 75.9 | O60: 75.9 | P60: =O60 -> 75.9
A61: =A60+0.01 -> 10.05 | B61: %]:sgL 300 | C61: गोटा | D61: 41 | E61: 70 | F61: 70 | G61: 73 | H61: 90 | I61: =H61 -> 90 | J61: =I61 -> 90 | K61: =J61 -> 90 | L61: =K61*1.1 -> 99 | M61: =L61 -> 99 | N61: =M61 -> 99 | O61: 99 | P61: =O61 -> 99
A62: 11 | B62: sAhf
A63: =A62+0.01 -> 11.01 | B63: sAhf 75 ld=ld= | C63: गोटा | D63: 11 | E63: 16 | F63: 16 | G63: 17 | H63: 12 | I63: =H63 -> 12 | J63: =I63 -> 12 | K63: =J63 -> 12 | L63: =K63*1.1 -> 13.2 | M63: =L63 -> 13.2 | N63: =M63 -> 13.2 | O63: 13.2 | P63: =O63 -> 13.2
A64: =A63+0.01 -> 11.02 | B64: sAhf 100ld=ld= | C64: गोटा | D64: 18 | E64: 27 | F64: 20 | G64: 21 | H64: 22 | I64: =H64 -> 22 | J64: =I64 -> 22 | K64: =J64 -> 22 | L64: =K64*1.1 -> 24.2 | M64: =L64 -> 24.2 | N64: =M64 -> 24.2 | O64: 24.2 | P64: =O64 -> 24.2
A65: =A64+0.01 -> 11.03 | B65: sAhf 150ld=ld= | C65: गोटा | D65: 27 | E65: 38 | F65: 25 | G65: 26 | H65: 48 | I65: =H65 -> 48 | J65: =I65 -> 48 | K65: =J65 -> 48 | L65: =K65*1.1 -> 52.8 | M65: =L65 -> 52.8 | N65: =M65 -> 52.8 | O65: 52.8 | P65: =O65 -> 52.8
A66: 12 | B66: x]l)*n tyf cGo
A67: =A66+0.01 -> 12.01 | B67: x]l)*n kmnfd] -d"&_ 8Æ÷16 ld=ld= df]^f] | C67: गोटा | D67: 21 | E67: 25 | F67: 25 | G67: 26 | H67: 22 | I67: =H67 -> 22 | J67: =I67 -> 22 | K67: =J67 -> 22 | L67: =K67*1.1 -> 24.2 | M67: =L67 -> 24.2 | N67: =M67 -> 24.2 | O67: 24.2 | P67: =O67 -> 24.2
A68: =A67+0.01 -> 12.02 | B68: x]l)*n cfn"ldlgod 8Æ÷16 ld=ld= df]^f] | C68: गोटा | D68: 41 | E68: 30 | F68: 30 | G68: 31 | H68: 27 | I68: =H68 -> 27 | J68: =I68 -> 27 | K68: =J68 -> 27 | L68: =K68*1.1 -> 29.7 | M68: =L68 -> 29.7 | N68: =M68 -> 29.7 | O68: 29.7 | P68: =O68 -> 29.7
A69: =A68+0.01 -> 12.03 | B69: x]l)*n &"nf] 10Æ÷16 ld=ld= df]^f] | C69: गोटा | D69: 82 | E69: 130 | F69: 130 | G69: 135 | H69: 194 | I69: =H69 -> 194 | J69: =I69 -> 194 | K69: =J69 -> 194 | L69: =K69*1.1 -> 213.4 | M69: =L69 -> 213.4 | N69: =M69 -> 213.4 | O69: 213.4 | P69: =O69 -> 213.4
A70: =A69+0.01 -> 12.04 | B70: x]l)*n ;fgf] 8Æ÷16 ld=ld= df]^f] | C70: गोटा | D70: 63 | E70: 105 | F70: 105 | G70: 110 | H70: 184 | I70: =H70 -> 184 | J70: =I70 -> 184 | K70: =J70 -> 184 | L70: =K70*1.1 -> 202.4 | M70: =L70 -> 202.4 | N70: =M70 -> 202.4 | O70: 202.4 | P70: =O70 -> 202.4
A71: =A70+0.01 -> 12.05 | B71: k]r (Screw nails ) | C71: गोटा | D71: 0.4 | E71: 1 | F71: 1 | G71: 1 | H71: 1 | I71: =H71 -> 1 | J71: =I71 -> 1 | K71: =J71 -> 1 | L71: =K71*1.1 -> 1.1 | M71: =L71 -> 1.1 | N71: =M71 -> 1.1 | O71: 1.1 | P71: =O71 -> 1.1
A72: =A71+0.01 -> 12.06 | B72: h] x"s | C72: गोटा | D72: 9 | E72: 13 | F72: 13 | G72: 14 | H72: 23 | I72: =H72 -> 23 | J72: =I72 -> 23 | K72: =J72 -> 23 | L72: =K72*1.1 -> 25.3 | M72: =L72 -> 25.3 | N72: =M72 -> 25.3 | O72: 25.3 | P72: =O72 -> 25.3
A73: =A72+0.01 -> 12.07 | B73: lj^"ldg jf;/ | C73: गोटा | D73: 1 | E73: 1 | F73: 1 | G73: 1 | H73: 2 | I73: =H73 -> 2 | J73: =I73 -> 2 | K73: =J73 -> 2 | L73: =K73*1.1 -> 2.2 | M73: =L73 -> 2.2 | N73: =M73 -> 2.2 | O73: 2.2 | P73: =O73 -> 2.2
A74: =A73+0.01 -> 12.08 | B74: df]l^{; ns | C74: गोटा | D74: 375 | E74: 700 | F74: 600 | G74: 625 | H74: 1208 | I74: =H74 -> 1208 | J74: =I74 -> 1208 | K74: =J74 -> 1208 | L74: =K74*1.1 -> 1328.8 | M74: =L74 -> 1328.8 | N74: =M74 -> 1328.8 | O74: 1328.8 | P74: =O74 -> 1328.8
A75: =A74+0.01 -> 12.09 | B75: xf]N* kmf:^ | C75: गोटा | D75: 8 | E75: 12 | F75: 13 | G75: 14 | H75: 19 | I75: =H75 -> 19 | J75: =I75 -> 19 | K75: =J75 -> 19 | L75: =K75*1.1 -> 20.9 | M75: =L75 -> 20.9 | N75: =M75 -> 20.9 | O75: 20.9 | P75: =O75 -> 20.9
A76: =A75+0.01 -> 12.1 | B76: *f]/ :k|Lé kmnfd] | C76: गोटा | D76: 82 | E76: 130 | F76: 130 | G76: 135 | H76: 158 | I76: =H76 -> 158 | J76: =I76 -> 158 | K76: =J76 -> 158 | L76: =K76*1.1 -> 173.8 | M76: =L76 -> 173.8 | N76: =M76 -> 173.8 | O76: 173.8 | P76: =O76 -> 173.8
A77: =A76+0.01 -> 12.11 | B77: *f]/ :k|Lé a|f; | C77: गोटा | D77: 190 | E77: 230 | F77: 230 | G77: 240 | H77: 278 | I77: =H77 -> 278 | J77: =I77 -> 278 | K77: =J77 -> 278 | L77: =K77*1.1 -> 305.8 | M77: =L77 -> 305.8 | N77: =M77 -> 305.8 | O77: 305.8 | P77: =O77 -> 305.8
A78: =A77+0.01 -> 12.12 | B78: d:So"^f] g]^ -ef/tLo, x]eL_ | C78: व.मि. | D78: 120 | E78: 170 | F78: 170 | G78: 177 | H78: 284 | I78: =H78 -> 284 | J78: =I78 -> 284 | K78: =J78 -> 284 | L78: =K78*1.1 -> 312.4 | M78: =L78 -> 312.4 | N78: =M78 -> 312.4 | O78: 312.4 | P78: =O78 -> 312.4
... A81: =A80+0.01 -> 12.15 | B81: g^ af]N^ jf;/ ;lxt | C81: के.जी. | D81: 75 | E81: 125 | F81: 125 | G81: 130 | H81: 168 | I81: =H81 -> 168 | J81: =I81 -> 168 | K81: =J81 -> 168 | L81: =K81*1.1 -> 184.8 | M81: =L81 -> 184.8 | N81: =M81 -> 184.8 | O81: 184.8 | P81: =O81 -> 184.8
A82: 13 | B82: 1Æ :Sjfo/ kfOk /]lné agfO{ To;df ;fn jf l;;f} sf&sf] x])*/]n /fvL h*fg ug]{ sfo{ | C82: व.मि. | H82: 2310 | I82: =H82 -> 2310 | J82: =I82 -> 2310 | K82: =J82 -> 2310 | L82: =K82*1.1 -> 2541 | M82: =L82 -> 2541 | N82: =M82 -> 2541 | O82: 2541 | P82: =O82 -> 2541
A83: 14 | B83: P]gf kf/bz{s
A84: =A83+0.01 -> 14.01 | B84: 3 ld=ld= | C84: व.मि. | D84: 325 | E84: 400 | F84: 400 | G84: 400 | H84: 824 | I84: =H84 -> 824 | J84: =I84 -> 824 | K84: =J84 -> 824 | L84: =K84*1.1 -> 906.4 | M84: =L84 -> 906.4 | N84: =M84 -> 906.4 | O84: 906.4 | P84: =O84 -> 906.4
A85: =A84+0.01 -> 14.02 | B85: 4 ld=ld= | C85: व.मि. | D85: 350 | E85: 430 | F85: 500 | G85: 430 | H85: 935 | I85: =H85 -> 935 | J85: =I85 -> 935 | K85: =J85 -> 935 | L85: =K85*1.1 -> 1028.5 | M85: =L85 -> 1028.5 | N85: =M85 -> 1028.5 | O85: 1028.5 | P85: =O85 -> 1028.5
A86: =A85+0.01 -> 14.03 | B86: 5 ld=ld= | C86: व.मि. | D86: 500 | E86: 550 | F86: 550 | G86: 540 | H86: 1323 | I86: =H86 -> 1323 | J86: =I86 -> 1323 | K86: =J86 -> 1323 | L86: =K86*1.1 -> 1455.3 | M86: =L86 -> 1455.3 | N86: =M86 -> 1455.3 | O86: 1455.3 | P86: =O86 -> 1455.3
A87: 15 | B87: P]gf ckf/bz{s
A88: =A87+0.01 -> 15.01 | B88: 3 ld=ld= | C88: व.मि. | D88: 525 | E88: 400 | F88: 400 | G88: 400 | H88: 714 | I88: =H88 -> 714 | J88: =I88 -> 714 | K88: =J88 -> 714 | L88: =K88*1.1 -> 785.4 | M88: =L88 -> 785.4 | N88: =M88 -> 785.4 | O88: 785.4 | P88: =O88 -> 785.4
A89: =A88+0.01 -> 15.02 | B89: 4 ld=ld= | C89: व.मि. | D89: 275 | E89: 425 | F89: 425 | G89: 425 | H89: 1066 | I89: =H89 -> 1066 | J89: =I89 -> 1066 | K89: =J89 -> 1066 | L89: =K89*1.1 -> 1172.6 | M89: =L89 -> 1172.6 | N89: =M89 -> 1172.6 | O89: 1172.6 | P89: =O89 -> 1172.6
A90: 16 | B90: P]gf sfnf]
A91: =A90+0.01 -> 16.01 | B91: 4 ld=ld= | C91: व.मि. | H91: 1024 | I91: =H91 -> 1024 | J91: =I91 -> 1024 | K91: =J91 -> 1024 | L91: =K91*1.1 -> 1126.4 | M91: =L91 -> 1126.4 | N91: =M91 -> 1126.4 | O91: 1126.4 | P91: =O91 -> 1126.4 | T91: 81-82 चैत र 82-83 चैतको बढोत्तरी = 2.27%
A92: 17 | B92: प्लाइउड | R92: per Sft | S92: Rupandehi | T92: प्रस्तावित रेट @2% बढोत्तरी | X92: Sqft | Y92: Sqm
A93: =A92+0.01 -> 17.01 | B93: 3 ld=ld= | C93: व.मि. | D93: 100 | E93: 115 | F93: 128 | G93: 128 | H93: 315 | I93: =H93 -> 315 | J93: =I93 -> 315 | K93: =J93 -> 315 | L93: =K93*1.1 -> 346.5 | M93: =L93 -> 346.5 | N93: =M93 -> 346.5 | O93: 346.5 | P93: =TRUNC(T93,2) -> 353.4 | R93: =P93/$X$93 -> 32.831934 | S93: 21 | T93: =TRUNC(102%*O93/5,2)*5 -> 353.4 | X93: 10.76391 | Y93: 1
A94: =A93+0.01 -> 17.02 | B94: 4 ld=ld= | C94: व.मि. | D94: 125 | E94: 130 | F94: 152 | G94: 152 | H94: 368 | I94: =H94 -> 368 | J94: =I94 -> 368 | K94: =J94 -> 368 | L94: =K94*1.1 -> 404.8 | M94: =L94 -> 404.8 | N94: =M94 -> 404.8 | O94: 404.8 | P94: =TRUNC(T94,2) -> 412.85 | R94: =P94/$X$93 -> 38.35502 | S94: 29 | T94: =TRUNC(102%*O94/5,2)*5 -> 412.85
A95: =A94+0.01 -> 17.03 | B95: 6 ld=ld= | C95: व.मि. | D95: 170 | E95: 195 | F95: 223 | G95: 223 | H95: 394 | I95: =H95 -> 394 | J95: =I95 -> 394 | K95: =J95 -> 394 | L95: =K95*1.1 -> 433.4 | M95: =L95 -> 433.4 | N95: =M95 -> 433.4 | O95: 433.4 | P95: =TRUNC(T95,2) -> 442.05 | R95: =P95/$X$93 -> 41.067789 | S95: 47 | T95: =TRUNC(102%*O95/5,2)*5 -> 442.05
A96: =A95+0.01 -> 17.04 | B96: 8 ld=ld= | C96: व.मि. | D96: 200 | F96: 291 | G96: 291 | H96: 473 | I96: =H96 -> 473 | J96: =I96 -> 473 | K96: =J96 -> 473 | L96: =K96*1.1 -> 520.3 | M96: =L96 -> 520.3 | N96: =M96 -> 520.3 | O96: 520.3 | P96: =TRUNC(T96,2) -> 530.7 | R96: =P96/$X$93 -> 49.303643 | S96: 0 | T96: =TRUNC(102%*O96/5,2)*5 -> 530.7
A97: =A96+0.01 -> 17.05 | B97: 10 ld=ld= -lzv/ jf ;f] eGbf dfyL_ | C97: व.मि. | E97: 375 | F97: 409 | G97: 409 | H97: 992 | I97: =H97 -> 992 | J97: =I97 -> 992 | K97: =J97 -> 992 | L97: =K97*1.1 -> 1091.2 | M97: =L97 -> 1091.2 | N97: =M97 -> 1091.2 | O97: 1091.2 | P97: =TRUNC(T97,2) -> 1113 | R97: =P97/$X$93 -> 103.40108 | S97: 106 | T97: =TRUNC(102%*O97/5,2)*5 -> 1113
A98: =A97+0.01 -> 17.06 | B98: 12 ld=ld= -lzv/ jf ;f] eGbf dfyL_ | C98: व.मि. | D98: 230 | E98: 475 | F98: 500 | G98: 500 | H98: 1097 | I98: =H98 -> 1097 | J98: =I98 -> 1097 | K98: =J98 -> 1097 | L98: =K98*1.1 -> 1206.7 | M98: =L98 -> 1206.7 | N98: =M98 -> 1206.7 | O98: 1206.7 | P98: =TRUNC(T98,2) -> 1230.8 | R98: =P98/$X$93 -> 114.34506 | S98: 118 | T98: =TRUNC(102%*O98/5,2)*5 -> 1230.8
A99: =A98+0.01 -> 17.07 | B99: 18 ld=ld= वाटरप्रुफ (शिखर वा सो सरह) | C99: व.मि. | D99: 332 | E99: 500 | F99: 550 | G99: 550 | H99: 1575 | I99: =H99 -> 1575 | J99: =I99 -> 1575 | K99: =J99 -> 1575 | L99: =K99*1.1 -> 1732.5 | M99: =L99 -> 1732.5 | N99: =M99 -> 1732.5 | O99: 1732.5 | P99: =TRUNC(T99,2) -> 1767.15 | R99: =P99/$X$93 -> 164.17361 | S99: 0 | T99: =TRUNC(102%*O99/5,2)*5 -> 1767.15
A100: =A99+0.01 -> 17.08 | B100: १९ मि.मि. साधारण (शिखर वा सो सरह) | C100: व.मि. | M100: − | N100: − | O100: 1550.0031 | P100: =TRUNC(T100,2) -> 1581 | R100: =P100/$X$93 -> 146.87971 | S100: 148 | T100: =TRUNC(102%*O100/5,2)*5 -> 1581
A101: =A100+0.01 -> 17.09 | B101: १९ मि.मि. वाटरप्रुफ (शिखर वा सो सरह) | C101: व.मि. | M101: − | N101: − | O101: 1808.3369 | P101: =TRUNC(T101,2) -> 1844.5 | R101: =P101/$X$93 -> 171.35966 | S101: 172 | T101: =TRUNC(102%*O101/5,2)*5 -> 1844.5
A102: 18 | B102: टिक प्लाइउड | R102: =P102/$X$93 -> 0 | T102: =TRUNC(102%*O102/5,2)*5 -> 0
...

Sheet Falamjanya
A1: ४. फलामजन्य निर्माण सामाग्री
A2: qm=;+= | B2: lgdf{)f ;fdu|Lsf] ljj/)f | C2: OsfO{ | D2: cf=a= 062÷063 | E2: cf=a= 2066÷67 | F2: cf=a= 2067÷68 | G2: cf=a= 2068÷69 | H2: cf=a= 2075÷76 | I2: cf=a= 2076÷77 sf] :jLs[t b/ /]^ | J2: cf=a= 2077÷78 sf] :jLs[t b/ /]^ | K2: cf=a= 2078÷79 sf] :jLs[t b/ /]^ | L2: cf=a= 2079÷80 sf] :jLs[t b/ /]^ | M2: आ.व. २०८०/०८१ को दररेट | N2: आ.व. २०८१/०८२ को दररेट | O2: आ.व. २०८२/०८३ को दररेट | P2: आ.व. २०८३/०८४ को दररेट | Q2: s}lkmot
A3: 1 | B3: विभिन्न साइजको फलामे डन्डी-Fe500 (NS or Equivalent) | R3: Ambe | S3: Siddhartha | T3: Laxmi | U3: Rupandehi
A4: =A3+0.01 -> 1.01 | B4: 8, 25, 28 & 32 mm | C4: के.जी. | E4: 59 | F4: 60 | G4: 65 | H4: 78 | I4: =H4 -> 78 | J4: =I4 -> 78 | K4: 80 | L4: =K4*1.2 -> 96 | M4: =L4 -> 96 | N4: =M4 -> 96 | O4: =N4 -> 96 | P4: =O4 -> 96 | R4: 91 | S4: 87 | T4: 90 | U4: =105%*T4 -> 94.5
A5: =A4+0.01 -> 1.02 | B5: 10, 12 & 16 mm | C5: के.जी. | E5: 57 | F5: 58 | G5: 64 | H5: 76 | I5: =H5 -> 76 | J5: =I5 -> 76 | K5: =K4 -> 80 | L5: =K5*1.2 -> 96 | M5: =L5 -> 96 | N5: =M5 -> 96 | O5: =O4-3 -> 93 | P5: =O5 -> 93 | R5: 88 | S5: 84 | T5: 90 | U5: =105%*T5 -> 94.5
A6: =A5+0.01 -> 1.03 | B6: 20 mm | C6: के.जी. | M6: 96 | N6: 96 | O6: =O5+2 -> 95 | P6: =O6 -> 95 | R6: 91 | S6: 86 | T6: 90 | U6: =105%*T6 -> 94.5
A7: =A6+0.01 -> 1.04 | B7: 4.75 to 7mm dia | C7: के.जी. | D7: 43 | E7: 59 | F7: 61 | G7: 68 | H7: 70 | I7: =H7 -> 70 | J7: =I7 -> 70 | K7: 81 | L7: =K7*1.2 -> 97.2 | M7: =L7 -> 97.2 | N7: =M7 -> 97.2 | O7: 97 | P7: =O7 -> 97 | R7: 92 | S7: 88 | U7: =105%*T7 -> 0 | X7: काठमाडौ स्टिल | Z7: Siddhartha
A8: 2 | B8: बाइन्डिङ तार | C8: के.जी. | D8: 60 | E8: 85 | F8: 80 | G8: 85 | H8: 90 | I8: =H8 -> 90 | J8: =I8 -> 90 | K8: =J8 -> 90 | L8: =K8*1.2 -> 108 | M8: =L8 -> 108 | N8: =M8 -> 108 | O8: =ROUND(1.025*N8,0) -> 111 | P8: 115 | R8: 115 | X8: 122 | Z8: 120
A9: 3 | B9: काँडे तार | R9: Rupandehi | U9: Nawalpur | V9: Kapilvastu | W9: DFO
A10: =A9+0.01 -> 3.01 | B10: काँडे तार १२ गेज हेभी कोटेड NS168 | C10: के.जी. | D10: 53 | E10: 80 | F10: 80 | G10: 85 | H10: 95 | I10: =H10 -> 95 | J10: =I10 -> 95 | K10: =J10 -> 95 | L10: =K10*1.2 -> 114 | M10: =L10 -> 114 | N10: =M10 -> 114 | O10: =N10*102.5% -> 116.85 | P10: =O10*102% -> 119.187 | R10: 120 | U10: 110 | V10: 118 | W10: 135
A11: =A10+0.01 -> 3.02 | B11: काँडे तार १४ गेज हेभी कोटेड NS168 | C11: के.जी. | D11: 55 | E11: 82 | F11: 82 | G11: 86 | H11: 93 | I11: =H11 -> 93 | J11: =I11 -> 93 | K11: =J11 -> 93 | L11: =K11*1.2 -> 111.6 | M11: =L11 -> 111.6 | N11: =M11 -> 111.6 | O11: =N11*102.5% -> 114.39 | P11: =O11*102% -> 116.6778 | R11: 109 | U11: 110
A12: 4 | B12: विभिन्न साइजको किल्ला काँटी | C12: के.जी. | D12: 60 | E12: 89 | F12: 80 | G12: 82 | H12: 115 | I12: =H12 -> 115 | J12: =I12 -> 115 | K12: =J12 -> 115 | L12: =K12*1.2 -> 138 | M12: =L12 -> 138 | N12: =M12 -> 138 | O12: =N12 -> 138 | P12: =O12 -> 138
A13: 5 | B13: फलामे ग्रील/गेट/सटर आदी | R13: Nawalpur | U13: Rupandehi
A14: =A13+0.01 -> 5.01 | B14: कोल्याप्सिबल गेट (जडान र पेन्ट समेत) | C14: के.जी. | D14: 63 | E14: 100 | F14: 90 | G14: 100 | H14: 120 | I14: =H14 -> 120 | J14: =I14 -> 120 | K14: 125 | L14: =K14*1.2 -> 150 | M14: =L14 -> 150 | N14: =M14 -> 150 | O14: =N14 -> 150 | P14: =O14 -> 150 | R14: 132 | U14: 158
A15: =A14+0.01 -> 5.02 | B15: रोलिङ सटर (जडान र पेन्ट समेत) | C15: के.जी. | D15: 1600 | E15: 2100 | F15: 2700 | G15: 2850 | H15: 3250 | I15: =H15 -> 3250 | J15: =I15 -> 3250 | K15: 3400 | L15: =K15*1.2 -> 4080 | M15: =L15 -> 4080 | N15: =M15 -> 4080 | O15: =N15 -> 4080 | P15: =O15 -> 4080 | R15: 3575 | U15: 158
A16: =A15+0.01 -> 5.03 | B16: फलामे गेट (जडान र पेन्ट समेत) | C16: के.जी. | D16: 56 | E16: 95 | F16: 105 | G16: 110 | H16: 135 | I16: =H16 -> 135 | J16: =I16 -> 135 | K16: 145 | L16: =K16*1.2 -> 174 | M16: =L16 -> 174 | N16: =M16 -> 174 | O16: =N16 -> 174 | P16: =O16 -> 174
A17: =A16+0.01 -> 5.04 | B17: स्क्वायर पाइप गेट/रेलिङ जडान र पेन्ट समेत | C17: के.जी. | D17: 50 | E17: 100 | F17: 110 | G17: 115 | H17: 140 | I17: =H17 -> 140 | J17: =I17 -> 140 | K17: 145 | L17: =K17*1.2 -> 174 | M17: =L17 -> 174 | N17: =M17 -> 174 | O17: =N17 -> 174 | P17: =O17 -> 174
A18: =A17+0.01 -> 5.05 | B18: एमएस ब्ल्याक पाइपको तयारी ट्यूबुलर ट्रस | C18: के.जी. | H18: 135 | I18: =H18 -> 135 | J18: =I18 -> 135 | K18: 145 | L18: =K18*1.2 -> 174 | M18: =L18 -> 174 | N18: =M18 -> 174 | O18: =N18 -> 174 | P18: =O18 -> 174
A19: =A18+0.01 -> 5.06 | B19: फलामे ग्रील जडान समेत पाताको | C19: के.जी. | D19: 60 | E19: 100 | F19: 90 | G19: 100 | H19: 110 | I19: =H19 -> 110 | J19: =I19 -> 110 | K19: 115 | L19: =K19*1.2 -> 138 | M19: =L19 -> 138 | N19: =M19 -> 138 | O19: =N19 -> 138 | P19: =O19 -> 138 | R19: 121
A20: =A19+0.01 -> 5.07 | B20: फलामे ग्रील जडान समेत स्क्वायर रडको | C20: के.जी. | D20: 60 | E20: 100 | F20: 90 | G20: 100 | H20: 114 | I20: =H20 -> 114 | J20: =I20 -> 114 | K20: 120 | L20: =K20*1.2 -> 144 | M20: =L20 -> 144 | N20: =M20 -> 144 | O20: =N20 -> 144 | P20: =O20 -> 144
A21: =A20+0.01 -> 5.08 | B21: विभिन्न साइजको एमएस एङ्गल/एमएस च्यानल वेल्डिङ्ग समेत | C21: के.जी. | D21: 55 | E21: 70 | F21: 70 | G21: 73 | H21: 107 | I21: =H21 -> 107 | J21: =I21 -> 107 | K21: 110 | L21: =K21*1.2 -> 132 | M21: =L21 -> 132 | N21: =M21 -> 132 | O21: =N21 -> 132 | P21: =O21 -> 132
A22: =A21+0.01 -> 5.09 | B22: विभिन्न साइजको एमएस सीट | C22: के.जी. | H22: 95 | I22: =H22 -> 95 | J22: =I22 -> 95 | K22: 100 | L22: =K22*1.2 -> 120 | M22: =L22 -> 120 | N22: =M22 -> 120 | O22: =N22 -> 120 | P22: =O22 -> 120
A23: 6 | B23: जि.आइ. वायर (ग्याबियन, विभिन्न गेज ८,१०) | R23: Rup
A24: =A23+0.01 -> 6.01 | B24: हेभी कोटेड | C24: के.जी. | D24: 54 | E24: 82 | F24: 82 | G24: 83 | H24: 95 | I24: 104 | J24: =I24 -> 104 | K24: =J24 -> 104 | L24: =K24*1.2 -> 124.8 | M24: =L24 -> 124.8 | N24: =M24 -> 124.8 | O24: =N24 -> 124.8 | P24: =O24+1 -> 125.8 | R24: 125
A25: =A24+0.01 -> 6.02 | B25: मिडियम कोटेड | C25: के.जी. | D25: 53 | E25: 81 | F25: 81 | G25: 82 | H25: 92 | I25: 101 | J25: =I25 -> 101 | K25: =J25 -> 101 | L25: =K25*1.2 -> 121.2 | M25: =L25 -> 121.2 | N25: =M25 -> 121.2 | O25: =N25 -> 121.2 | P25: =O25+1 -> 122.2 | R25: 111
A26: =A25+0.01 -> 6.03 | B26: कमर्सियल | C26: के.जी. | D26: 51 | E26: 78 | F26: 78 | G26: 79 | H26: 87 | I26: 95 | J26: =I26 -> 95 | K26: =J26 -> 95 | L26: =K26*1.2 -> 114 | M26: =L26 -> 114 | N26: =M26 -> 114 | O26: =N26 -> 114 | P26: =O26+1 -> 115 | R26: 106
A27: 7 | B27: जि.आइ. वायर (ग्याबियन, १२ गेज)
A28: =A27+0.01 -> 7.01 | B28: हेभी कोटेड | C28: के.जी. | D28: 54 | E28: 82 | F28: 82 | G28: 83 | H28: 96 | I28: 104 | J28: =I28 -> 104 | K28: =J28 -> 104 | L28: =K28*1.2 -> 124.8 | M28: =L28 -> 124.8 | N28: =M28 -> 124.8 | O28: =N28 -> 124.8 | P28: =O28+1 -> 125.8
A29: =A28+0.01 -> 7.02 | B29: मिडियम कोटेड | C29: के.जी. | D29: 53 | E29: 81 | F29: 81 | G29: 82 | H29: 91 | I29: 100 | J29: =I29 -> 100 | K29: =J29 -> 100 | L29: =K29*1.2 -> 120 | M29: =L29 -> 120 | N29: =M29 -> 120 | O29: =N29 -> 120 | P29: =O29+1 -> 121
A30: =A29+0.01 -> 7.03 | B30: कमर्सियल | C30: के.जी. | D30: 51 | E30: 78 | F30: 78 | G30: 79 | H30: 87 | I30: 95 | J30: =I30 -> 95 | K30: =J30 -> 95 | L30: =K30*1.2 -> 114 | M30: =L30 -> 114 | N30: =M30 -> 114 | O30: =N30 -> 114 | P30: =O30+1 -> 115
A31: 8 | B31: Machinemade Ready Made Gabion Boxes (Factory Price)
A32: 8.1 | B32: एन.एस. १६३/१६९ अनुसारको हेभी जिङ्क कोटेड जि.आई. मेस तार ३.0 मि.मि., सेल्भेज तार ३.९ मि.मि., लेसिङ तार २.४ मि.मि. प्रयोग गरी डबल ट्विस्टेड हेक्सागनल मेस साइज १००X१२० मि.मि. को मेसिनबाट बुनेको ग्याबियन बक्स ( ढुवानी बाहेकको एक्स फेक्ट्री मुल्य) | R32: meccaferri | S32: फरक | T32: RUP with Transport | U32: फरक % | V32: Area | W32: Rs/Sqm | X32: Rs/Sqm
A33: 8.1.1 | B33: बक्स साइज 1.5x1x0.5 | C33: प्रति बक्सा | H33: 1557 | I33: 1712 | J33: =H33 -> 1557 | K33: =J33 -> 1557 | L33: =K33*1.15 -> 1790.55 | M33: =L33 -> 1790.55 | N33: =M33 -> 1790.55 | O33: =N33 -> 1790.55 | P33: =TRUNC(O33-125,0) -> 1665 | R33: 1566.18 | S33: =P33-R33 -> 98.82 | U33: =(R33-O33)/O33 -> -0.12530787 | V33: =2*1.5*(1.5+1+0.5) -> 9 | W33: =R33/V33 -> 174.02 | X33: 250 | Y33: Siddhartha
A34: 8.1.2 | B34: बक्स साइज 2x1x0.5 (एक डायफ्राम समेत) | C34: प्रति बक्सा | H34: 2118 | I34: 2329 | J34: =H34 -> 2118 | K34: =J34 -> 2118 | L34: =K34*1.15 -> 2435.7 | M34: =L34 -> 2435.7 | N34: =M34 -> 2435.7 | O34: =N34 -> 2435.7 | P34: =TRUNC(O34-125,0) -> 2310 | R34: 2130.05 | S34: =P34-R34 -> 179.95 | T34: 2382 | U34: =(R34-O34)/O34 -> -0.12548754 | V34: =2*2*(2+1+0.5) -> 14 | W34: =R34/V34 -> 152.14643
A35: 8.1.3 | B35: बक्स साइज ३x1x0.5 (दुई डायफ्राम समेत) | C35: प्रति बक्सा | H35: 3023 | I35: 3325 | J35: =H35 -> 3023 | K35: =J35 -> 3023 | L35: =K35*1.15 -> 3476.45 | M35: =L35 -> 3476.45 | N35: =M35 -> 3476.45 | O35: =N35 -> 3476.45 | P35: =TRUNC(O35-125,0) -> 3351 | R35: 3039.7 | S35: =P35-R35 -> 311.3 | T35: 3402 | U35: =(R35-O35)/O35 -> -0.12563103 | V35: =2*3*(3+1+0.5) -> 27 | W35: =R35/V35 -> 112.58148
A36: 8.1.4 | B36: बक्स साइज ४x1x0.5 (तीन डायफ्राम समेत) | C36: प्रति बक्सा | H36: 3817 | I36: 4198 | J36: =H36 -> 3817 | K36: =J36 -> 3817 | L36: =K36*1.15 -> 4389.55 | M36: =L36 -> 4389.55 | N36: =M36 -> 4389.55 | O36: =N36 -> 4389.55 | P36: =TRUNC(O36-125,0) -> 4264 | R36: 3836.35 | S36: =P36-R36 -> 427.65 | U36: =(R36-O36)/O36 -> -0.12602659 | V36: =2*4*(4+1+0.5) -> 44 | W36: =R36/V36 -> 87.189773
A37: 8.1.5 | B37: बक्स साइज 1.5x1x1 | C37: प्रति बक्सा | H37: 2263 | I37: 2489 | J37: =H37 -> 2263 | K37: =J37 -> 2263 | L37: =K37*1.15 -> 2602.45 | M37: =L37 -> 2602.45 | N37: =M37 -> 2602.45 | O37: =N37 -> 2602.45 | P37: =TRUNC(O37-125,0) -> 2477 | R37: 2275.82 | S37: =P37-R37 -> 201.18 | U37: =(R37-O37)/O37 -> -0.12550866 | V37: =2*1.5*(1.5+1+1) -> 10.5 | W37: =R37/V37 -> 216.74476
A38: 8.1.6 | B38: बक्स साइज २x1x१ (एक डायफ्राम समेत) | C38: प्रति बक्सा | H38: 3008 | I38: 3308 | J38: =H38 -> 3008 | K38: =J38 -> 3008 | L38: =K38*1.15 -> 3459.2 | M38: =L38 -> 3459.2 | N38: =M38 -> 3459.2 | O38: =N38 -> 3459.2 | P38: =TRUNC(O38-125,0) -> 3334 | R38: 3023.88 | S38: =P38-R38 -> 310.12 | T38: 3384 | U38: =(R38-O38)/O38 -> -0.12584413 | V38: =2*2*(2+1+1) -> 16 | W38: =R38/V38 -> 188.9925
A39: 8.1.7 | B39: बक्स साइज ३x1x१ (दुई डायफ्राम समेत) | C39: प्रति बक्सा | H39: 4269 | I39: 4695 | J39: =H39 -> 4269 | K39: =J39 -> 4269 | L39: =K39*1.15 -> 4909.35 | M39: =L39 -> 4909.35 | N39: =M39 -> 4909.35 | O39: =N39 -> 4909.35 | P39: =TRUNC(O39-125,0) -> 4784 | R39: 4291.74 | S39: =P39-R39 -> 492.26 | T39: 4800 | U39: =(R39-O39)/O39 -> -0.1258028 | V39: =2*3*(3+1+1) -> 30 | W39: =R39/V39 -> 143.058
A40: 8.1.8 | B40: बक्स साइज ४x1x१ (तीन डायफ्राम समेत) | C40: प्रति बक्सा | H40: 5497 | I40: 6046 | J40: =H40 -> 5497 | K40: =J40 -> 5497 | L40: =K40*1.15 -> 6321.55 | M40: =L40 -> 6321.55 | N40: =M40 -> 6321.55 | O40: =N40 -> 6321.55 | P40: =TRUNC(O40-125,0) -> 6196 | R40: 5526.83 | S40: =P40-R40 -> 669.17 | U40: =(R40-O40)/O40 -> -0.125716 | V40: =2*4*(4+1+1) -> 48 | W40: =R40/V40 -> 115.14229
A41: 8.1.9 | B41: बक्स साइज ३x२x0.5 (दुई डायफ्राम समेत) | C41: प्रति बक्सा | H41: 5622 | I41: 6184 | J41: =H41 -> 5622 | K41: =J41 -> 5622 | L41: =K41*1.15 -> 6465.3 | M41: =L41 -> 6465.3 | N41: =M41 -> 6465.3 | O41: =N41 -> 6465.3 | P41: =TRUNC(O41-125,0) -> 6340 | R41: 5655.65 | S41: =P41-R41 -> 684.35 | U41: =(R41-O41)/O41 -> -0.12523007 | V41: =2*3*(3+2+0.5) -> 33 | W41: =R41/V41 -> 171.38333
A42: 8.1.10 | B42: बक्स साइज ४x२x0.5 (तीन डायफ्राम समेत) | C42: प्रति बक्सा | H42: 7122 | I42: 7834 | J42: =H42 -> 7122 | K42: =J42 -> 7122 | L42: =K42*1.15 -> 8190.3 | M42: =L42 -> 8190.3 | N42: =M42 -> 8190.3 | O42: =N42 -> 8190.3 | P42: =TRUNC(O42-125,0) -> 8065 | S42: =P42-R42 -> 8065 | V42: =2*4*(4+2+0.5) -> 52 | W42: =R42/V42 -> 0
A43: 8.1.11 | B43: बक्स साइज ५x२x0.5 (चार डायफ्राम समेत) | C43: प्रति बक्सा | H43: 8815 | I43: 9696 | J43: =H43 -> 8815 | K43: =J43 -> 8815 | L43: =K43*1.15 -> 10137.25 | M43: =L43 -> 10137.25 | N43: =M43 -> 10137.25 | O43: =N43 -> 10137.25 | P43: =TRUNC(O43-125,0) -> 10012 | S43: =P43-R43 -> 10012 | V43: =2*5*(5+2+0.5) -> 75 | W43: =R43/V43 -> 0
A44: 8.1.12 | B44: बक्स साइज ३X२X१ (दुई डायफ्राम समेत) | C44: प्रति बक्सा | H44: 7734 | I44: 8507 | J44: =H44 -> 7734 | K44: =J44 -> 7734 | L44: =K44*1.15 -> 8894.1 | M44: =L44 -> 8894.1 | N44: =M44 -> 8894.1 | O44: =N44 -> 8894.1 | P44: =TRUNC(O44-125,0) -> 8769 | R44: 7780.05 | S44: =P44-R44 -> 988.95 | U44: =(R44-O44)/O44 -> -0.12525719 | V44: =2*3*(3+2+1) -> 36 | W44: =R44/V44 -> 216.1125
A45: 8.1.13 | B45: बक्स साइज ४X२X१ (तीन डायफ्राम समेत) | C45: प्रति बक्सा | H45: 9730 | I45: 10703 | J45: =H45 -> 9730 | K45: =J45 -> 9730 | L45: =K45*1.15 -> 11189.5 | M45: =L45 -> 11189.5 | N45: =M45 -> 11189.5 | O45: =N45 -> 11189.5 | P45: =TRUNC(O45-125,0) -> 11064 | S45: =P45-R45 -> 11064 | V45: =2*4*(4+2+1) -> 56 | W45: =R45/V45 -> 0
A46: 8.1.14 | B46: बक्स साइज ३X1.5X0.5 (दुई डायफ्राम समेत) | C46: प्रति बक्सा | H46: 4441 | I46: 4885 | J46: =H46 -> 4441 | K46: =J46 -> 4441 | L46: =K46*1.15 -> 5107.15 | M46: =L46 -> 5107.15 | N46: =M46 -> 5107.15 | O46: =N46 -> 5107.15 | P46: =TRUNC(O46-125,0) -> 4982 | R46: 4466.89 | S46: =P46-R46 -> 515.11 | T46: 4992 | U46: =(R46-O46)/O46 -> -0.12536542 | V46: =2*3*(3+1.5+0.5) -> 30 | W46: =R46/V46 -> 148.89633
A47: 8.1.15 | B47: बक्स साइज ४X1.5X0.5 (तीन डायफ्राम समेत) | C47: प्रति बक्सा | H47: 5622 | I47: 6184 | J47: =H47 -> 5622 | K47: =J47 -> 5622 | L47: =K47*1.15 -> 6465.3 | M47: =L47 -> 6465.3 | N47: =M47 -> 6465.3 | O47: =N47 -> 6465.3 | P47: =TRUNC(O47-125,0) -> 6340 | R47: 5655.65 | S47: =P47-R47 -> 684.35 | U47: =(R47-O47)/O47 -> -0.12523007 | V47: =2*4*(4+1.5+0.5) -> 48 | W47: =R47/V47 -> 117.82604
A48: 8.1.16 | B48: बक्स साइज ५X1.5X0.5 (चार डायफ्राम समेत) | C48: प्रति बक्सा | H48: 6969 | I48: 7665 | J48: =H48 -> 6969 | K48: =J48 -> 6969 | L48: =K48*1.15 -> 8014.35 | M48: =L48 -> 8014.35 | N48: =M48 -> 8014.35 | O48: =N48 -> 8014.35 | P48: =TRUNC(O48-125,0) -> 7889 | S48: =P48-R48 -> 7889 | V48: =2*5*(5+1.5+0.5) -> 70 | W48: =R48/V48 -> 0
A49: 8.1.17 | B49: बक्स साइज ३X1.5X1 (दुई डायफ्राम समेत) | C49: प्रति बक्सा | H49: 6254 | I49: 5798 | J49: =H49 -> 6254 | K49: =J49 -> 6254 | L49: =K49*1.15 -> 7192.1 | M49: =L49 -> 7192.1 | N49: =M49 -> 7192.1 | O49: =N49 -> 7192.1 | P49: =TRUNC(O49-125,0) -> 7067 | R49: 6290.71 | S49: =P49-R49 -> 776.29 | T49: 7032 | U49: =(R49-O49)/O49 -> -0.12533057 | V49: =2*3*(3+1.5+1) -> 33 | W49: =R49/V49 -> 190.62758
A50: 8.1.18 | B50: बक्स साइज ४X1.5X1 (तीन डायफ्राम समेत) | C50: प्रति बक्सा | H50: 7883 | I50: 8671 | J50: =H50 -> 7883 | K50: =J50 -> 7883 | L50: =K50*1.15 -> 9065.45 | M50: =L50 -> 9065.45 | N50: =M50 -> 9065.45 | O50: =N50 -> 9065.45 | P50: =TRUNC(O50-125,0) -> 8940 | R50: 7930.34 | S50: =P50-R50 -> 1009.66 | U50: =(R50-O50)/O50 -> -0.12521276 | V50: =2*4*(4+1.5+1) -> 52 | W50: =R50/V50 -> 152.50654
A51: 8.1.19 | B51: बक्स साइज ५X1.5X1 (चार डायफ्राम समेत) | C51: प्रति बक्सा | H51: 9747 | I51: 10721 | J51: =H51 -> 9747 | K51: =J51 -> 9747 | L51: =K51*1.15 -> 11209.05 | M51: =L51 -> 11209.05 | N51: =M51 -> 11209.05 | O51: =N51 -> 11209.05 | P51: =TRUNC(O51-125,0) -> 11084 | S51: =P51-R51 -> 11084 | V51: =2*5*(5+1.5+1) -> 75 | W51: =R51/V51 -> 0
A52: 8.2 | B52: एन.एस. १६३/१६९ अनुसारको हेभी जिङ्क कोटेड जि.आई. मेस तार २.७ मि.मि., सेल्भेज तार ३.४ मि.मि., लेसिङ तार २.२ मि.मि. प्रयोग गरी डबल ट्विस्टेड हेक्सागनल मेस साइज १००X१२० मि.मि. को मेसिनबाट बुनेको ग्याबियन बक्स ( ढुवानी बाहेकको एक्स फेक्ट्री मुल्य) | R52: Meccaferri | S52: फरक | T52: फरक %
A53: 8.2.1 | B53: बक्स साइज 1.5x1x0.5 | C53: प्रति बक्सा | H53: 1381 | I53: 1519 | J53: =H53 -> 1381 | K53: =J53 -> 1381 | L53: =K53*1.15 -> 1588.15 | M53: =L53 -> 1588.15 | N53: =M53 -> 1588.15 | O53: =N53 -> 1588.15 | P53: =TRUNC(O53-125,0) -> 1463 | R53: 1340.18 | S53: =P53-R53 -> 122.82 | T53: =(R53-O53)/O53 -> -0.15613764
A54: 8.2.2 | B54: बक्स साइज 2x1x0.5 (एक डायफ्राम समेत) | C54: प्रति बक्सा | H54: 1883 | I54: 2071 | J54: =H54 -> 1883 | K54: =J54 -> 1883 | L54: =K54*1.15 -> 2165.45 | M54: =L54 -> 2165.45 | N54: =M54 -> 2165.45 | O54: =N54 -> 2165.45 | P54: =TRUNC(O54-125,0) -> 2040 | R54: 1845.29 | S54: =P54-R54 -> 194.71 | T54: =(R54-O54)/O54 -> -0.14784918
A55: 8.2.3 | B55: बक्स साइज ३x1x0.5 (दुई डायफ्राम समेत) | C55: प्रति बक्सा | H55: 2703 | I55: 2973 | J55: =H55 -> 2703 | K55: =J55 -> 2703 | L55: =K55*1.15 -> 3108.45 | M55: =L55 -> 3108.45 | N55: =M55 -> 3108.45 | O55: =N55 -> 3108.45 | P55: =TRUNC(O55-125,0) -> 2983 | R55: 2614.82 | S55: =P55-R55 -> 368.18 | T55: =(R55-O55)/O55 -> -0.15880262
A56: 8.2.4 | B56: बक्स साइज ४x1x0.5 (तीन डायफ्राम समेत) | C56: प्रति बक्सा | H56: 3411 | I56: 3752 | J56: =H56 -> 3411 | K56: =J56 -> 3411 | L56: =K56*1.15 -> 3922.65 | M56: =L56 -> 3922.65 | N56: =M56 -> 3922.65 | O56: =N56 -> 3922.65 | P56: =TRUNC(O56-125,0) -> 3797 | R56: 3298.47 | S56: =P56-R56 -> 498.53 | T56: =(R56-O56)/O56 -> -0.15912202
A57: 8.2.5 | B57: बक्स साइज 1.5x1x1 | C57: प्रति बक्सा | H57: 2008 | I57: 2208 | J57: =H57 -> 2008 | K57: =J57 -> 2008 | L57: =K57*1.15 -> 2309.2 | M57: =L57 -> 2309.2 | N57: =M57 -> 2309.2 | O57: =N57 -> 2309.2 | P57: =TRUNC(O57-125,0) -> 2184 | R57: 1948.12 | S57: =P57-R57 -> 235.88 | T57: =(R57-O57)/O57 -> -0.15636584
A58: 8.2.6 | B58: बक्स साइज २x1x१ (एक डायफ्राम समेत) | C58: प्रति बक्सा | H58: 2703 | I58: 2973 | J58: =H58 -> 2703 | K58: =J58 -> 2703 | L58: =K58*1.15 -> 3108.45 | M58: =L58 -> 3108.45 | N58: =M58 -> 3108.45 | O58: =N58 -> 3108.45 | P58: =TRUNC(O58-125,0) -> 2983 | R58: 2614.82 | S58: =P58-R58 -> 368.18 | T58: =(R58-O58)/O58 -> -0.15880262
A59: 8.2.7 | B59: बक्स साइज ३x1x१ (दुई डायफ्राम समेत) | C59: प्रति बक्सा | H59: 3818 | I59: 4199 | J59: =H59 -> 3818 | K59: =J59 -> 3818 | L59: =K59*1.15 -> 4390.7 | M59: =L59 -> 4390.7 | N59: =M59 -> 4390.7 | O59: =N59 -> 4390.7 | P59: =TRUNC(O59-125,0) -> 4265 | R59: 3690.58 | S59: =P59-R59 -> 574.42 | T59: =(R59-O59)/O59 -> -0.15945521
A60: 8.2.8 | B60: बक्स साइज ४x1x१ (तीन डायफ्राम समेत) | C60: प्रति बक्सा | H60: 4807 | I60: 5287 | J60: =H60 -> 4807 | K60: =J60 -> 4807 | L60: =K60*1.15 -> 5528.05 | M60: =L60 -> 5528.05 | N60: =M60 -> 5528.05 | O60: =N60 -> 5528.05 | P60: =TRUNC(O60-125,0) -> 5403 | R60: 4647.69 | S60: =P60-R60 -> 755.31 | T60: =(R60-O60)/O60 -> -0.15925326
A61: 8.2.9 | B61: बक्स साइज ३x२x0.5 (दुई डायफ्राम समेत) | C61: प्रति बक्सा | H61: 4987 | I61: 5485 | J61: =H61 -> 4987 | K61: =J61 -> 4987 | L61: =K61*1.15 -> 5735.05 | M61: =L61 -> 5735.05 | N61: =M61 -> 5735.05 | O61: =N61 -> 5735.05 | P61: =TRUNC(O61-125,0) -> 5610 | R61: 4698.54 | S61: =P61-R61 -> 911.46 | T61: =(R61-O61)/O61 -> -0.18073251
A62: 8.2.10 | B62: बक्स साइज ४x२x0.5 (तीन डायफ्राम समेत) | C62: प्रति बक्सा | H62: 6276 | I62: 6903 | J62: =H62 -> 6276 | K62: =J62 -> 6276 | L62: =K62*1.15 -> 7217.4 | M62: =L62 -> 7217.4 | N62: =M62 -> 7217.4 | O62: =N62 -> 7217.4 | P62: =TRUNC(O62-125,0) -> 7092 | S62: =P62-R62 -> 7092
A63: 8.2.11 | B63: बक्स साइज ५x२x0.5 (चार डायफ्राम समेत) | C63: प्रति बक्सा | H63: 7781 | I63: 8559 | J63: =H63 -> 7781 | K63: =J63 -> 7781 | L63: =K63*1.15 -> 8948.15 | M63: =L63 -> 8948.15 | N63: =M63 -> 8948.15 | O63: =N63 -> 8948.15 | P63: =TRUNC(O63-125,0) -> 8823 | S63: =P63-R63 -> 8823
A64: 8.2.12 | B64: बक्स साइज ३X२X१ (दुई डायफ्राम समेत) | C64: प्रति बक्सा | H64: 6526 | I64: 7178 | J64: =H64 -> 6526 | K64: =J64 -> 6526 | L64: =K64*1.15 -> 7504.9 | M64: =L64 -> 7504.9 | N64: =M64 -> 7504.9 | O64: =N64 -> 7504.9 | P64: =TRUNC(O64-125,0) -> 7379 | R64: 6459.08 | S64: =P64-R64 -> 919.92 | T64: =(R64-O64)/O64 -> -0.13935162
A65: 8.2.13 | B65: बक्स साइज ४X२X१ (तीन डायफ्राम समेत) | C65: प्रति बक्सा | H65: 8534 | I65: 9387 | J65: =H65 -> 8534 | K65: =J65 -> 8534 | L65: =K65*1.15 -> 9814.1 | M65: =L65 -> 9814.1 | N65: =M65 -> 9814.1 | O65: =N65 -> 9814.1 | P65: =TRUNC(O65-125,0) -> 9689 | S65: =P65-R65 -> 9689
A66: 8.2.14 | B66: बक्स साइज ३X1.5X0.5 (दुई डायफ्राम समेत) | C66: प्रति बक्सा | H66: 3765 | I66: 4141 | J66: =H66 -> 3765 | K66: =J66 -> 3765 | L66: =K66*1.15 -> 4329.75 | M66: =L66 -> 4329.75 | N66: =M66 -> 4329.75 | O66: =N66 -> 4329.75 | P66: =TRUNC(O66-125,0) -> 4204 | R66: 3725.61 | S66: =P66-R66 -> 478.39 | T66: =(R66-O66)/O66 -> -0.13953231
A67: 8.2.15 | B67: बक्स साइज ४X1.5X0.5 (तीन डायफ्राम समेत) | C67: प्रति बक्सा | H67: 4957 | I67: 5452 | J67: =H67 -> 4957 | K67: =J67 -> 4957 | L67: =K67*1.15 -> 5700.55 | M67: =L67 -> 5700.55 | N67: =M67 -> 5700.55 | O67: =N67 -> 5700.55 | P67: =TRUNC(O67-125,0) -> 5575 | R67: 4698.54 | S67: =P67-R67 -> 876.46 | T67: =(R67-O67)/O67 -> -0.17577427
A68: 8.2.16 | B68: बक्स साइज ५X1.5X0.5 (चार डायफ्राम समेत) | C68: प्रति बक्सा | H68: 6150 | I68: 6765 | J68: =H68 -> 6150 | K68: =J68 -> 6150 | L68: =K68*1.15 -> 7072.5 | M68: =L68 -> 7072.5 | N68: =M68 -> 7072.5 | O68: =N68 -> 7072.5 | P68: =TRUNC(O68-125,0) -> 6947 | S68: =P68-R68 -> 6947
A69: 8.2.17 | B69: बक्स साइज ३X1.5X1 (दुई डायफ्राम समेत) | C69: प्रति बक्सा | H69: 5271 | I69: 5798 | J69: =H69 -> 5271 | K69: =J69 -> 5271 | L69: =K69*1.15 -> 6061.65 | M69: =L69 -> 6061.65 | N69: =M69 -> 6061.65 | O69: =N69 -> 6061.65 | P69: =TRUNC(O69-125,0) -> 5936 | R69: 5228.51 | S69: =P69-R69 -> 707.49 | T69: =(R69-O69)/O69 -> -0.13744443
A70: 8.2.18 | B70: बक्स साइज ४X1.5X1 (तीन डायफ्राम समेत) | C70: प्रति बक्सा | H70: 6903 | I70: 7593 | J70: =H70 -> 6903 | K70: =J70 -> 6903 | L70: =K70*1.15 -> 7938.45 | M70: =L70 -> 7938.45 | N70: =M70 -> 7938.45 | O70: =N70 -> 7938.45 | P70: =TRUNC(O70-125,0) -> 7813 | R70: 6578.86 | S70: =P70-R70 -> 1234.14 | T70: =(R70-O70)/O70 -> -0.17126643
A71: 8.2.19 | B71: बक्स साइज ५X1.5X1 (चार डायफ्राम समेत) | C71: प्रति बक्सा | H71: 8534 | I71: 9387 | J71: =H71 -> 8534 | K71: =J71 -> 8534 | L71: =K71*1.15 -> 9814.1 | M71: =L71 -> 9814.1 | N71: =M71 -> 9814.1 | O71: =N71 -> 9814.1 | P71: =TRUNC(O71-125,0) -> 9689 | S71: =P71-R71 -> 9689
A72: 8.3 | B72: एन.एस. १६३/१६९ अनुसारको हेभी जिङ्क कोटेड जि.आई. मेस तार २.७(ID)/३.७(OD) मि.मि., सेल्भेज तार ३.४(ID)/४.४(OD) मि.मि., लेसिङ तार २.२(ID)/३.२(OD) मि.मि. प्रयोग गरी डबल ट्विस्टेड हेक्सागनल मेस साइज १००X१२० मि.मि. को मेसिनबाट बुनेको ग्याबियन बक्स (पि.भि.सी कोटिङ सहित) ( ढुवानी बाहेकको एक्स फेक्ट्री मुल्य) | R72: Meccaferri
A73: 8.3.1 | B73: बक्स साइज 1.5x1x0.5 | C73: प्रति बक्सा | H73: 1662 | I73: 1828 | J73: =H73 -> 1662 | K73: =J73 -> 1662 | L73: =K73*1.15 -> 1911.3 | M73: =L73 -> 1911.3 | N73: =M73 -> 1911.3 | O73: =N73 -> 1911.3 | P73: =TRUNC(103%*O73,0) -> 1968 | R73: 1976.37 | T73: =R73+$W$53 -> 1976.37 | U73: =(R73-O73)/O73 -> 0.034044891
A74: 8.3.2 | B74: बक्स साइज 2x1x0.5 (एक डायफ्राम समेत) | C74: प्रति बक्सा | H74: 2266 | I74: 2492 | J74: =H74 -> 2266 | K74: =J74 -> 2266 | L74: =K74*1.15 -> 2605.9 | M74: =L74 -> 2605.9 | N74: =M74 -> 2605.9 | O74: =N74 -> 2605.9 | P74: =TRUNC(103%*O74,0) -> 2684 | R74: 2695.05 | T74: =R74+$W$53 -> 2695.05 | U74: =(R74-O74)/O74 -> 0.034210829
A75: 8.3.3 | B75: बक्स साइज ३x1x0.5 (दुई डायफ्राम समेत) | C75: प्रति बक्सा | H75: 3323 | I75: 3655 | J75: =H75 -> 3323 | K75: =J75 -> 3323 | L75: =K75*1.15 -> 3821.45 | M75: =L75 -> 3821.45 | N75: =M75 -> 3821.45 | O75: =N75 -> 3821.45 | P75: =TRUNC(103%*O75,0) -> 3936 | R75: 3952.74 | T75: =R75+$W$53 -> 3952.74 | U75: =(R75-O75)/O75 -> 0.034356069
A76: 8.3.4 | B76: बक्स साइज ४x1x0.5 (तीन डायफ्राम समेत) | C76: प्रति बक्सा | H76: 4380 | I76: 4818 | J76: =H76 -> 4380 | K76: =J76 -> 4380 | L76: =K76*1.15 -> 5037 | M76: =L76 -> 5037 | N76: =M76 -> 5037 | O76: =N76 -> 5037 | P76: =TRUNC(103%*O76,0) -> 5188 | R76: 5210.43 | T76: =R76+$W$53 -> 5210.43 | U76: =(R76-O76)/O76 -> 0.034431209
A77: 8.3.5 | B77: बक्स साइज 1.5x1x1 | C77: प्रति बक्सा | H77: 2417 | I77: 2658 | J77: =H77 -> 2417 | K77: =J77 -> 2417 | L77: =K77*1.15 -> 2779.55 | M77: =L77 -> 2779.55 | N77: =M77 -> 2779.55 | O77: =N77 -> 2779.55 | P77: =TRUNC(103%*O77,0) -> 2862 | R77: 2874.72 | T77: =R77+$W$53 -> 2874.72 | U77: =(R77-O77)/O77 -> 0.034239355
A78: 8.3.6 | B78: बक्स साइज २x1x१ (एक डायफ्राम समेत) | C78: प्रति बक्सा | H78: 3323 | I78: 3655 | J78: =H78 -> 3323 | K78: =J78 -> 3323 | L78: =K78*1.15 -> 3821.45 | M78: =L78 -> 3821.45 | N78: =M78 -> 3821.45 | O78: =N78 -> 3821.45 | P78: =TRUNC(103%*O78,0) -> 3936 | R78: 3952.74 | T78: =R78+$W$53 -> 3952.74 | U78: =(R78-O78)/O78 -> 0.034356069
A79: 8.3.7 | B79: बक्स साइज ३x1x१ (दुई डायफ्राम समेत) | C79: प्रति बक्सा | H79: 4834 | I79: 5317 | J79: =H79 -> 4834 | K79: =J79 -> 4834 | L79: =K79*1.15 -> 5559.1 | M79: =L79 -> 5559.1 | N79: =M79 -> 5559.1 | O79: =N79 -> 5559.1 | P79: =TRUNC(103%*O79,0) -> 5725 | R79: 5749.44 | T79: =R79+$W$53 -> 5749.44 | U79: =(R79-O79)/O79 -> 0.034239355
A80: 8.3.8 | B80: बक्स साइज ४x1x१ (तीन डायफ्राम समेत) | C80: प्रति बक्सा | H80: 6344 | I80: 6978 | J80: =H80 -> 6344 | K80: =J80 -> 6344 | L80: =K80*1.15 -> 7295.6 | M80: =L80 -> 7295.6 | N80: =M80 -> 7295.6 | O80: =N80 -> 7295.6 | P80: =TRUNC(103%*O80,0) -> 7514 | R80: 7546.14 | T80: =R80+$W$53 -> 7546.14 | U80: =(R80-O80)/O80 -> 0.034341247
A81: 8.3.9 | B81: बक्स साइज ३x२x0.5 (दुई डायफ्राम समेत) | C81: प्रति बक्सा | H81: 5740 | I81: 6314 | J81: =H81 -> 5740 | K81: =J81 -> 5740 | L81: =K81*1.15 -> 6601 | M81: =L81 -> 6601 | N81: =M81 -> 6601 | O81: =N81 -> 6601 | P81: =TRUNC(103%*O81,0) -> 6799 | R81: 6827.46 | T81: =R81+$W$53 -> 6827.46 | U81: =(R81-O81)/O81 -> 0.034306923
A82: 8.3.10 | B82: बक्स साइज ४x२x0.5 (तीन डायफ्राम समेत) | C82: प्रति बक्सा | H82: 7553 | I82: 8308 | J82: =H82 -> 7553 | K82: =J82 -> 7553 | L82: =K82*1.15 -> 8685.95 | M82: =L82 -> 8685.95 | N82: =M82 -> 8685.95 | O82: =N82 -> 8685.95 | P82: =TRUNC(103%*O82,0) -> 8946 | T82: =R82+$W$53 -> 0 | U82: =(R82-O82)/O82 -> -1
A83: 8.3.11 | B83: बक्स साइज ५x२x0.5 (चार डायफ्राम समेत) | C83: प्रति बक्सा | H83: 9365 | I83: 10302 | J83: =H83 -> 9365 | K83: =J83 -> 9365 | L83: =K83*1.15 -> 10769.75 | M83: =L83 -> 10769.75 | N83: =M83 -> 10769.75 | O83: =N83 -> 10769.75 | P83: =TRUNC(103%*O83,0) -> 11092 | T83: =R83+$W$53 -> 0 | U83: =(R83-O83)/O83 -> -1
A84: 8.3.12 | B84: बक्स साइज ३X२X१ (दुई डायफ्राम समेत) | C84: प्रति बक्सा | H84: 7855 | I84: 8640 | J84: =H84 -> 7855 | K84: =J84 -> 7855 | L84: =K84*1.15 -> 9033.25 | M84: =L84 -> 9033.25 | N84: =M84 -> 9033.25 | O84: =N84 -> 9033.25 | P84: =TRUNC(103%*O84,0) -> 9304 | R84: 9342.84 | T84: =R84+$W$53 -> 9342.84 | U84: =(R84-O84)/O84 -> 0.034272272
A85: 8.3.13 | B85: बक्स साइज ४X२X१ (तीन डायफ्राम समेत) | C85: प्रति बक्सा | H85: 10271 | I85: 11298 | J85: =H85 -> 10271 | K85: =J85 -> 10271 | L85: =K85*1.15 -> 11811.65 | M85: =L85 -> 11811.65 | N85: =M85 -> 11811.65 | O85: =N85 -> 11811.65 | P85: =TRUNC(103%*O85,0) -> 12165 | T85: =R85+$W$53 -> 0 | U85: =(R85-O85)/O85 -> -1
A86: 8.3.14 | B86: बक्स साइज ३X1.5X0.5 (दुई डायफ्राम समेत) | C86: प्रति बक्सा | H86: 4532 | I86: 4985 | J86: =H86 -> 4532 | K86: =J86 -> 4532 | L86: =K86*1.15 -> 5211.8 | M86: =L86 -> 5211.8 | N86: =M86 -> 5211.8 | O86: =N86 -> 5211.8 | P86: =TRUNC(103%*O86,0) -> 5368 | R86: 5390.1 | T86: =R86+$W$53 -> 5390.1 | U86: =(R86-O86)/O86 -> 0.034210829
A87: 8.3.15 | B87: बक्स साइज ४X1.5X0.5 (तीन डायफ्राम समेत) | C87: प्रति बक्सा | H87: 5967 | I87: 6563 | J87: =H87 -> 5967 | K87: =J87 -> 5967 | L87: =K87*1.15 -> 6862.05 | M87: =L87 -> 6862.05 | N87: =M87 -> 6862.05 | O87: =N87 -> 6862.05 | P87: =TRUNC(103%*O87,0) -> 7067 | R87: 7097.53 | T87: =R87+$W$53 -> 7097.53 | U87: =(R87-O87)/O87 -> 0.034316276
A88: 8.3.16 | B88: बक्स साइज ५X1.5X0.5 (चार डायफ्राम समेत) | C88: प्रति बक्सा | H88: 7401 | I88: 8141 | J88: =H88 -> 7401 | K88: =J88 -> 7401 | L88: =K88*1.15 -> 8511.15 | M88: =L88 -> 8511.15 | N88: =M88 -> 8511.15 | O88: =N88 -> 8511.15 | P88: =TRUNC(103%*O88,0) -> 8766 | T88: =R88+$W$53 -> 0 | U88: =(R88-O88)/O88 -> -1
A89: 8.3.17 | B89: बक्स साइज ३X1.5X1 (दुई डायफ्राम समेत) | C89: प्रति बक्सा | H89: 6344 | I89: 6978 | J89: =H89 -> 6344 | K89: =J89 -> 6344 | L89: =K89*1.15 -> 7295.6 | M89: =L89 -> 7295.6 | N89: =M89 -> 7295.6 | O89: =N89 -> 7295.6 | P89: =TRUNC(103%*O89,0) -> 7514 | R89: 7546.14 | T89: =R89+$W$53 -> 7546.14 | U89: =(R89-O89)/O89 -> 0.034341247
A90: 8.3.18 | B90: बक्स साइज ४X1.5X1 (तीन डायफ्राम समेत) | C90: प्रति बक्सा | H90: 8308 | I90: 9138 | J90: =H90 -> 8308 | K90: =J90 -> 8308 | L90: =K90*1.15 -> 9554.2 | M90: =L90 -> 9554.2 | N90: =M90 -> 9554.2 | O90: =N90 -> 9554.2 | P90: =TRUNC(103%*O90,0) -> 9840 | R90: 9881.84 | T90: =R90+$W$53 -> 9881.84 | U90: =(R90-O90)/O90 -> 0.034292772
A91: 8.3.19 | B91: बक्स साइज ५X1.5X1 (चार डायफ्राम समेत) | C91: प्रति बक्सा | H91: 10271 | I91: 11298 | J91: =H91 -> 10271 | K91: =J91 -> 10271 | L91: =K91*1.15 -> 11811.65 | M91: =L91 -> 11811.65 | N91: =M91 -> 11811.65 | O91: =N91 -> 11811.65 | P91: =TRUNC(103%*O91,0) -> 12165 | T91: =R91+$W$53 -> 0 | U91: =(R91-O91)/O91 -> -1
A92: 8.4 | B92: Sack Gabions/Cylindrical Gabions | H92: 10271 | I92: 11298 | J92: =H92 -> 10271 | K92: =J92 -> 10271
A93: 8.4.1 | B93: एन.एस. १६३/१६९ अनुसारको हेभी जिङ्क कोटेड जि.आई. मेस तार ३.0 मि.मि., सेल्भेज तार ३.९ मि.मि., लेसिङ तार २.४ मि.मि. प्रयोग गरी डबल ट्विस्टेड हेक्सागनल मेस साइज १००X१२० मि.मि. को मेसिनबाट बुनेको ग्याबियन बक्स ( ढुवानी बाहेकको एक्स फेक्ट्री मुल्य)
B94: 1.5m*0.74m (0.74m dia) | C94: प्रति बक्सा | H94: 1630 | I94: 1793 | J94: =H94 -> 1630 | K94: =J94 -> 1630 | L94: =K94*1.15 -> 1874.5 | M94: =L94 -> 1874.5 | N94: =M94 -> 1874.5 | O94: =N94 -> 1874.5 | P94: =103.41%*O94 -> 1938.4204 | R94: 2110.68 | U94: =(R94-O94)/O94 -> 0.12599627
A95: 8.4.2 | B95: एन.एस. १६३/१६९ अनुसारको हेभी जिङ्क कोटेड जि.आई. मेस तार २.७ मि.मि., सेल्भेज तार ३.४ मि.मि., लेसिङ तार २.२ मि.मि. प्रयोग गरी डबल ट्विस्टेड हेक्सागनल मेस साइज १००X१२० मि.मि. को मेसिनबाट बुनेको ग्याबियन बक्स ( ढुवानी बाहेकको एक्स फेक्ट्री मुल्य)
B96: 1.5m*0.74m (0.74m dia) | C96: प्रति बक्सा | H96: 1374 | I96: 1511 | J96: =H96 -> 1374 | K96: =J96 -> 1374 | L96: =K96*1.15 -> 1580.1 | M96: =L96 -> 1580.1 | N96: =M96 -> 1580.1 | O96: =N96 -> 1580.1 | P96: =103.41%*O96 -> 1633.9814 | R96: 1633.98 | U96: =(R96-O96)/O96 -> 0.034099108
A97: 8.4.3 | B97: एन.एस. १६३/१६९ अनुसारको हेभी जिङ्क कोटेड जि.आई. मेस तार २.७(ID)/३.७(OD) मि.मि., सेल्भेज तार ३.४(ID)/४.४(OD) मि.मि., लेसिङ तार २.२(ID)/३.२(OD) मि.मि. प्रयोग गरी डबल ट्विस्टेड हेक्सागनल मेस साइज १००X१२० मि.मि. को मेसिनबाट बुनेको ग्याबियन बक्स (पि.भि.सी कोटिङ सहित) ( ढुवानी बाहेकको एक्स फेक्ट्री मुल्य)
B98: 1.5m*0.74m (0.74m dia) | C98: प्रति बक्सा | H98: 1740 | I98: 1914 | J98: =H98 -> 1740 | K98: =J98 -> 1740 | L98: =K98*1.15 -> 2001 | M98: =L98 -> 2001 | N98: =M98 -> 2001 | O98: =N98 -> 2001 | P98: =103.41%*O98 -> 2069.2341 | R98: 2070.16 | U98: =(R98-O98)/O98 -> 0.034562719
A99: 2=3=13 | B99: tf/hfnL | C99: a=dL | H99: 245 | I99: =H99 -> 245 | J99: =H99 -> 245 | K99: =J99 -> 245 | L99: =K99*1.15 -> 281.75 | M99: =L99 -> 281.75 | N99: =M99 -> 281.75
A100: 8.5 | B100: Heavy Coated Gabion Wire chain link (fencing) With: | R100: Nawalpur | U100: Rupandehi
...

Sheet Sadak
A1: 5. सडक तथा पुल निर्माणमा प्रयोग हुने निर्माण सामाग्री
A2: qm=;+= | B2: lgdf{)f ;fdu|Lsf] ljj/)f | C2: OsfO{ | D2: cf=a= 062÷063 | E2: cf=a= 2066÷67 | F2: cf=a= 2067÷68 | G2: cf=a= 2068÷69 | H2: cf=a= 2074÷75 | I2: cf=a= 2075÷76 | J2: cf=a= 2076÷77 sf] :jLs[t b/ /]^ | K2: cf=a= 2077÷78 sf] :jLs[t b/ /]^ | L2: cf=a= 2078÷79 sf] :jLs[t b/ /]^ | M2: cf=a= 2079÷80 sf] :jLs[t b/ /]^ | N2: cf=a= 2080÷81 sf] :jLs[t b/ /]^ | O2: आ.व. २०८१/०८२ को दररेट | P2: आ.व. २०८२/०८३ को दररेट | Q2: =Falamjanya!P2 -> आ.व. २०८३/०८४ को दररेट | R2: s}lkmot | S2: Nepal B&B | U2: Harsit Exims | W2: Kathmandu | X2: Rupandehi | Y2: Kapilvastu | Z2: % Diff wrt Kath | AA2: % diff wrt Rup
A3: 1 | B3: विटूमिन | S3: 82/83 | T3: 83/84 | U3: 82/83 | V3: 83/84
A4: 1.1 | B4: विटूमिन ८०/१०० ग्रेड VG-10 | C4: के.जी. | H4: 65.4 | I4: 70.1 | J4: 73 | K4: =J4 -> 73 | L4: 75 | M4: =L4*1.2 -> 90 | N4: 95 | O4: =N4 -> 95 | P4: =ROUND(102.67%*X4,0) -> 99 | Q4: नेपाल बिटुमिन तथा ब्यारेल उद्योग लिमिटेडले निर्धारण गरे बमोजिम | S4: 108.4 | T4: 147.8 | U4: 102 | W4: 108 | X4: 96 | Y4: 99 | Z4: =(W4-O4)/O4 -> 0.13684211 | AA4: =(X4-O4)/O4 -> 0.010526316
A5: 1.2 | B5: विटूमिन 60/70 ग्रेड VG-30 | C5: के.जी. | I5: 70.1 | J5: 73 | K5: =J5 -> 73 | L5: 75 | M5: =L5*1.2 -> 90 | N5: 95 | O5: 98 | P5: =ROUND(102.67%*X5,0) -> 101 | S5: 110.7 | T5: 151.8 | U5: 103 | W5: 110 | X5: 98 | Y5: 100 | Z5: =(W5-O5)/O5 -> 0.12244898 | AA5: =(X5-O5)/O5 -> 0
A6: 1.3 | B6: रबर बेस बिटूमिन (CRMB-DIGO 50) | C6: के.जी. | I6: 70.1 | J6: =I6 -> 70.1 | K6: =J6 -> 70.1 | L6: =K6 -> 70.1 | M6: =L6*1.2 -> 84.12 | N6: 90 | O6: =N6 -> 90 | P6: =ROUND(102.67%*O6,0) -> 92 | S6: 2.67% increase | Z6: =(W6-O6)/O6 -> -1 | AA6: =(X6-O6)/O6 -> -1
A7: 1.4 | B7: रबर बेस बिटूमिन (CRMB-DIGO 55) | C7: के.जी. | H7: 70.7 | I7: 70.7 | J7: =I7 -> 70.7 | K7: =J7 -> 70.7 | L7: =K7 -> 70.7 | M7: =L7*1.2 -> 84.84 | N7: 90 | O7: =N7 -> 90 | P7: =ROUND(102.67%*O7,0) -> 92 | S7: 2.67% increase | W7: 59 | Z7: =(W7-O7)/O7 -> -0.34444444 | AA7: =(X7-O7)/O7 -> -1
A8: 1.5 | B8: पोलिमर बेस बिटूमिन (PMB-40) | C8: के.जी. | I8: 87 | J8: =I8 -> 87 | K8: =J8 -> 87 | L8: =K8 -> 87 | M8: =L8*1.2 -> 104.4 | N8: 110 | O8: =N8 -> 110 | P8: =ROUND(102.67%*O8,0) -> 113 | S8: 2.67% increase | W8: 125 | Z8: =(W8-O8)/O8 -> 0.13636364 | AA8: =(X8-O8)/O8 -> -1
A9: 2 | B9: विटूमिन इमल्सन | S9: Nepal B&B | U9: Harsit Exims | W9: Kathmandu | X9: Rupandehi
A10: 2.1 | B10: छिटो जम्ने ६०% विटूमिन | C10: के.जी. | H10: 60.8 | I10: 63.3 | J10: =I10 -> 63.3 | K10: =J10 -> 63.3 | L10: =K10 -> 63.3 | M10: =L10*1.2 -> 75.96 | N10: 80 | O10: =N10 -> 80 | P10: =W10 -> 89 | Q10: नेपाल बिटुमिन तथा ब्यारेल उद्योग लिमिटेडले निर्धारण गरे बमोजिम | S10: 98.9 | T10: 132.3 | U10: 98 | W10: 89 | Y10: 102 | Z10: =(W10-O10)/O10 -> 0.1125 | AA10: =(X10-O10)/O10 -> -1
A11: 2.2 | B11: छिटो जम्ने ६५% विटूमिन | C11: के.जी. | H11: 64.6 | I11: 62.2 | J11: =I11 -> 62.2 | K11: =J11 -> 62.2 | L11: =K11 -> 62.2 | M11: =L11*1.2 -> 74.64 | N11: 80 | O11: =N11 -> 80 | P11: =W11 -> 94 | S11: 104.8 | T11: 140.8 | U11: 98 | W11: 94 | Y11: 108 | Z11: =(W11-O11)/O11 -> 0.175 | AA11: =(X11-O11)/O11 -> -1
A12: 2.3 | B12: छिटो जम्ने ७०% विटूमिन | C12: के.जी. | H12: 68.3 | I12: 71.1 | J12: =I12 -> 71.1 | K12: =J12 -> 71.1 | L12: =K12 -> 71.1 | M12: =L12*1.2 -> 85.32 | N12: 90 | O12: =N12 -> 90 | P12: =W12 -> 99 | S12: 110.6 | T12: 149.3 | U12: 98 | W12: 99 | Y12: 115 | Z12: =(W12-O12)/O12 -> 0.1 | AA12: =(X12-O12)/O12 -> -1
A13: 2.4 | B13: मध्यम जम्ने ६०% विटूमिन | C13: के.जी. | H13: 61.6 | I13: 64.1 | J13: =I13 -> 64.1 | K13: =J13 -> 64.1 | L13: =K13 -> 64.1 | M13: =L13*1.2 -> 76.92 | N13: 80 | O13: =N13 -> 80 | P13: =W13 -> 90 | S13: 100 | T13: 133.5 | U13: 97 | W13: 90 | Y13: 103 | Z13: =(W13-O13)/O13 -> 0.125 | AA13: =(X13-O13)/O13 -> -1
A14: 2.5 | B14: मध्यम जम्ने ६५% विटूमिन | C14: के.जी. | H14: 66.3 | I14: 68.1 | J14: =I14 -> 68.1 | K14: =J14 -> 68.1 | L14: =K14 -> 68.1 | M14: =L14*1.2 -> 81.72 | N14: 85 | O14: =N14 -> 85 | P14: =W14 -> 94 | S14: 112.3 | T14: 140.34 | U14: 97 | W14: 94 | X14: 97 | Y14: 109 | Z14: =(W14-O14)/O14 -> 0.10588235 | AA14: =(X14-O14)/O14 -> 0.14117647
A15: 2.6 | B15: ढिलो जम्ने ६०% विटूमिन | C15: के.जी. | H15: 62.7 | I15: 65.3 | J15: =I15 -> 65.3 | K15: =J15 -> 65.3 | L15: =K15 -> 65.3 | M15: =L15*1.2 -> 78.36 | N15: 82 | O15: =N15 -> 82 | P15: =W15 -> 91 | S15: 101.6 | T15: 135 | U15: 96 | W15: 91 | Y15: 105 | Z15: =(W15-O15)/O15 -> 0.1097561 | AA15: =(X15-O15)/O15 -> -1
A16: 3 | B16: स्लरी सिल ६०% विटूमिन | C16: के.जी. | H16: 69.4 | I16: 70.4 | J16: =I16 -> 70.4 | K16: =J16 -> 70.4 | L16: =K16 -> 70.4 | M16: =L16*1.2 -> 84.48 | N16: 88 | O16: =N16 -> 88 | P16: =W16 -> 98 | S16: 105.7 | T16: 139.1 | W16: 98 | Y16: 108 | Z16: =(W16-O16)/O16 -> 0.11363636 | AA16: =(X16-O16)/O16 -> -1
A17: 4 | B17: Antistripping Agent (Liquid)
A18: 4.1 | B18: Anstrip' | C18: के.जी. | H18: 310 | I18: 320 | J18: =I18 -> 320 | K18: =J18 -> 320 | L18: =K18 -> 320 | M18: =L18*1.2 -> 384 | N18: =M18 -> 384 | O18: =N18 -> 384 | P18: 400 | Q18: 450 | S18: 560 | T18: 700 | U18: 400 | W18: 370 | X18: 465 | Y18: 510 | Z18: =(W18-O18)/O18 -> -0.036458333 | AA18: =(X18-O18)/O18 -> 0.2109375
A19: 5 | B19: ईन्धन जन्य सामाग्री
A20: 5.1 | B20: डिजेल, पेट्रोल, मट्टीतेल | C20: लि. | N20: नेपाल आयल निगमको दररेट अनुसार
A21: 5.2 | B21: लुब्रिकेन्ट | C21: लि. | P21: 774 | Q21: =P21 -> 774 | S21: दाङ्गबाट साभार
A22: 5.3 | B22: ग्रिज | C22: के.जी. | P22: 659 | Q22: =P22 -> 659 | S22: दाङ्गबाट साभार
A23: 5.4 | B23: हाइड्रलिक आयल, गेयर आयल, ब्रेक आयल | C23: लि. | P23: 672 | Q23: =P23 -> 672 | S23: दाङ्गबाट साभार | V23: increment rate 4.04% as per WPI
A24: 6 | B24: ह्यूम पाइप | S24: Bhairav | T24: Mk Industries | U24: Rupandehi | V24: % Increment | W24: % Increase wrt Last Year
A25: 6.1 | B25: 15cm ø (NP3 Class) | C25: र.मि. | D25: 1392 | G25: 1660 | H25: 1415 | I25: 1415 | J25: =I25 -> 1415 | K25: =J25 -> 1415 | L25: 1500 | M25: =L25*1.1 -> 1650 | N25: =M25 -> 1650 | O25: =N25 -> 1650 | P25: =O25 -> 1650 | Q25: =P25 -> 1650 | S25: 2500 | T25: 2550 | U25: 2321 | V25: =(Q25-P25) -> 0 | W25: =(Q25-P25)/P25 -> 0
A26: 6.2 | B26: 20cm ø (NP3 Class) | C26: र.मि. | D26: 1392 | G26: 1660 | H26: 1890 | I26: 1890 | J26: =I26 -> 1890 | K26: =J26 -> 1890 | L26: 1950 | M26: =L26*1.1 -> 2145 | N26: =M26 -> 2145 | O26: =N26 -> 2145 | P26: =O26 -> 2145 | Q26: =P26 -> 2145 | S26: 3200 | T26: 3240 | U26: 2861 | V26: =TRUNC(105%*U26,0) -> 3004 | W26: =(Q26-P26)/P26 -> 0
A27: 6.3 | B27: 25cm ø (NP3 Class) | C27: र.मि. | H27: 2365 | I27: 2365 | J27: =I27 -> 2365 | K27: =J27 -> 2365 | L27: 2450 | M27: =L27*1.1 -> 2695 | N27: =M27 -> 2695 | O27: =N27 -> 2695 | P27: =O27 -> 2695 | Q27: =P27 -> 2695 | S27: 3650 | T27: 3680 | U27: 3476 | V27: =TRUNC(105%*U27,0) -> 3649 | W27: =(Q27-P27)/P27 -> 0
A28: 6.4 | B28: 30 cm ø (NP3 Class) | C28: र.मि. | D28: 1392 | E28: 2045 | F28: 2150 | G28: 2260 | H28: 3415 | I28: 3415 | J28: =I28 -> 3415 | K28: =J28 -> 3415 | L28: 3550 | M28: =L28*1.1 -> 3905 | N28: =M28 -> 3905 | O28: =N28 -> 3905 | P28: =O28 -> 3905 | Q28: =P28 -> 3905 | S28: 4400 | T28: 4450 | U28: 3953 | V28: =TRUNC(105%*U28,0) -> 4150 | W28: =(Q28-P28)/P28 -> 0
A29: 6.5 | B29: 40 cm ø (NP3 Class) | C29: र.मि. | D29: 1569 | E29: 2615 | F29: 2750 | G29: 2890 | H29: 4570 | I29: 4570 | J29: =I29 -> 4570 | K29: =J29 -> 4570 | L29: 4800 | M29: =L29*1.1 -> 5280 | N29: =M29 -> 5280 | O29: =N29 -> 5280 | P29: =O29 -> 5280 | Q29: =P29 -> 5280 | S29: 5400 | T29: 5440 | U29: 5045 | V29: =TRUNC(105%*U29,0) -> 5297 | W29: =(Q29-P29)/P29 -> 0
A30: 6.6 | B30: 45 cm ø (NP3 Class) | C30: र.मि. | D30: 1711 | E30: 3000 | F30: 3150 | G30: 3310 | H30: 4895 | I30: 4895 | J30: =I30 -> 4895 | K30: =J30 -> 4895 | L30: 5000 | M30: =L30*1.1 -> 5500 | N30: =M30 -> 5500 | O30: =N30 -> 5500 | P30: =O30 -> 5500 | Q30: =P30 -> 5500 | S30: 6200 | T30: 6240 | U30: 5796 | V30: =TRUNC(105%*U30,0) -> 6085 | W30: =(Q30-P30)/P30 -> 0
A31: 6.7 | B31: 50 cm ø (NP3 Class) | C31: र.मि. | D31: 2012 | E31: 3360 | F31: 3530 | G31: 3710 | H31: 5460 | I31: 5460 | J31: =I31 -> 5460 | K31: =J31 -> 5460 | L31: 5600 | M31: =L31*1.1 -> 6160 | N31: =M31 -> 6160 | O31: =N31 -> 6160 | P31: =O31 -> 6160 | Q31: =P31 -> 6160 | S31: 7200 | T31: 7250 | U31: 6473 | V31: =TRUNC(105%*U31,0) -> 6796 | W31: =(Q31-P31)/P31 -> 0
A32: 6.8 | B32: 60 cm ø (NP3 Class) | C32: र.मि. | D32: 2340 | E32: 4000 | F32: 4200 | G32: 4420 | H32: 6755 | I32: 6755 | J32: =I32 -> 6755 | K32: =J32 -> 6755 | L32: 6850 | M32: =L32*1.1 -> 7535 | N32: =M32 -> 7535 | O32: =N32 -> 7535 | P32: =O32 -> 7535 | Q32: =P32 -> 7535 | S32: 8200 | T32: 8240 | U32: 7770 | V32: =TRUNC(105%*U32,0) -> 8158 | W32: =(Q32-P32)/P32 -> 0
A33: 6.9 | B33: 75 cm ø (NP3 Class) | C33: र.मि. | D33: 3289 | E33: 5800 | F33: 6090 | G33: 6400 | H33: 9240 | I33: 9240 | J33: =I33 -> 9240 | K33: =J33 -> 9240 | L33: 9500 | M33: =L33*1.1 -> 10450 | N33: =M33 -> 10450 | O33: =N33 -> 10450 | P33: =O33 -> 10450 | Q33: =P33 -> 10450 | S33: 12000 | T33: 12040 | U33: 11177 | V33: =TRUNC(105%*U33,0) -> 11735 | W33: =(Q33-P33)/P33 -> 0
A34: 6.1 | B34: 90 cm ø (NP3 Class) | C34: र.मि. | D34: 4376 | E34: 7350 | F34: 7700 | G34: 8110 | H34: 12240 | I34: 12240 | J34: =I34 -> 12240 | K34: =J34 -> 12240 | L34: 12400 | M34: =L34*1.1 -> 13640 | N34: =M34 -> 13640 | O34: =N34 -> 13640 | P34: =O34 -> 13640 | Q34: =P34 -> 13640 | S34: 16200 | T34: 16250 | U34: 14338 | V34: =TRUNC(105%*U34,0) -> 15054 | W34: =(Q34-P34)/P34 -> 0
A35: 6.11 | B35: 100 cm ø (NP3 Class) | C35: र.मि. | D35: 4933 | E35: 8150 | F35: 8800 | G35: 9000 | H35: 13165 | I35: 13165 | J35: =I35 -> 13165 | K35: =J35 -> 13165 | L35: 13400 | M35: =L35*1.1 -> 14740 | N35: =M35 -> 14740 | O35: =N35 -> 14740 | P35: =O35 -> 14740 | Q35: =P35 -> 14740 | S35: 16400 | T35: 16470 | U35: 15808 | V35: =TRUNC(105%*U35,0) -> 16598 | W35: =(Q35-P35)/P35 -> 0
A36: 6.12 | B36: 120 cm ø (NP3 Class) | C36: र.मि. | E36: 9560 | F36: 10000 | G36: 10560 | H36: 16120 | I36: 16120 | J36: =I36 -> 16120 | K36: =J36 -> 16120 | L36: 16500 | M36: =L36*1.1 -> 18150 | N36: =M36 -> 18150 | O36: =N36 -> 18150 | P36: =O36 -> 18150 | Q36: =P36 -> 18150 | S36: 20000 | T36: 20050 | U36: 18533 | V36: =TRUNC(105%*U36,0) -> 19459 | W36: =(Q36-P36)/P36 -> 0
A37: 6.13 | B37: 150cm ø (NP3 Class) | C37: र.मि. | G37: 15500 | H37: 24715 | I37: 24715 | J37: =I37 -> 24715 | K37: =J37 -> 24715 | L37: 25000 | M37: =L37*1.1 -> 27500 | N37: =M37 -> 27500 | O37: =N37 -> 27500 | P37: =O37 -> 27500 | Q37: =P37 -> 27500 | S37: 28300 | T37: 28350 | U37: 27253 | V37: =TRUNC(105%*U37,0) -> 28615 | W37: =(Q37-P37)/P37 -> 0
A38: 6.14 | B38: 15 cm ø (NP2 Class) | C38: र.मि. | D38: 455 | E38: 610 | F38: 640 | G38: 680 | H38: 655 | I38: 655 | J38: =I38 -> 655 | K38: =J38 -> 655 | L38: 700 | M38: =L38*1.1 -> 770 | N38: =M38 -> 770 | O38: =N38 -> 770 | P38: =O38 -> 770 | Q38: =P38 -> 770 | S38: 1000 | T38: 1025 | U38: 856 | V38: =TRUNC(105%*U38,0) -> 898 | W38: =(Q38-P38)/P38 -> 0
A39: 6.15 | B39: 20 cm ø (NP2 Class) | C39: र.मि. | D39: 455 | E39: 610 | F39: 640 | G39: 680 | H39: 875 | I39: 875 | J39: =I39 -> 875 | K39: =J39 -> 875 | L39: 900 | M39: =L39*1.1 -> 990 | N39: =M39 -> 990 | O39: =N39 -> 990 | P39: =O39 -> 990 | Q39: =P39 -> 990 | S39: 1100 | T39: 1140 | U39: 1024 | V39: =TRUNC(105%*U39,0) -> 1075 | W39: =(Q39-P39)/P39 -> 0
A40: 6.16 | B40: 25 cm ø (NP2 Class) | C40: र.मि. | D40: 455 | E40: 610 | F40: 640 | G40: 680 | H40: 1050 | I40: 1050 | J40: =I40 -> 1050 | K40: =J40 -> 1050 | L40: 1100 | M40: =L40*1.1 -> 1210 | N40: =M40 -> 1210 | O40: =N40 -> 1210 | P40: =O40 -> 1210 | Q40: =P40 -> 1210 | S40: 1200 | T40: 1250 | U40: 1160 | V40: =TRUNC(105%*U40,0) -> 1218 | W40: =(Q40-P40)/P40 -> 0
A41: 6.17 | B41: 30 cm ø (NP2 Class) | C41: र.मि. | D41: 580 | E41: 720 | F41: 755 | G41: 800 | H41: 1235 | I41: 1235 | J41: =I41 -> 1235 | K41: =J41 -> 1235 | L41: 1350 | M41: =L41*1.1 -> 1485 | N41: =M41 -> 1485 | O41: =N41 -> 1485 | P41: =O41 -> 1485 | Q41: =P41 -> 1485 | S41: 1500 | T41: 1530 | U41: 1365 | V41: =TRUNC(105%*U41,0) -> 1433 | W41: =(Q41-P41)/P41 -> 0
A42: 6.18 | B42: 40 cm ø (NP2 Class) | C42: र.मि. | D42: 580 | G42: 1300 | H42: 2025 | I42: 2025 | J42: =I42 -> 2025 | K42: =J42 -> 2025 | L42: 2100 | M42: =L42*1.1 -> 2310 | N42: =M42 -> 2310 | O42: =N42 -> 2310 | P42: =O42 -> 2310 | Q42: =P42 -> 2310 | S42: 2500 | T42: 2550 | U42: 2252 | V42: =TRUNC(105%*U42,0) -> 2364 | W42: =(Q42-P42)/P42 -> 0
A43: 6.19 | B43: 45cm ø (NP2 Class) | C43: र.मि. | D43: 745 | E43: 1390 | F43: 1450 | G43: 1540 | H43: 2125 | I43: 2125 | J43: =I43 -> 2125 | K43: =J43 -> 2125 | L43: 2200 | M43: =L43*1.1 -> 2420 | N43: =M43 -> 2420 | O43: =N43 -> 2420 | P43: =O43 -> 2420 | Q43: =P43 -> 2420 | S43: 3200 | T43: 3240 | U43: 2657 | V43: =TRUNC(105%*U43,0) -> 2789 | W43: =(Q43-P43)/P43 -> 0
A44: 7 | B44: ह्यूमपाइपको सकेट (कलर) को मुल्य (पाइपको मुयको आधारमा) | C44: प्रतिशत | E44: 10 | F44: 10 | G44: =F44 -> 10 | H44: 10 | I44: 10 | J44: =I44 -> 10 | K44: =J44 -> 10 | L44: =K44 -> 10 | M44: =L44*1.1 -> 11 | N44: =M44 -> 11 | O44: =N44 -> 11 | P44: =O44 -> 11 | Q44: =P44 -> 11
A45: 8 | B45: जियोटेक्सटाइल | S45: meccaferri | T45: wt
A46: 8.1 | B46: जियोटेक्सटाइल (1000 Terram or equivalent) | C46: व.मि. | G46: 75 | H46: 90 | I46: 94.5 | J46: =I46 -> 94.5 | K46: =J46 -> 94.5 | L46: =K46 -> 94.5 | M46: =L46*1.1 -> 103.95 | N46: =M46 -> 103.95 | O46: =N46 -> 103.95 | P46: =O46 -> 103.95 | Q46: =P46 -> 103.95 | S46: 85 | T46: 150 g/m2 | U46: T1000 | V46: 133.33 g/m2
A47: 8.2 | B47: जियोटेक्सटाइल (२000 Terram or equivalent) | C47: व.मि. | H47: 95 | I47: 99.75 | J47: =I47 -> 99.75 | K47: =J47 -> 99.75 | L47: =K47 -> 99.75 | M47: =L47*1.1 -> 109.725 | N47: =M47 -> 109.725 | O47: =N47 -> 109.725 | P47: =O47 -> 109.725 | Q47: 120 | S47: 130 | T47: 200g/m2 | U47: T2000 | V47: 222.22 g/m2
A48: 9 | B48: रेडि मिक्स कंक्रिटको कार्य (५ कि.मि. सम्मको ढुवानी समेत) | T48: Rupandehi | U48: Nawalpur | V48: Chaitanya | W48: Indreni | X48: Diff wrt Indreni | Y48: Diff wrt Chaitanya
A49: 9.1 | B49: M-60 Grade | C49: घ.मि. | H49: - | I49: =H49 -> - | J49: =I49 -> - | K49: =J49 -> - | L49: 21685 | M49: =L49*1.1 -> 23853.5 | N49: =M49 -> 23853.5 | O49: 20384 | P49: 19400 | Q49: 19900 | S49: 21% Cement Consumption @2.67% increase in cement price | T49: 20000 | V49: 20353.98 | W49: 22200 | X49: =W49-Q49 -> 2300 | Y49: =V49-Q49 -> 453.98
A50: 9.2 | B50: M-55 Grade | C50: घ.मि. | H50: - | I50: =H50 -> - | J50: =I50 -> - | K50: =J50 -> - | L50: 21240 | M50: =L50*1.1 -> 23364 | N50: =M50 -> 23364 | O50: 19966 | P50: 18200 | Q50: 19000 | T50: 19500 | V50: 19026.55 | W50: 21100 | X50: =W50-Q50 -> 2100 | Y50: =V50-Q50 -> 26.55
A51: 9.3 | B51: M-50 Grade | C51: घ.मि. | H51: - | I51: =H51 -> - | J51: =I51 -> - | K51: =J51 -> - | L51: 20355 | M51: =L51*1.1 -> 22390.5 | N51: =M51 -> 22390.5 | O51: 19134 | P51: 17100 | Q51: 17800 | T51: 19000 | V51: 17876.11 | W51: 20200 | X51: =W51-Q51 -> 2400 | Y51: =V51-Q51 -> 76.11
A52: 9.4 | B52: M-45 Grade | C52: घ.मि. | H52: - | I52: =H52 -> - | J52: =I52 -> - | K52: =J52 -> - | L52: 19470 | M52: =L52*1.1 -> 21417 | N52: =M52 -> 21417 | O52: 18301 | P52: 16000 | Q52: 16500 | T52: 18500 | V52: 16371.68 | W52: 18100 | X52: =W52-Q52 -> 1600 | Y52: =V52-Q52 -> -128.32
A53: 9.5 | B53: M-40 Grade | C53: घ.मि. | H53: - | I53: =H53 -> - | J53: =I53 -> - | K53: =J53 -> - | L53: 18585 | M53: =L53*1.1 -> 20443.5 | N53: =M53 -> 20443.5 | O53: 17470 | P53: 15200 | Q53: 15700 | T53: 18000 | V53: 15752.21 | W53: 16800 | X53: =W53-Q53 -> 1100 | Y53: =V53-Q53 -> 52.21
A54: 9.6 | B54: M-35 Grade | C54: घ.मि. | H54: - | I54: =H54 -> - | J54: =I54 -> - | K54: =J54 -> - | L54: 17700 | M54: =L54*1.1 -> 19470 | N54: =M54 -> 19470 | O54: 16638 | P54: 14500 | Q54: 15000 | T54: 16500 | U54: 15500 | V54: 14867.26 | W54: 15700 | X54: =W54-Q54 -> 700 | Y54: =V54-Q54 -> -132.74
A55: 9.7 | B55: M-30 Grade | C55: घ.मि. | H55: - | I55: =H55 -> - | J55: =I55 -> - | K55: =J55 -> - | L55: 17260 | M55: =L55*1.1 -> 18986 | N55: =M55 -> 18986 | O55: 16224 | P55: 13500 | Q55: 14000 | T55: 16000 | U55: 14500 | V55: 13982.3 | W55: 14600 | X55: =W55-Q55 -> 600 | Y55: =V55-Q55 -> -17.7
A56: 9.8 | B56: M-25 Grade | C56: घ.मि. | H56: - | I56: =H56 -> - | J56: =I56 -> - | K56: =J56 -> - | L56: 14490 | M56: =L56*1.1 -> 15939 | N56: =M56 -> 15939 | O56: 13621 | P56: 12600 | Q56: 13000 | T56: 14000 | U56: 13500 | V56: 13097.35 | W56: 13500 | X56: =W56-Q56 -> 500 | Y56: =V56-Q56 -> 97.35
A57: 9.9 | B57: M-20 Grade | C57: घ.मि. | H57: - | I57: =H57 -> - | J57: =I57 -> - | K57: =J57 -> - | L57: 13720 | M57: =L57*1.1 -> 15092 | N57: =M57 -> 15092 | O57: 12897 | P57: 11700 | Q57: 12000 | T57: 13000 | U57: 12000 | V57: 12212.39 | W57: 12400 | X57: =W57-Q57 -> 400 | Y57: =V57-Q57 -> 212.39
A58: 9.1 | B58: M-15 Grade | C58: घ.मि. | H58: - | I58: =H58 -> - | J58: =I58 -> - | K58: =J58 -> - | L58: 12390 | M58: =L58*1.1 -> 13629 | N58: =M58 -> 13629 | O58: 11647 | P58: 11000 | Q58: =P58 -> 11000 | T58: 12000 | U58: 10500 | V58: 10619.47 | W58: 11400 | X58: =W58-Q58 -> 400 | Y58: =V58-Q58 -> -380.53
A59: 9.11 | B59: M-10 Grade | C59: घ.मि. | H59: - | I59: =H59 -> - | J59: =I59 -> - | K59: =J59 -> - | L59: 11065 | M59: =L59*1.1 -> 12171.5 | N59: =M59 -> 12171.5 | O59: 10401 | P59: 10400 | Q59: 10200 | T59: 11000 | U59: 10000 | V59: 10176.99 | W59: 10300 | X59: =W59-Q59 -> 100 | Y59: =V59-Q59 -> -23.01
A60: 10 | B60: कालोपत्रे सडकमा रेखाङ्कन गर्न प्रयोग हुने Thermoplastic Road Marking सामाग्री
A61: 10.1 | B61: थर्मोप्लास्टिक पेन्ट | C61: के.जी. | N61: − | O61: − | P61: 258 | Q61: =P61 -> 258 | S61: रुपन्देहीबाट साभआर
A62: 10.2 | B62: ग्लास बिडस | C62: के.जी. | N62: − | O62: − | P62: 252 | Q62: =P62 -> 252 | S62: रुपन्देहीबाट साभआर
A63: 11 | B63: सडक सुरक्षामा प्रयोग हुने सामाग्री
A64: 11.1 | B64: Reflective Tape (२" चौडाइ, १५० ' लम्बाई) | C64: रोल | N64: − | O64: − | P64: 5583 | Q64: =P64 -> 5583 | S64: रुपन्देहीबाट साभआर
A65: 11.2 | B65: Cats Eye | C65: गोटा | N65: − | O65: − | P65: 618 | Q65: =P65 -> 618 | S65: रुपन्देहीबाट साभआर
A66: 11.3 | B66: Retroreflective Delineator (900mm height, 50mm dia) | C66: गोटा | N66: − | O66: − | P66: 793 | Q66: =P66 -> 793 | S66: रुपन्देहीबाट साभआर
A67: 11.4 | B67: Retroreflective Metal Delineator (1500mm x100mmx 100mm ) | C67: गोटा | N67: − | O67: − | P67: 3150 | Q67: =P67 -> 3150 | S67: रुपन्देहीबाट साभआर
A68: 12 | B68: Elastomeric Bearing | S68: रुपन्देही | T68: नेपाल रबर | U68: average
A69: 12.1 | B69: Free Type | C69: गोटा | N69: − | O69: − | P69: 30000 | Q69: 32000 | S69: 50000 | T69: 34000 | U69: =AVERAGE(S69:T69) -> 42000
A70: 12.2 | B70: Fixed End Dowel Type | C70: गोटा | N70: − | O70: − | P70: 30000 | Q70: 32000 | S70: 50000 | T70: 36000 | U70: =AVERAGE(S70:T70) -> 43000
A71: 13 | B71: Pot Bearing
A72: 13.1 | B72: Fixed Pot Bearing (296 Ton Capacity) | C72: गोटा | N72: − | O72: − | P72: 125000 | Q72: 125000 | S72: 130000 | T72: 120000 | U72: =AVERAGE(S72:T72) -> 125000
A73: 13.2 | B73: Long Guide Pot Bearing (296 Ton Capacity) | C73: गोटा | N73: − | O73: − | P73: 130000 | Q73: 130000 | S73: 140000 | T73: 120000 | U73: =AVERAGE(S73:T73) -> 130000
A74: 14 | B74: Expansion Joint
A75: 14.1 | B75: Strip Seal Expansion Joint (50mm gap with frame and neoprene rubber seal) | C75: र.मि. | N75: − | O75: − | P75: 15500 | Q75: 16000 | S75: 17500 | T75: 16000 | U75: =AVERAGE(S75:T75) -> 16750
A76: 14.2 | B76: Slab Seal (320*50) (50mm gap with frame and neoprene rubber seal) | C76: र.मि. | N76: − | O76: − | P76: 22500 | Q76: 22750 | S76: 22000 | T76: 25000 | U76: =AVERAGE(S76:T76) -> 23500
A77: 15 | B77: HT Strands 12.7mm-7 Ply | C77: के.जी. | N77: − | O77: − | P77: 160 | Q77: 160 | S77: 160 | T77: 165 | U77: =AVERAGE(S77:T77) -> 162.5
A78: 16 | B78: Corrugated HDPE Sheathing Duct ID=90mm | C78: र.मि. | N78: − | O78: − | P78: 260 | Q78: 300 | S78: 320 | T78: 300 | U78: =AVERAGE(S78:T78) -> 310
A79: 17 | B79: Supply of prestresing machine along with grouting all complete for single span bridge | C79: स्पान | N79: − | O79: − | P79: 350000 | Q79: 350000 | S79: 350000 | T79: 350000 | U79: =AVERAGE(S79:T79) -> 350000
A80: 18 | B80: Bearing Plate | C80: सेट | N80: − | O80: − | P80: =102%*2940 -> 2998.8 | Q80: =P80 -> 2998.8 | S80: 2940 | T80: रुपन्देहीबाट साभार २% मुल्यवृद्धी सहित
A81: 19 | B81: Prestressing Anchorage Cone, Anchor Head and Live Wedges | C81: सेट | N81: − | O81: − | P81: 7500 | Q81: 7500 | S81: साइ बाट प्राप्त रेट
A82: नोट : बिटुमिनको हकमा नेपाल बिटुमिन तथा ब्यारेल उद्योग लिमिटेडले निर्धारण गरेको अध्यावधिक रेटलाई आधार मान्नुपर्नेछ । बिटुमिनजन्य निर्माण सामाग्री प्रयोग हुने निर्माण कार्यको लागत अनुमान तयार गर्दा नेपाल बिटुमिन तथा ब्यारेलको अध्यावधिक रेट माग गरी प्राप्त हुन आएको रेटको आधारमा गर्ने ।

Sheet Rang rogan
A1: 6. रङ्ग रोगन सम्बन्धी सामाग्री
A2: qm=;+= | B2: lgdf{)f ;fdu|Lsf] ljj/)f | C2: OsfO{ | D2: cf=a= 062÷063 | E2: cf=a= 2066÷67 | F2: cf=a= 2067÷68 | G2: cf=a= 2068÷69 | H2: cf=a= 2075÷76 | I2: cf=a= 2076÷77 sf] :jLs[t b/ /]^ | J2: cf=a= 2077÷78 sf] :jLs[t b/ /]^ | K2: cf=a= 2078÷79 sf] :jLs[t b/ /]^ | L2: cf=a= 2079÷80 sf] :jLs[t b/ /]^ | M2: =Falamjanya!M2 -> आ.व. २०८०/०८१ को दररेट | N2: =Falamjanya!N2 -> आ.व. २०८१/०८२ को दररेट | O2: =Falamjanya!O2 -> आ.व. २०८२/०८३ को दररेट | P2: =Sadak!Q2 -> आ.व. २०८३/०८४ को दररेट | Q2: s}lkmot
A3: 1 | B3: वाटर प्रुफ सिमेन्ट पेन्ट (Snowcem) | C3: =C13 -> के.जी. | D3: 50 | E3: 48 | F3: 46 | G3: 46 | H3: 65 | I3: =H3 -> 65 | J3: =I3 -> 65 | K3: =J3 -> 65 | L3: =K3*1.1 -> 71.5 | M3: =L3 -> 71.5 | N3: =M3 -> 71.5 | O3: =N3 -> 71.5 | P3: =O3 -> 71.5
A4: =A3+1 -> 2 | B4: सिमेन्ट प्राइमर | C4: लिटर | F4: 115 | G4: 125 | H4: 195 | I4: =H4 -> 195 | J4: =I4 -> 195 | K4: =J4 -> 195 | L4: =K4*1.1 -> 214.5 | M4: =L4 -> 214.5 | N4: =M4 -> 214.5 | O4: =N4 -> 214.5 | P4: =O4 -> 214.5 | R4: 139.5
A5: =A4+1 -> 3 | B5: उडन प्राइमर | C5: लिटर | D5: 170 | E5: 215 | F5: 220 | G5: 230 | H5: 349 | I5: =H5 -> 349 | J5: =I5 -> 349 | K5: =J5 -> 349 | L5: =K5*1.1 -> 383.9 | M5: =L5 -> 383.9 | N5: =M5 -> 383.9 | O5: =N5 -> 383.9 | P5: =O5 -> 383.9
A6: =A5+1 -> 4 | B6: इनामेल पेन्ट | C6: लिटर | D6: 215 | E6: 285 | F6: 285 | G6: 298 | H6: 534 | I6: =H6 -> 534 | J6: =I6 -> 534 | K6: =J6 -> 534 | L6: =K6*1.1 -> 587.4 | M6: =L6 -> 587.4 | N6: =M6 -> 587.4 | O6: =N6 -> 587.4 | P6: =O6 -> 587.4
A7: =A6+1 -> 5 | B7: अलमुनियम पेन्ट | C7: लिटर | D7: 260 | E7: 350 | F7: 375 | G7: 391 | H7: 590 | I7: =H7 -> 590 | J7: =I7 -> 590 | K7: =J7 -> 590 | L7: =K7*1.1 -> 649 | M7: =L7 -> 649 | N7: =M7 -> 649 | O7: =N7 -> 649 | P7: =O7 -> 649 | R7: 585
A8: =A7+1 -> 6 | B8: वारनिस | C8: लिटर | D8: 45 | E8: 80 | F8: 80 | G8: 84 | H8: 312 | I8: =H8 -> 312 | J8: =I8 -> 312 | K8: =J8 -> 312 | L8: =K8*1.1 -> 343.2 | M8: =L8 -> 343.2 | N8: =M8 -> 343.2 | O8: =N8 -> 343.2 | P8: =O8 -> 343.2 | R8: 385
A9: =A8+1 -> 7 | B9: टारपेन्टाइन आयल | C9: =C16 -> लिटर | D9: 50 | E9: 130 | F9: 120 | G9: 125 | H9: 156 | I9: =H9 -> 156 | J9: =I9 -> 156 | K9: =J9 -> 156 | L9: =K9*1.1 -> 171.6 | M9: =L9 -> 171.6 | N9: =M9 -> 171.6 | O9: =N9 -> 171.6 | P9: =O9 -> 171.6
A10: =A9+1 -> 8 | B10: प्लास्टिक इमल्सन पेन्ट (Interior) | C10: लिटर | D10: 275 | E10: 380 | F10: 380 | G10: 396 | H10: 534 | I10: =H10 -> 534 | J10: =I10 -> 534 | K10: =J10 -> 534 | L10: =K10*1.1 -> 587.4 | M10: =L10 -> 587.4 | N10: =M10 -> 587.4 | O10: =N10 -> 587.4 | P10: =O10 -> 587.4
A11: =A10+1 -> 9 | B11: फर्निचर इनामेल | C11: लिटर | D11: 215 | E11: 335 | F11: 340 | G11: 355 | H11: 534 | I11: =H11 -> 534 | J11: =I11 -> 534 | K11: =J11 -> 534 | L11: =K11*1.1 -> 587.4 | M11: =L11 -> 587.4 | N11: =M11 -> 587.4 | O11: =N11 -> 587.4 | P11: =O11 -> 587.4
A12: =A11+1 -> 10 | B12: मेटल प्राइमर | C12: लिटर | D12: 170 | E12: 265 | F12: 265 | G12: 246 | H12: 343 | I12: =H12 -> 343 | J12: =I12 -> 343 | K12: =J12 -> 343 | L12: =K12*1.1 -> 377.3 | M12: =L12 -> 377.3 | N12: =M12 -> 377.3 | O12: =N12 -> 377.3 | P12: =O12 -> 377.3 | R12: 320
A13: =A12+1 -> 11 | B13: रेन्सिल पेन्ट | C13: के.जी. | D13: 200 | E13: 260 | F13: 265 | G13: 276 | H13: 195 | I13: =H13 -> 195 | J13: =I13 -> 195 | K13: =J13 -> 195 | L13: =K13*1.1 -> 214.5 | M13: =L13 -> 214.5 | N13: =M13 -> 214.5 | O13: =N13 -> 214.5 | P13: =O13 -> 214.5
A14: =A13+1 -> 12 | B14: लिन्सिड आयल | C14: =C5 -> लिटर | D14: 70 | E14: 110 | F14: 110 | G14: 115 | H14: 139 | I14: =H14 -> 139 | J14: =I14 -> 139 | K14: =J14 -> 139 | L14: =K14*1.1 -> 152.9 | M14: =L14 -> 152.9 | N14: =M14 -> 152.9 | O14: =N14 -> 152.9 | P14: =O14 -> 152.9
A15: =A14+1 -> 13 | B15: स्प्रिट | C15: =C14 -> लिटर | D15: 45 | E15: 90 | F15: 95 | G15: 99 | H15: 87 | I15: =H15 -> 87 | J15: =I15 -> 87 | K15: =J15 -> 87 | L15: =K15*1.1 -> 95.7 | M15: =L15 -> 95.7 | N15: =M15 -> 95.7 | O15: =N15 -> 95.7 | P15: =O15 -> 95.7
A16: =A15+1 -> 14 | B16: अलकत्रा पेन्ट | C16: =C15 -> लिटर | D16: 140 | E16: 165 | F16: 165 | G16: 172 | H16: 156 | I16: =H16 -> 156 | J16: =I16 -> 156 | K16: =J16 -> 156 | L16: =K16*1.1 -> 171.6 | M16: =L16 -> 171.6 | N16: =M16 -> 171.6 | O16: =N16 -> 171.6 | P16: =O16 -> 171.6
A17: =A16+1 -> 15 | B17: ब्ल्याकबोर्ड पेन्ट | C17: =C3 -> के.जी. | D17: 140 | E17: 165 | F17: 185 | G17: 190 | H17: 445 | I17: =H17 -> 445 | J17: =I17 -> 445 | K17: =J17 -> 445 | L17: =K17*1.1 -> 489.5 | M17: =L17 -> 489.5 | N17: =M17 -> 489.5 | O17: =N17 -> 489.5 | P17: =O17 -> 489.5
A18: =A17+1 -> 16 | B18: डिस्टेम्पर | C18: =C17 -> के.जी. | D18: 125 | E18: 170 | F18: 175 | G18: 183 | H18: 156 | I18: =H18 -> 156 | J18: =I18 -> 156 | K18: =J18 -> 156 | L18: =K18*1.1 -> 171.6 | M18: =L18 -> 171.6 | N18: =M18 -> 171.6 | O18: =N18 -> 171.6 | P18: =O18 -> 171.6
A19: =A18+1 -> 17 | B19: डिस्टेम्पर (वासेवल) | C19: =C5 -> लिटर | G19: 140 | H19: 195 | I19: =H19 -> 195 | J19: =I19 -> 195 | K19: =J19 -> 195 | L19: =K19*1.1 -> 214.5 | M19: =L19 -> 214.5 | N19: =M19 -> 214.5 | O19: =N19 -> 214.5 | P19: =O19 -> 214.5
A20: =A19+1 -> 18 | B20: प्लास्टर अफ पेरिस | C20: =C17 -> के.जी. | G20: 15 | H20: 22 | I20: =H20 -> 22 | J20: =I20 -> 22 | K20: =J20 -> 22 | L20: =K20*1.1 -> 24.2 | M20: =L20 -> 24.2 | N20: =M20 -> 24.2 | O20: =N20 -> 24.2 | P20: =O20 -> 24.2
A21: =A20+1 -> 19 | B21: सरेस | C21: =C20 -> के.जी. | G21: 200 | H21: 289 | I21: =H21 -> 289 | J21: =I21 -> 289 | K21: =J21 -> 289 | L21: =K21*1.1 -> 317.9 | M21: =L21 -> 317.9 | N21: =M21 -> 317.9 | O21: =N21 -> 317.9 | P21: =O21 -> 317.9
A22: =A21+1 -> 20 | B22: वाटर प्रुफ कम्पाउण्ड | C22: =C21 -> के.जी. | G22: 55 | H22: 79 | I22: =H22 -> 79 | J22: =I22 -> 79 | K22: =J22 -> 79 | L22: =K22*1.1 -> 86.9 | M22: =L22 -> 86.9 | N22: =M22 -> 86.9 | O22: =N22 -> 86.9 | P22: =O22 -> 86.9
A23: =A22+1 -> 21 | B23: सेफकिट | C23: लिटर | G23: 240 | H23: 178 | I23: =H23 -> 178 | J23: =I23 -> 178 | K23: =J23 -> 178 | L23: =K23*1.1 -> 195.8 | M23: =L23 -> 195.8 | N23: =M23 -> 195.8 | O23: =N23 -> 195.8 | P23: =O23 -> 195.8
A24: =A23+1 -> 22 | B24: चप्परा पालिस | C24: के.जी. | D24: 255 | E24: 425 | F24: 425 | G24: 443 | H24: 1725 | I24: =H24 -> 1725 | J24: =I24 -> 1725 | K24: =J24 -> 1725 | L24: =K24*1.1 -> 1897.5 | M24: =L24 -> 1897.5 | N24: =M24 -> 1897.5 | O24: =N24 -> 1897.5 | P24: =O24 -> 1897.5
A25: =A24+1 -> 23 | B25: चुना | C25: के.जी. | D25: 10 | E25: 15 | F25: 15 | G25: 15 | H25: 20 | I25: =H25 -> 20 | J25: =I25 -> 20 | K25: =J25 -> 20 | L25: =K25*1.1 -> 22 | M25: =L25 -> 22 | N25: =M25 -> 22 | O25: =N25 -> 22 | P25: =O25 -> 22
A26: =A25+1 -> 24 | B26: गम | C26: के.जी. | D26: 15 | E26: 25 | F26: 25 | G26: 26 | H26: 145 | I26: =H26 -> 145 | J26: =I26 -> 145 | K26: =J26 -> 145 | L26: =K26*1.1 -> 159.5 | M26: =L26 -> 159.5 | N26: =M26 -> 159.5 | O26: =N26 -> 159.5 | P26: =O26 -> 159.5
A27: =A26+1 -> 25 | B27: पुटिन | C27: के.जी. | D27: 50 | E27: 60 | F27: 50 | G27: 52 | H27: 56 | I27: =H27 -> 56 | J27: =I27 -> 56 | K27: =J27 -> 56 | L27: =K27*1.1 -> 61.6 | M27: =L27 -> 61.6 | N27: =M27 -> 61.6 | O27: =N27 -> 61.6 | P27: =O27 -> 61.6 | R27: 31.5
A28: =A27+1 -> 26 | B28: मैनपालिस | C28: के.जी. | D28: 230 | E28: 320 | F28: 320 | G28: 334 | H28: 534 | I28: =H28 -> 534 | J28: =I28 -> 534 | K28: =J28 -> 534 | L28: =K28*1.1 -> 587.4 | M28: =L28 -> 587.4 | N28: =M28 -> 587.4 | O28: =N28 -> 587.4 | P28: =O28 -> 587.4
A29: =A28+1 -> 27 | B29: अक्जालिक एसिड | C29: लिटर | D29: 85 | E29: 135 | F29: 135 | G29: 141 | H29: 167 | I29: =H29 -> 167 | J29: =I29 -> 167 | K29: =J29 -> 167 | L29: =K29*1.1 -> 183.7 | M29: =L29 -> 183.7 | N29: =M29 -> 183.7 | O29: =N29 -> 183.7 | P29: =O29 -> 183.7
A30: =A29+1 -> 28 | B30: खाक्सी | C30: गोटा | D30: 8 | E30: 10 | F30: 10 | G30: 10 | H30: 17 | I30: =H30 -> 17 | J30: =I30 -> 17 | K30: =J30 -> 17 | L30: =K30*1.1 -> 18.7 | M30: =L30 -> 18.7 | N30: =M30 -> 18.7 | O30: =N30 -> 18.7 | P30: =O30 -> 18.7
A31: =A30+1 -> 29 | B31: नेपाली थिनर | C31: लिटर | M31: − | N31: − | O31: 224 | P31: =O31 -> 224 | R31: काठमाडौबाट साभार
A32: =A31+1 -> 30 | B32: रेड अक्साइड पेन्ट | C32: लिटर | M32: − | N32: − | O32: 270 | P32: =O32 -> 270 | R32: काठमाडौबाट साभार
A33: =A32+1 -> 31 | B33: वेदरकोट पेन्ट (Exterior) | C33: लिटर | M33: − | N33: − | O33: 652 | P33: =O33 -> 652 | R33: काठमाडौबाट साभार
A34: =A33+1 -> 32 | B34: गेरु रंग | C34: के.जी. | M34: − | N34: − | O34: 141 | P34: =O34 -> 141 | R34: काठमाडौबाट साभार
A35: =A34+1 -> 33 | B35: Redoxide Zink Cromate Primer for Bridge | C35: लिटर | M35: − | N35: − | O35: 479 | P35: =O35 -> 479 | R35: काठमाडौबाट साभार
A36: =A35+1 -> 34 | B36: Exterior Primer | C36: लिटर | M36: − | N36: − | O36: 248 | P36: =O36 -> 248 | R36: काठमाडौबाट साभार
A37: =A36+1 -> 35 | B37: Interior Primer | C37: लिटर | M37: − | N37: − | O37: 179 | P37: =O37 -> 179 | R37: काठमाडौबाट साभार
A38: =A37+1 -> 36 | B38: Anti Bacterial Hospital Paint | C38: लिटर | M38: − | N38: − | O38: 1153 | P38: =O38 -> 1153 | R38: काठमाडौबाट साभार
A39: =A38+1 -> 37 | B39: Heat Reflecting Energy Saving Insulation Paint | C39: लिटर | M39: − | N39: − | O39: 1186 | P39: =O39 -> 1186 | R39: काठमाडौबाट साभार
A40: =A39+1 -> 38 | B40: Weather Coat Paints
A41: =A40+0.01 -> 38.01 | B41: ExterShield Premium | C41: लिटर | M41: − | N41: − | O41: 614 | P41: =O41 -> 614 | R41: काठमाडौबाट साभार
A42: =A41+0.01 -> 38.02 | B42: ExterShield Smooth | C42: लिटर | M42: − | N42: − | O42: 525 | P42: =O42 -> 525 | R42: काठमाडौबाट साभार
A43: =A42+0.01 -> 38.03 | B43: ExterShield Standard | C43: लिटर | M43: − | N43: − | O43: 336 | P43: =O43 -> 336 | R43: काठमाडौबाट साभार
A44: =A40+1 -> 39 | B44: Emulsion Paints/Distemper
A45: =A44+0.01 -> 39.01 | B45: Int. Emulsion | C45: लिटर | M45: − | N45: − | O45: 298 | P45: =O45 -> 298 | R45: काठमाडौबाट साभार
A46: =A45+0.01 -> 39.02 | B46: Water Seal Strech (Damp Coat) | C46: लिटर | M46: − | N46: − | O46: 527 | P46: =O46 -> 527 | R46: काठमाडौबाट साभार
A47: =A46+0.01 -> 39.03 | B47: Premium Emulsion | C47: लिटर | M47: − | N47: − | O47: 754 | P47: =O47 -> 754 | R47: काठमाडौबाट साभार
A48: =A47+0.01 -> 39.04 | B48: Smooth Emulsion | C48: लिटर | M48: − | N48: − | O48: 545 | P48: =O48 -> 545 | R48: काठमाडौबाट साभार
A49: =A48+0.01 -> 39.05 | B49: Standard Emulsion | C49: लिटर | M49: − | N49: − | O49: 292 | P49: =O49 -> 292 | R49: काठमाडौबाट साभार

Sheet Khanepani
A1: ७. खानेपानी तथा सरसफाई सम्बन्धी सामाग्री
A2: qm=;+= | B2: lgdf{)f ;fdu|Lsf] ljj/)f | C2: OsfO{ | D2: cf=a= 062÷063 | E2: cf=a= 2066÷67 | F2: cf=a= 2067÷68 | G2: cf=a= 2068÷69 | H2: cf=a= 2074÷75 | I2: cf=a= 2075÷76 | J2: cf=a= 2076÷77 sf] :jLs[t b/ /]^ | K2: cf=a= 2077÷78 sf] :jLs[t b/ /]^ | L2: cf=a= 2078÷79 sf] :jLs[t b/ /]^ | M2: cf=a= 2078÷79 sf] :jLs[t b/ /]^ | N2: ='Rang rogan'!M2 -> आ.व. २०८०/०८१ को दररेट | O2: ='Rang rogan'!N2 -> आ.व. २०८१/०८२ को दररेट | P2: ='Rang rogan'!O2 -> आ.व. २०८२/०८३ को दररेट | Q2: ='Rang rogan'!P2 -> आ.व. २०८३/०८४ को दररेट | R2: s}lkmot
A3: ! | B3: :oflg^/L÷jf^/ ;KnfO{
A4: 1.1 | B4: *An"= l;= Kofg k"m^/]:^ / ;fOkmg ;d]t
A5: 1.1.1 | B5: 12ÆX12Æ | C5: uf]^f | D5: 550 | E5: 650 | F5: 550 | G5: 550 | H5: 735 | I5: 770 | J5: =I5 -> 770 | K5: =J5 -> 770 | L5: =K5 -> 770 | M5: =L5*1.1 -> 847 | N5: =M5 -> 847 | O5: =N5 -> 847 | P5: =O5 -> 847 | Q5: =P5 -> 847
A6: 1.1.2 | B6: 12ÆX18Æ | C6: uf]^f | D6: 865 | E6: 1050 | F6: 950 | G6: 950 | H6: 1128.75 | I6: 1185 | J6: =I6 -> 1185 | K6: =J6 -> 1185 | L6: =K6 -> 1185 | M6: =L6*1.1 -> 1303.5 | N6: =M6 -> 1303.5 | O6: =N6 -> 1303.5 | P6: =O6 -> 1303.5 | Q6: =P6 -> 1303.5
A7: 1.1.3 | B7: 12ÆX20Æ | C7: uf]^f | D7: 1100 | E7: 1500 | F7: 1400 | G7: 1400 | H7: 1207.5 | I7: 1265 | J7: =I7 -> 1265 | K7: =J7 -> 1265 | L7: =K7 -> 1265 | M7: =L7*1.1 -> 1391.5 | N7: =M7 -> 1391.5 | O7: =N7 -> 1391.5 | P7: =O7 -> 1391.5 | Q7: =P7 -> 1391.5
A8: 1.2 | B8: sdf]* Kofg se/ ;lxt | C8: uf]^f | D8: 2000 | E8: 2800 | F8: 2800 | G8: 2800 | H8: 2520 | I8: 2645 | J8: =I8 -> 2645 | K8: =J8 -> 2645 | L8: =K8 -> 2645 | M8: =L8*1.1 -> 2909.5 | N8: =M8 -> 2909.5 | O8: 9180 | P8: =O8 -> 9180 | Q8: =P8 -> 9180
A9: 1.3 | B9: sdf]* se/ | C9: uf]^f | D9: 500 | E9: 600 | F9: 450 | G9: 450 | H9: 682.5 | I9: 715 | J9: =I9 -> 715 | K9: =J9 -> 715 | L9: =K9 -> 715 | M9: =L9*1.1 -> 786.5 | N9: =M9 -> 786.5 | O9: =N9 -> 786.5 | P9: =O9 -> 786.5 | Q9: =P9 -> 786.5
A10: 1.4 | B10: l;:^g{
A11: 1.4.1 | B11: sdf]* kmnl;ª l;:^g{ ;lxt 4 nfOg ePsf] | C11: uf]^f | M11: 12000 | N11: =M11 -> 12000 | O11: =N11 -> 12000 | P11: =O11 -> 12000 | Q11: =P11 -> 12000
A12: 1.4.2 | B12: nf] n]en kf];{nLg l;:^g{ | C12: uf]^f | D12: 2275 | E12: 2400 | F12: 2400 | G12: 2450 | H12: 1207.5 | I12: 1265 | J12: =I12 -> 1265 | K12: =J12 -> 1265 | L12: =K12 -> 1265 | M12: =L12*1.1 -> 1391.5 | N12: =M12 -> 1391.5 | O12: =N12 -> 1391.5 | P12: =O12 -> 1391.5 | Q12: =P12 -> 1391.5
A13: 1.4.3 | B13: xfO n]en kf];{nLg l;:^g{ | C13: uf]^f | D13: 1475 | E13: 1600 | F13: 1600 | G13: 1650 | H13: 1575 | I13: 1650 | J13: =I13 -> 1650 | K13: =J13 -> 1650 | L13: =K13 -> 1650 | M13: =L13*1.1 -> 1815 | N13: =M13 -> 1815 | O13: =N13 -> 1815 | P13: =O13 -> 1815 | Q13: =P13 -> 1815
A14: 1.4.4 | B14: nf] n]en knfl:^s l;:^g{ | C14: uf]^f | E14: 1150 | F14: 1150 | G14: 1150 | H14: 997.5 | I14: 1045 | J14: =I14 -> 1045 | K14: =J14 -> 1045 | L14: =K14 -> 1045 | M14: =L14*1.1 -> 1149.5 | N14: =M14 -> 1149.5 | O14: =N14 -> 1149.5 | P14: =O14 -> 1149.5 | Q14: =P14 -> 1149.5
A15: 1.5 | B15: jf; a]l;g
A16: 1.5.1 | B16: 12ÆX18Æ | C16: uf]^f | D16: 650 | E16: 775 | F16: 775 | G16: 650 | H16: 787.5 | I16: 825 | J16: =I16 -> 825 | K16: =J16 -> 825 | L16: =K16 -> 825 | M16: =L16*1.1 -> 907.5 | N16: =M16 -> 907.5 | O16: =N16 -> 907.5 | P16: =O16 -> 907.5 | Q16: =P16 -> 907.5
A17: 1.5.2 | B17: 16ÆX20Æ | C17: uf]^f | D17: 820 | E17: 950 | F17: 950 | G17: 900 | H17: 1155 | I17: 1210 | J17: =I17 -> 1210 | K17: =J17 -> 1210 | L17: =K17 -> 1210 | M17: =L17*1.1 -> 1331 | N17: =M17 -> 1331 | O17: =N17 -> 1331 | P17: =O17 -> 1331 | Q17: =P17 -> 1331
A18: 1.5.3 | B18: 16ÆX22Æ | C18: uf]^f | D18: 1000 | E18: 1200 | F18: 1200 | G18: 1000 | H18: 1365 | I18: 1430 | J18: =I18 -> 1430 | K18: =J18 -> 1430 | L18: =K18 -> 1430 | M18: =L18*1.1 -> 1573 | N18: =M18 -> 1573 | O18: =N18 -> 1573 | P18: =O18 -> 1573 | Q18: =P18 -> 1573
A19: 1.6 | B19: lsrg l;° :^\of)**{
A20: 1.6.1 | B20: lsrg l;° hg/n 16ÆX18Æ | C20: uf]^f | E20: 1200 | F20: 1200 | G20: 1150 | H20: 2415 | I20: 2535 | J20: =I20 -> 2535 | K20: =J20 -> 2535 | L20: =K20 -> 2535 | M20: =L20*1.1 -> 2788.5 | N20: =M20 -> 2788.5 | O20: =N20 -> 2788.5 | P20: =O20 -> 2788.5 | Q20: =P20 -> 2788.5
A21: 1.6.2 | B21: lsrg l;° hg/n 37ÆX18Æ | C21: uf]^f | E21: 2000 | F21: 2000 | G21: 1800 | H21: 4200 | I21: 4410 | J21: =I21 -> 4410 | K21: =J21 -> 4410 | L21: =K21 -> 4410 | M21: =L21*1.1 -> 4851 | N21: =M21 -> 4851 | O21: =N21 -> 4851 | P21: =O21 -> 4851 | Q21: =P21 -> 4851
A22: 1.7 | B22: Nofj l;° | C22: uf]^f | D22: 2600 | E22: 2000 | F22: 2000 | G22: 2000 | H22: 2730 | I22: 2865 | J22: =I22 -> 2865 | K22: =J22 -> 2865 | L22: =K22 -> 2865 | M22: =L22*1.1 -> 3151.5 | N22: =M22 -> 3151.5 | O22: =N22 -> 3151.5 | P22: =O22 -> 3151.5 | Q22: =P22 -> 3151.5
A23: 1.8 | B23: l;° -c:ktfndf jRrf ;kmfug]{_ | C23: uf]^f | D23: 140 | E23: 190 | F23: 190 | G23: 200 | H23: 32000 | I23: 33600 | J23: =I23 -> 33600 | K23: =J23 -> 33600 | L23: =K23 -> 33600 | M23: =L23*1.1 -> 36960 | N23: =M23 -> 36960 | O23: =N23 -> 36960 | P23: =O23 -> 36960 | Q23: =P23 -> 36960
A24: 1.9 | B24: ;f]k s]; aS; | C24: uf]^f | D24: 140 | E24: 190 | F24: 190 | G24: 200 | H24: 262.5 | I24: 275 | J24: =I24 -> 275 | K24: =J24 -> 275 | L24: =K24 -> 275 | M24: =L24*1.1 -> 302.5 | N24: =M24 -> 302.5 | O24: =N24 -> 302.5 | P24: =O24 -> 302.5 | Q24: =P24 -> 302.5
A25: 1.1 | B25: ^fJf]n /*
A26: 1.10.1 | B26: km]G;L ^fOk x]le | C26: uf]^f | D26: 275 | E26: 400 | F26: 400 | G26: 375 | H26: 577.5 | I26: 605 | J26: =I26 -> 605 | K26: =J26 -> 605 | L26: =K26 -> 605 | M26: =L26*1.1 -> 665.5 | N26: =M26 -> 665.5 | O26: =N26 -> 665.5 | P26: =O26 -> 665.5 | Q26: =P26 -> 665.5
A27: 1.10.2 | B27: ;fwf/)f | C27: uf]^f | D27: 150 | E27: 175 | F27: 175 | G27: 175 | H27: 273 | I27: 285 | J27: =I27 -> 285 | K27: =J27 -> 285 | L27: =K27 -> 285 | M27: =L27*1.1 -> 313.5 | N27: =M27 -> 313.5 | O27: =N27 -> 313.5 | P27: =O27 -> 313.5 | Q27: =P27 -> 313.5
A28: 1.11 | B28: P]gf
A29: 1.11.1 | B29: 18ÆX 22Æ | C29: uf]^f | D29: 350 | E29: 450 | F29: 450 | G29: 450 | H29: 577.5 | I29: 605 | J29: =I29 -> 605 | K29: =J29 -> 605 | L29: =K29 -> 605 | M29: =L29*1.1 -> 665.5 | N29: =M29 -> 665.5 | O29: =N29 -> 665.5 | P29: =O29 -> 665.5 | Q29: =P29 -> 665.5
A30: 1.11.2 | B30: 16ÆX20Æ | C30: uf]^f | D30: 275 | E30: 400 | F30: 400 | G30: 400 | H30: 498.75 | I30: 525 | J30: =I30 -> 525 | K30: =J30 -> 525 | L30: =K30 -> 525 | M30: =L30*1.1 -> 577.5 | N30: =M30 -> 577.5 | O30: =N30 -> 577.5 | P30: =O30 -> 577.5 | Q30: =P30 -> 577.5
A31: 1.12 | B31: ^"y a|; ;]^ -^un/ ;]^_ | C31: uf]^f | D31: 160 | E31: 200 | F31: 200 | G31: 200 | H31: 262.5 | I31: 275 | J31: =I31 -> 275 | K31: =J31 -> 275 | L31: =K31 -> 275 | M31: =L31*1.1 -> 302.5 | N31: =M31 -> 302.5 | O31: =N31 -> 302.5 | P31: =O31 -> 302.5 | Q31: =P31 -> 302.5
A32: 1.13 | B32: 1÷2Æ wf/f
A33: 1.13.1 | B33: lktn | C33: uf]^f | D33: 180 | E33: 210 | F33: 210 | G33: 210 | H33: 262.5 | I33: 275 | J33: =I33 -> 275 | K33: =J33 -> 275 | L33: =K33 -> 275 | M33: =L33*1.1 -> 302.5 | N33: =M33 -> 302.5 | O33: =N33 -> 302.5 | P33: =O33 -> 302.5 | Q33: =P33 -> 302.5
A34: 1.13.2 | B34: Knfl:^s | C34: uf]^f | D34: 35 | E34: 60 | F34: 60 | G34: 50 | H34: 78.75 | I34: 85 | J34: =I34 -> 85 | K34: =J34 -> 85 | L34: =K34 -> 85 | M34: =L34*1.1 -> 93.5 | N34: =M34 -> 93.5 | O34: =N34 -> 93.5 | P34: =O34 -> 93.5 | Q34: =P34 -> 93.5
A35: 1.13.3 | B35: c^f]:^k | C35: uf]^f | D35: 185 | E35: 250 | F35: 250 | G35: 250 | H35: 472.5 | I35: 495 | J35: =I35 -> 495 | K35: =J35 -> 495 | L35: =K35 -> 495 | M35: =L35*1.1 -> 544.5 | N35: =M35 -> 544.5 | O35: =N35 -> 544.5 | P35: =O35 -> 544.5 | Q35: =P35 -> 544.5
A36: 1.13.4 | B36: l;= lk= km]G;L ^fOk -/fd|f]_ | C36: uf]^f | D36: 400 | E36: 700 | F36: 700 | G36: 700 | H36: 892.5 | I36: 935 | J36: =I36 -> 935 | K36: =J36 -> 935 | L36: =K36 -> 935 | M36: =L36*1.1 -> 1028.5 | N36: =M36 -> 1028.5 | O36: =N36 -> 1028.5 | P36: =O36 -> 1028.5 | Q36: =P36 -> 1028.5
A37: 1.14 | B37: ;fj/
A38: 1.14.1 | B38: ;fj/ ;fwf/)f | C38: uf]^f | D38: 185 | E38: 250 | F38: 275 | G38: 275 | H38: 630 | I38: 660 | J38: =I38 -> 660 | K38: =J38 -> 660 | L38: =K38 -> 660 | M38: =L38*1.1 -> 726 | N38: =M38 -> 726 | O38: =N38 -> 726 | P38: =O38 -> 726 | Q38: =P38 -> 726
A39: 1.14.2 | B39: ;fj/ ^]lnkmf]lgs | C39: uf]^f | D39: 500 | E39: 700 | F39: 800 | G39: 800 | H39: 945 | I39: 990 | J39: =I39 -> 990 | K39: =J39 -> 990 | L39: =K39 -> 990 | M39: =L39*1.1 -> 1089 | N39: =M39 -> 1089 | O39: =N39 -> 1089 | P39: =O39 -> 1089 | Q39: =P39 -> 1089
A40: 1.15 | B40: km\nf]^ eNj | C40: uf]^f | D40: 225 | E40: 375 | F40: 375 | G40: 375 | H40: 630 | I40: 660 | J40: =I40 -> 660 | K40: =J40 -> 660 | L40: =K40 -> 660 | M40: =L40*1.1 -> 726 | N40: =M40 -> 726 | O40: =N40 -> 726 | P40: =O40 -> 726 | Q40: =P40 -> 726
A41: 1.16 | B41: kf]l;{lng o"l/gn
A42: 1.16.1 | B42: n]l*h | C42: uf]^f | D42: 775 | E42: 950 | F42: 950 | G42: 950 | H42: 1312.5 | I42: 1380 | J42: =I42 -> 1380 | K42: =J42 -> 1380 | L42: =K42 -> 1380 | M42: =L42*1.1 -> 1518 | N42: =M42 -> 1518 | O42: =N42 -> 1518 | P42: =O42 -> 1518 | Q42: =P42 -> 1518
A43: 1.16.2 | B43: h]G; | C43: uf]^f | D43: 600 | E43: 900 | F43: 900 | G43: 900 | H43: 1312.5 | I43: 1380 | J43: =I43 -> 1380 | K43: =J43 -> 1380 | L43: =K43 -> 1380 | M43: =L43*1.1 -> 1518 | N43: =M43 -> 1518 | O43: =N43 -> 1518 | P43: =O43 -> 1518 | Q43: =P43 -> 1518
A44: 1.17 | B44: k]k/ xf]N*/ | C44: uf]^f | D44: 150 | E44: 250 | F44: 250 | G44: 250 | H44: 420 | I44: 440 | J44: =I44 -> 440 | K44: =J44 -> 440 | L44: =K44 -> 440 | M44: =L44*1.1 -> 484 | N44: =M44 -> 484 | O44: =N44 -> 484 | P44: =O44 -> 484 | Q44: =P44 -> 484
A45: 1.18 | B45: /f]k x"s | C45: uf]^f | D45: 95 | E45: 130 | F45: 130 | G45: 130 | H45: 231 | I45: 240 | J45: =I45 -> 240 | K45: =J45 -> 240 | L45: =K45 -> 240 | M45: =L45*1.1 -> 264 | N45: =M45 -> 264 | O45: =N45 -> 264 | P45: =O45 -> 264 | Q45: =P45 -> 264
A46: 1.19 | B46: km\nf]/ ^«ofk ;fOkmg ;d]t | C46: uf]^f | D46: 250 | E46: 175 | F46: 200 | G46: 200 | H46: 325.5 | I46: 340 | J46: =I46 -> 340 | K46: =J46 -> 340 | L46: =K46 -> 340 | M46: =L46*1.1 -> 374 | N46: =M46 -> 374 | O46: =N46 -> 374 | P46: =O46 -> 374 | Q46: =P46 -> 374
A47: 1.2 | B47: lk= lj= l;= x"s | C47: uf]^f | D47: 55 | E47: 50 | F47: 50 | G47: 50 | H47: 65.1 | I47: 68 | J47: =I47 -> 68 | K47: =J47 -> 68 | L47: =K47 -> 68 | M47: =L47*1.1 -> 74.8 | N47: =M47 -> 74.8 | O47: =N47 -> 74.8 | P47: =O47 -> 74.8 | Q47: =P47 -> 74.8
A48: 1.21 | B48: Orisa pan set with cistern and long band | C48: सेट | D48: 2500 | E48: 3200 | F48: 3200 | G48: 3200 | H48: 3517.5 | I48: 3690 | J48: =I48 -> 3690 | K48: =J48 -> 3690 | L48: =K48 -> 3690 | M48: =L48*1.1 -> 4059 | N48: =M48 -> 4059 | O48: =N48 -> 4059 | P48: =O48 -> 4059 | Q48: =P48 -> 4059
A49: 1.22 | B49: Commode with cistern with long band | C49: सेट | D49: 3636 | E49: 3750 | F49: 3750 | G49: 3750 | H49: 4462.5 | I49: 4685 | J49: =I49 -> 4685 | K49: =J49 -> 4685 | L49: =K49 -> 4685 | M49: =L49*1.1 -> 5153.5 | N49: =M49 -> 5153.5 | O49: =N49 -> 5153.5 | P49: =O49 -> 5153.5 | Q49: =P49 -> 5153.5
A50: 2 | B50: jf^/ ;KnfO{÷l;rfO{ ;DjGwL
A51: =A50+0.01 -> 2.01 | B51: l*h]n kDk;]^- 4x4" 5H.P.(water cool) jf ;f];/x | C51: yfg | G51: 48500 | H51: 67383.75 | I51: 67383.75 | J51: =I51 -> 67383.75 | K51: =J51 -> 67383.75 | L51: =K51 -> 67383.75 | M51: =L51*1.1 -> 74122.125 | N51: =M51 -> 74122.125 | O51: =N51 -> 74122.125 | P51: =O51 -> 74122.125 | Q51: =P51 -> 74122.125 | R51: भ्याट छुट
A52: =A51+0.01 -> 2.02 | B52: l*h]n kDk;]^- 3x3" 5H.P (ISI) | C52: yfg | G52: 47500 | H52: 46725 | I52: 46725 | J52: =I52 -> 46725 | K52: =J52 -> 46725 | L52: =K52 -> 46725 | M52: =L52*1.1 -> 51397.5 | N52: =M52 -> 51397.5 | O52: =N52 -> 51397.5 | P52: =O52 -> 51397.5 | Q52: =P52 -> 51397.5
A53: =A52+0.01 -> 2.03 | B53: l*h]n kDk;]^- 3x3" 5H.P(air cool).jf ;f];/x | C53: yfg | G53: 47500 | H53: 44992.5 | I53: 44992.5 | J53: =I53 -> 44992.5 | K53: =J53 -> 44992.5 | L53: =K53 -> 44992.5 | M53: =L53*1.1 -> 49491.75 | N53: =M53 -> 49491.75 | O53: =N53 -> 49491.75 | P53: =O53 -> 49491.75 | Q53: =P53 -> 49491.75
A54: =A53+0.01 -> 2.04 | B54: l*h]n kDk;]^- 3x3" 4H.P(air cool).jf ;f];/x | C54: yfg | G54: 47500 | H54: 42687.75 | I54: 42687.75 | J54: =I54 -> 42687.75 | K54: =J54 -> 42687.75 | L54: =K54 -> 42687.75 | M54: =L54*1.1 -> 46956.525 | N54: =M54 -> 46956.525 | O54: =N54 -> 46956.525 | P54: =O54 -> 46956.525 | Q54: =P54 -> 46956.525
A55: =A54+0.01 -> 2.05 | B55: l*h]n kDk;]^- 3x2.5" 5H.P(water cool).jf ;f];/x | C55: yfg | G55: 44000 | H55: 50856.75 | I55: 50856.75 | J55: =I55 -> 50856.75 | K55: =J55 -> 50856.75 | L55: =K55 -> 50856.75 | M55: =L55*1.1 -> 55942.425 | N55: =M55 -> 55942.425 | O55: =N55 -> 55942.425 | P55: =O55 -> 55942.425 | Q55: =P55 -> 55942.425
A56: =A55+0.01 -> 2.06 | B56: ljB'lto df]^/ kDk;]^ -lqmnf]:s/ jf ;f] ;/x÷ 2"x2" 1.5 H.P./ 1phase pump) | C56: yfg | N56: 17600 | O56: =N56 -> 17600 | P56: =O56 -> 17600 | Q56: =P56 -> 17600
A57: =A56+0.01 -> 2.07 | B57: ljB'lto df]^/ kDk;]^ -lqmnf]:s/ jf ;f] ;/x÷ 3"x3" 2H.P./ 1phase pump) | C57: yfg | G57: 15500 | H57: 27300 | I57: 28600 | J57: =I57 -> 28600 | K57: =J57 -> 28600 | L57: =K57 -> 28600 | M57: =L57*1.1 -> 31460 | N57: 23100 | O57: =N57 -> 23100 | P57: =O57 -> 23100 | Q57: =P57 -> 23100
A58: =A57+0.01 -> 2.08 | B58: ljB'lto df]^/ kDk;]^ -lqmnf]:s/ jf ;f] ;/x÷ 3"x3" 4"*4" 3H.P./ 1phase pump) | C58: yfg | N58: 38390 | O58: =N58 -> 38390 | P58: =O58 -> 38390 | Q58: =P58 -> 38390
A59: =A58+0.01 -> 2.09 | B59: ljB'lto df]^/ kDk;]^ -lqmnf]:s/ jf ;f] ;/x÷ 4"*4" 5H.P./ 1phase pump) | C59: yfg | N59: 46000 | O59: =N59 -> 46000 | P59: =O59 -> 46000 | Q59: =P59 -> 46000
A60: =A59+0.01 -> 2.1 | B60: 1÷2 xif{ kfj/ df]^/ OlG*og (ISI) | C60: yfg | D60: 6800 | E60: 4000 | F60: 4000 | G60: 4100 | H60: 525 | I60: 550 | J60: =I60 -> 550 | K60: =J60 -> 550 | L60: =K60 -> 550 | M60: =L60*1.1 -> 605 | N60: 5227 | O60: =N60 -> 5227 | P60: =O60 -> 5227 | Q60: =P60 -> 5227
A61: =A60+0.01 -> 2.11 | B61: 1 xif{ kfj/ df]^/ OlG*og (ISI) | C61: yfg | D61: 8650 | E61: 6000 | F61: 6000 | G61: 6500 | H61: 9450 | I61: 9900 | J61: =I61 -> 9900 | K61: =J61 -> 9900 | L61: =K61 -> 9900 | M61: =L61*1.1 -> 10890 | N61: =M61 -> 10890 | O61: =N61 -> 10890 | P61: =O61 -> 10890 | Q61: =P61 -> 10890
A62: =A61+0.01 -> 2.12 | B62: 1÷2 xif{ kfj/ df]^/ rfOlgh | C62: yfg | D62: 1200 | E62: 1200 | F62: 1200 | G62: 1200 | H62: 2100 | I62: 2200 | J62: =I62 -> 2200 | K62: =J62 -> 2200 | L62: =K62 -> 2200 | M62: =L62*1.1 -> 2420 | N62: =M62 -> 2420 | O62: =N62 -> 2420 | P62: =O62 -> 2420 | Q62: =P62 -> 2420
A63: =A62+0.01 -> 2.13 | B63: 1 xif{ kfj/ df]^/ rfOlgh | C63: yfg | D63: 2600 | E63: 2600 | F63: 2600 | G63: 2600 | H63: 5250 | I63: 5500 | J63: =I63 -> 5500 | K63: =J63 -> 5500 | L63: =K63 -> 5500 | M63: =L63*1.1 -> 6050 | N63: =M63 -> 6050 | O63: =N63 -> 6050 | P63: =O63 -> 6050 | Q63: =P63 -> 6050
A64: =A63+0.01 -> 2.14 | B64: एच.डि.पी. पाइप (NS-40) | C64: के.जी. | N64: 286 | O64: 286 | P64: 286 | Q64: =P64 -> 286 | S64: HDP pipe को चार्ट हटाइएको
A65: 3 | B65: lh= cfO{= kfO{k y|]*]* -nfO^ 6 /= ld=_
A66: =A65+0.01 -> 3.01 | B66: ½" ø | C66: uf]^f | D66: 75 | E66: 106 | F66: 106 | G66: 110 | H66: 759 | I66: 835 | J66: =I66 -> 835 | K66: =J66 -> 835 | L66: =K66 -> 835 | M66: =L66*1.1 -> 918.5 | N66: =M66 -> 918.5 | O66: =N66 -> 918.5 | P66: =O66 -> 918.5 | Q66: =P66 -> 918.5 | U66: Size | V66: WT=KG/M (HDPE)
A67: =A66+0.01 -> 3.02 | B67: ¾" ø | C67: uf]^f | D67: 100 | E67: 154 | F67: 154 | G67: 159 | H67: 1055 | I67: 1161 | J67: =I67 -> 1161 | K67: =J67 -> 1161 | L67: =K67 -> 1161 | M67: =L67*1.1 -> 1277.1 | N67: =M67 -> 1277.1 | O67: =N67 -> 1277.1 | P67: =O67 -> 1277.1 | Q67: =P67 -> 1277.1 | V67: PN12.5 | W67: RATE 1 | X67: RATE PANCH | Y67: DIFF | Z67: PN16 | AA67: RATE PANCH | AB67: RATE 1
A68: =A67+0.01 -> 3.03 | B68: 1" ø | C68: uf]^f | D68: 130 | E68: 209 | F68: 209 | G68: 216 | H68: 1465 | I68: 1612 | J68: =I68 -> 1612 | K68: =J68 -> 1612 | L68: =K68 -> 1612 | M68: =L68*1.1 -> 1773.2 | N68: =M68 -> 1773.2 | O68: =N68 -> 1773.2 | P68: =O68 -> 1773.2 | Q68: =P68 -> 1773.2 | U68: 25 | V68: 0.173 | W68: =V68*$Q$64 -> 49.478 | X68: 65 | Y68: =(X68-W68)/X68 -> 0.2388 | Z68: 0.208 | AA68: 80 | AB68: =Z68*$Q$64 -> 59.488 | AC68: =(AA68-AB68)/AA68 -> 0.2564
A69: =A68+0.01 -> 3.04 | B69: 1¼" ø | C69: uf]^f | D69: 155 | E69: 279 | F69: 279 | G69: 289 | H69: 1880 | I69: 2068 | J69: =I69 -> 2068 | K69: =J69 -> 2068 | L69: =K69 -> 2068 | M69: =L69*1.1 -> 2274.8 | N69: =M69 -> 2274.8 | O69: =N69 -> 2274.8 | P69: =O69 -> 2274.8 | Q69: =P69 -> 2274.8 | U69: 40 | V69: 0.434 | W69: =V69*$Q$64 -> 124.124 | X69: 170 | Y69: =(X69-W69)/X69 -> 0.26985882 | Z69: 0.523 | AA69: 205 | AB69: =Z69*$Q$64 -> 149.578 | AC69: =(AA69-AB69)/AA69 -> 0.27035122
A70: =A69+0.01 -> 3.05 | B70: 1½" ø | C70: uf]^f | D70: 180 | E70: 349 | F70: 349 | G70: 361 | H70: 2310 | I70: 2541 | J70: =I70 -> 2541 | K70: =J70 -> 2541 | L70: =K70 -> 2541 | M70: =L70*1.1 -> 2795.1 | N70: =M70 -> 2795.1 | O70: =N70 -> 2795.1 | P70: =O70 -> 2795.1 | Q70: =P70 -> 2795.1
A71: =A70+0.01 -> 3.06 | B71: 2" ø | C71: uf]^f | D71: 230 | E71: 462 | F71: 462 | G71: 478 | H71: 2882 | I71: 3170 | J71: =I71 -> 3170 | K71: =J71 -> 3170 | L71: =K71 -> 3170 | M71: =L71*1.1 -> 3487 | N71: =M71 -> 3487 | O71: =N71 -> 3487 | P71: =O71 -> 3487 | Q71: =P71 -> 3487
A72: =A71+0.01 -> 3.07 | B72: 2½" ø | C72: uf]^f | D72: 320 | E72: 641 | F72: 641 | G72: 664 | H72: 4025 | I72: 4428 | J72: =I72 -> 4428 | K72: =J72 -> 4428 | L72: =K72 -> 4428 | M72: =L72*1.1 -> 4870.8 | N72: =M72 -> 4870.8 | O72: =N72 -> 4870.8 | P72: =O72 -> 4870.8 | Q72: =P72 -> 4870.8
A73: =A72+0.01 -> 3.08 | B73: 3" ø | C73: uf]^f | D73: 410 | E73: 750 | F73: 750 | G73: 777 | H73: 4730 | I73: 5203 | J73: =I73 -> 5203 | K73: =J73 -> 5203 | L73: =K73 -> 5203 | M73: =L73*1.1 -> 5723.3 | N73: =M73 -> 5723.3 | O73: =N73 -> 5723.3 | P73: =O73 -> 5723.3 | Q73: =P73 -> 5723.3
A74: =A73+0.01 -> 3.09 | B74: 4" ø | C74: uf]^f | D74: 455 | E74: 1084 | F74: 1084 | G74: 1123 | H74: 6754 | I74: 7429 | J74: =I74 -> 7429 | K74: =J74 -> 7429 | L74: =K74 -> 7429 | M74: =L74*1.1 -> 8171.9 | N74: =M74 -> 8171.9 | O74: =N74 -> 8171.9 | P74: =O74 -> 8171.9 | Q74: =P74 -> 8171.9
A75: =A74+0.01 -> 3.1 | B75: 5" ø | C75: uf]^f | H75: 10527 | I75: 11580 | J75: =I75 -> 11580 | K75: =J75 -> 11580 | L75: =K75 -> 11580 | M75: =L75*1.1 -> 12738 | N75: =M75 -> 12738 | O75: =N75 -> 12738 | P75: =O75 -> 12738 | Q75: =P75 -> 12738
A76: =A75+0.01 -> 3.11 | B76: 6" ø | C76: uf]^f | H76: 12243 | I76: 13467 | J76: =I76 -> 13467 | K76: =J76 -> 13467 | L76: =K76 -> 13467 | M76: =L76*1.1 -> 14813.7 | N76: =M76 -> 14813.7 | O76: =N76 -> 14813.7 | P76: =O76 -> 14813.7 | Q76: =P76 -> 14813.7
A77: =A76+0.01 -> 3.12 | B77: 8" ø | C77: uf]^f | H77: 16719 | I77: 18391 | J77: =I77 -> 18391 | K77: =J77 -> 18391 | L77: =K77 -> 18391 | M77: =L77*1.1 -> 20230.1 | N77: =M77 -> 20230.1 | O77: =N77 -> 20230.1 | P77: =O77 -> 20230.1 | Q77: =P77 -> 20230.1
A78: 4 | B78: lh= cfO{= kfO{k y|]*]* -ldl*od 6 /= ld=_
A79: =A78+0.01 -> 4.01 | B79: ½" ø | C79: uf]^f | D79: 600 | E79: 716 | F79: 716 | G79: 742 | H79: 900 | I79: 990 | J79: =I79 -> 990 | K79: =J79 -> 990 | L79: =K79 -> 990 | M79: =L79*1.1 -> 1089 | N79: =M79 -> 1089 | O79: =N79 -> 1089 | P79: =O79 -> 1089 | Q79: =P79 -> 1089
A80: =A79+0.01 -> 4.02 | B80: ¾" ø | C80: uf]^f | D80: 1100 | E80: 980 | F80: 980 | G80: 1015 | H80: 1145 | I80: 1260 | J80: =I80 -> 1260 | K80: =J80 -> 1260 | L80: =K80 -> 1260 | M80: =L80*1.1 -> 1386 | N80: =M80 -> 1386 | O80: =N80 -> 1386 | P80: =O80 -> 1386 | Q80: =P80 -> 1386
A81: =A80+0.01 -> 4.03 | B81: 1" ø | C81: uf]^f | D81: 1000 | E81: 1482 | F81: 1482 | G81: 1535 | H81: 1715 | I81: 1887 | J81: =I81 -> 1887 | K81: =J81 -> 1887 | L81: =K81 -> 1887 | M81: =L81*1.1 -> 2075.7 | N81: =M81 -> 2075.7 | O81: =N81 -> 2075.7 | P81: =O81 -> 2075.7 | Q81: =P81 -> 2075.7
A82: =A81+0.01 -> 4.04 | B82: 1¼" ø | C82: uf]^f | D82: 1300 | E82: 1986 | F82: 1986 | G82: 2058 | H82: 2235 | I82: 2459 | J82: =I82 -> 2459 | K82: =J82 -> 2459 | L82: =K82 -> 2459 | M82: =L82*1.1 -> 2704.9 | N82: =M82 -> 2704.9 | O82: =N82 -> 2704.9 | P82: =O82 -> 2704.9 | Q82: =P82 -> 2704.9
A83: =A82+0.01 -> 4.05 | B83: 1½" ø | C83: uf]^f | D83: 1500 | E83: 2276 | F83: 2276 | G83: 2358 | H83: 2565 | I83: 2822 | J83: =I83 -> 2822 | K83: =J83 -> 2822 | L83: =K83 -> 2822 | M83: =L83*1.1 -> 3104.2 | N83: =M83 -> 3104.2 | O83: =N83 -> 3104.2 | P83: =O83 -> 3104.2 | Q83: =P83 -> 3104.2
A84: =A83+0.01 -> 4.06 | B84: 2" ø | C84: uf]^f | D84: 2069 | E84: 3336 | F84: 3336 | G84: 3456 | H84: 3500 | I84: 3850 | J84: =I84 -> 3850 | K84: =J84 -> 3850 | L84: =K84 -> 3850 | M84: =L84*1.1 -> 4235 | N84: =M84 -> 4235 | O84: =N84 -> 4235 | P84: =O84 -> 4235 | Q84: =P84 -> 4235
A85: =A84+0.01 -> 4.07 | B85: 2½" ø | C85: uf]^f | D85: 2650 | E85: 4260 | F85: 4260 | G85: 4414 | H85: 4470 | I85: 4917 | J85: =I85 -> 4917 | K85: =J85 -> 4917 | L85: =K85 -> 4917 | M85: =L85*1.1 -> 5408.7 | N85: =M85 -> 5408.7 | O85: =N85 -> 5408.7 | P85: =O85 -> 5408.7 | Q85: =P85 -> 5408.7
A86: =A85+0.01 -> 4.08 | B86: 3" ø | C86: uf]^f | D86: 3400 | E86: 5364 | F86: 5364 | G86: 5557 | H86: 5540 | I86: 6094 | J86: =I86 -> 6094 | K86: =J86 -> 6094 | L86: =K86 -> 6094 | M86: =L86*1.1 -> 6703.4 | N86: =M86 -> 6703.4 | O86: =N86 -> 6703.4 | P86: =O86 -> 6703.4 | Q86: =P86 -> 6703.4
A87: =A86+0.01 -> 4.09 | B87: 4" ø | C87: uf]^f | D87: 4840 | E87: 7939 | F87: 7939 | G87: 8225 | H87: 8230 | I87: 9053 | J87: =I87 -> 9053 | K87: =J87 -> 9053 | L87: =K87 -> 9053 | M87: =L87*1.1 -> 9958.3 | N87: =M87 -> 9958.3 | O87: =N87 -> 9958.3 | P87: =O87 -> 9958.3 | Q87: =P87 -> 9958.3
A88: =A87+0.01 -> 4.1 | B88: 5" ø | C88: uf]^f | D88: 4840 | G88: 10885 | H88: 11220 | I88: 12342 | J88: =I88 -> 12342 | K88: =J88 -> 12342 | L88: =K88 -> 12342 | M88: =L88*1.1 -> 13576.2 | N88: =M88 -> 13576.2 | O88: =N88 -> 13576.2 | P88: =O88 -> 13576.2 | Q88: =P88 -> 13576.2
A89: =A88+0.01 -> 4.11 | B89: 6" ø | C89: uf]^f | D89: 4840 | G89: 13170 | H89: 13310 | I89: 14641 | J89: =I89 -> 14641 | K89: =J89 -> 14641 | L89: =K89 -> 14641 | M89: =L89*1.1 -> 16105.1 | N89: =M89 -> 16105.1 | O89: =N89 -> 16105.1 | P89: =O89 -> 16105.1 | Q89: =P89 -> 16105.1
A90: =A89+0.01 -> 4.12 | B90: 8" ø | C90: uf]^f | H90: 18513 | I90: 20364 | J90: =I90 -> 20364 | K90: =J90 -> 20364 | L90: =K90 -> 20364 | M90: =L90*1.1 -> 22400.4 | N90: =M90 -> 22400.4 | O90: =N90 -> 22400.4 | P90: =O90 -> 22400.4 | Q90: =P90 -> 22400.4
A91: 5 | B91: hL= cfO{= kfO{k y]|*]* -x]le *\o"l^ 6 / dL=_
A92: =A91+0.01 -> 5.01 | B92: ½" ø | C92: uf]^f | D92: 698 | E92: 809 | F92: 809 | G92: 839 | H92: 1056 | I92: 1162 | J92: =I92 -> 1162 | K92: =J92 -> 1162 | L92: =K92 -> 1162 | M92: =L92*1.1 -> 1278.2 | N92: =M92 -> 1278.2 | O92: =N92 -> 1278.2 | P92: =O92 -> 1278.2 | Q92: =P92 -> 1278.2
A93: =A92+0.01 -> 5.02 | B93: ¾" ø | C93: uf]^f | D93: 791 | E93: 1147 | F93: 1147 | G93: 1188 | H93: 1340 | I93: 1474 | J93: =I93 -> 1474 | K93: =J93 -> 1474 | L93: =K93 -> 1474 | M93: =L93*1.1 -> 1621.4 | N93: =M93 -> 1621.4 | O93: =N93 -> 1621.4 | P93: =O93 -> 1621.4 | Q93: =P93 -> 1621.4
A94: =A93+0.01 -> 5.03 | B94: 1" ø | C94: uf]^f | D94: 1155 | E94: 1730 | F94: 1730 | G94: 1792 | H94: 2010 | I94: 2211 | J94: =I94 -> 2211 | K94: =J94 -> 2211 | L94: =K94 -> 2211 | M94: =L94*1.1 -> 2432.1 | N94: =M94 -> 2432.1 | O94: =N94 -> 2432.1 | P94: =O94 -> 2432.1 | Q94: =P94 -> 2432.1
A95: =A94+0.01 -> 5.04 | B95: 1¼" ø | C95: uf]^f | D95: 1540 | E95: 2330 | F95: 2330 | G95: 2414 | H95: 2565 | I95: 2822 | J95: =I95 -> 2822 | K95: =J95 -> 2822 | L95: =K95 -> 2822 | M95: =L95*1.1 -> 3104.2 | N95: =M95 -> 3104.2 | O95: =N95 -> 3104.2 | P95: =O95 -> 3104.2 | Q95: =P95 -> 3104.2
A96: =A95+0.01 -> 5.05 | B96: 1½" ø | C96: uf]^f | D96: 1798 | E96: 2685 | F96: 2685 | G96: 2782 | H96: 2960 | I96: 3256 | J96: =I96 -> 3256 | K96: =J96 -> 3256 | L96: =K96 -> 3256 | M96: =L96*1.1 -> 3581.6 | N96: =M96 -> 3581.6 | O96: =N96 -> 3581.6 | P96: =O96 -> 3581.6 | Q96: =P96 -> 3581.6
A97: =A96+0.01 -> 5.06 | B97: 2" ø | C97: uf]^f | D97: 2394 | E97: 4043 | F97: 4043 | G97: 4189 | H97: 4310 | I97: 4741 | J97: =I97 -> 4741 | K97: =J97 -> 4741 | L97: =K97 -> 4741 | M97: =L97*1.1 -> 5215.1 | N97: =M97 -> 5215.1 | O97: =N97 -> 5215.1 | P97: =O97 -> 5215.1 | Q97: =P97 -> 5215.1
A98: =A97+0.01 -> 5.07 | B98: 2½" ø | C98: uf]^f | D98: 3059 | E98: 5180 | F98: 5180 | G98: 5367 | H98: 5395 | I98: 5935 | J98: =I98 -> 5935 | K98: =J98 -> 5935 | L98: =K98 -> 5935 | M98: =L98*1.1 -> 6528.5 | N98: =M98 -> 6528.5 | O98: =N98 -> 6528.5 | P98: =O98 -> 6528.5 | Q98: =P98 -> 6528.5
A99: =A98+0.01 -> 5.08 | B99: 3" ø | C99: uf]^f | D99: 3691 | E99: 6086 | F99: 6086 | G99: 6305 | H99: 6355 | I99: 6991 | J99: =I99 -> 6991 | K99: =J99 -> 6991 | L99: =K99 -> 6991 | M99: =L99*1.1 -> 7690.1 | N99: =M99 -> 7690.1 | O99: =N99 -> 7690.1 | P99: =O99 -> 7690.1 | Q99: =P99 -> 7690.1
A100: =A99+0.01 -> 5.09 | B100: 4" ø | C100: uf]^f | D100: 4840 | G100: 9489 | H100: 9855 | I100: 10841 | J100: =I100 -> 10841 | K100: =J100 -> 10841 | L100: =K100 -> 10841 | M100: =L100*1.1 -> 11925.1 | N100: =M100 -> 11925.1 | O100: =N100 -> 11925.1 | P100: =O100 -> 11925.1 | Q100: =P100 -> 11925.1
...

Sheet HDPE
A1: ७.१. एच.डि.पि.इ. पाइप (NS-40)
A2: सि.नं. | B2: Outer Diameter | D2: PN 3 | E2: PN 4 | F2: PN 5 | G2: PN 6 | H2: PN 8 | I2: PN 10 | J2: PN 12.5 | K2: PN 16 | L2: PN 20 | M2: Remarks
B3: साइज (मि.मि.) | C3: साइज (इन्च) | D3: प्रति मि. | E3: प्रति मि. | F3: प्रति मि. | G3: प्रति मि. | H3: प्रति मि. | I3: प्रति मि. | J3: प्रति मि. | K3: प्रति मि. | L3: प्रति मि.
A4: 1 | B4: 16 mm | K4: 25 | L4: 29
A5: 2 | B5: 20 mm | C5: 1/2" | J5: 33 | K5: 39 | L5: 45
A6: 3 | B6: 25 mm | C6: 3/4" | I6: 42 | J6: 50 | K6: 60 | L6: 70
A7: 4 | B7: 32 mm | C7: 1" | H7: 55 | I7: 68 | J7: 80 | K7: 98 | L7: 115
A8: 5 | B8: 40 mm | C8: 1-1/4" | G8: 70 | H8: 85 | I8: 106 | J8: 128 | K8: 152 | L8: 176 | N8: Comparison with Panchakanya | T8: 95 | U8: =(T8-G8)/T8 -> 0.26315789
A9: 6 | B9: 50 mm | C9: 1-1/2" | F9: 93 | G9: 109 | H9: 135 | I9: 164 | J9: 199 | K9: 236 | L9: 278 | R9: 125 | S9: =(R9-F9)/R9 -> 0.256 | T9: 145 | U9: =(T9-G9)/T9 -> 0.24827586
A10: 7 | B10: 63 mm | C10: 2" | F10: 143 | G10: 168 | H10: 204 | I10: 254 | J10: 306 | K10: 338.1 | L10: 428 | N10: Rate | O10: फरक | P10: Rate | Q10: फरक | R10: 190 | S10: =(R10-F10)/R10 -> 0.24736842 | T10: 225 | U10: =(T10-G10)/T10 -> 0.25333333
A11: 8 | B11: 75 mm | C11: 2-1/2" | D11: 135 | E11: 160 | F11: 200 | G11: 245 | H11: 303 | I11: 370 | J11: 445 | K11: 527 | L11: 620 | N11: 180 | O11: =(N11-D11)/N11 -> 0.25 | P11: 215 | Q11: =(P11-E11)/P11 -> 0.25581395 | R11: 270 | S11: =(R11-F11)/R11 -> 0.25925926 | T11: 330 | U11: =(T11-G11)/T11 -> 0.25757576
A12: 9 | B12: 90 mm | C12: 3" | D12: 185 | E12: 235 | F12: 290 | G12: 345 | H12: 425 | I12: 530 | J12: 633 | K12: 754 | L12: 890 | N12: 250 | O12: =(N12-D12)/N12 -> 0.26 | P12: 315 | Q12: =(P12-E12)/P12 -> 0.25396825 | R12: 390 | S12: =(R12-F12)/R12 -> 0.25641026 | T12: 470 | U12: =(T12-G12)/T12 -> 0.26595745
A13: 10 | B13: 110 mm | C13: 4" | D13: 279 | E13: 344 | F13: 432 | G13: 505 | H13: 440 | I13: 780 | J13: 944 | K13: 1131 | L13: 1330 | N13: 375 | O13: =(N13-D13)/N13 -> 0.256 | P13: 460 | Q13: =(P13-E13)/P13 -> 0.25217391 | R13: 575 | S13: =(R13-F13)/R13 -> 0.24869565 | T13: 780 | U13: =(T13-G13)/T13 -> 0.3525641
A14: 11 | B14: 125 mm | C14: 4-1/2" | D14: 360 | E14: 440 | F14: 550 | G14: 655 | H14: 822 | I14: 1006 | J14: 1220 | K14: 1455 | L14: 1717 | N14: 485 | O14: =(N14-D14)/N14 -> 0.25773196 | P14: 590 | Q14: =(P14-E14)/P14 -> 0.25423729 | R14: 735 | S14: =(R14-F14)/R14 -> 0.25170068 | T14: 905 | U14: =(T14-G14)/T14 -> 0.27624309
A15: 12 | B15: 140 mm | C15: 5" | D15: 460 | E15: 554 | F15: 689 | G15: 825 | H15: 1033 | I15: 1261 | J15: 1535 | K15: 1829 | L15: 2159 | N15: 615 | O15: =(N15-D15)/N15 -> 0.25203252 | P15: 740 | Q15: =(P15-E15)/P15 -> 0.25135135 | R15: 920 | S15: =(R15-F15)/R15 -> 0.25108696 | T15: 1135 | U15: =(T15-G15)/T15 -> 0.27312775
A16: 13 | B16: 160 mm | C16: 6" | D16: 580 | E16: 724 | F16: 904 | G16: 1070 | H16: 1355 | I16: 1653 | J16: 2000 | K16: 2383 | L16: 2819 | N16: 780 | O16: =(N16-D16)/N16 -> 0.25641026 | P16: 970 | Q16: =(P16-E16)/P16 -> 0.25360825 | R16: 1210 | S16: =(R16-F16)/R16 -> 0.25289256 | T16: 1490 | U16: =(T16-G16)/T16 -> 0.28187919
A17: 14 | B17: 180 mm | C17: 7" | D17: 733 | E17: 915 | F17: 1149 | G17: 1350 | H17: 1700 | I17: 2091 | J17: 2525 | K17: 3010 | L17: 3560 | N17: 980 | O17: =(N17-D17)/N17 -> 0.25204082 | P17: 1225 | Q17: =(P17-E17)/P17 -> 0.25306122 | R17: 1535 | S17: =(R17-F17)/R17 -> 0.2514658 | T17: 1870 | U17: =(T17-G17)/T17 -> 0.27807487
A18: 15 | B18: 200 mm | C18: 8" | D18: 910 | E18: 1120 | F18: 1406 | G18: 1660 | H18: 2100 | I18: 2572 | J18: 3115 | K18: 3724 | L18: 4397 | N18: 1220 | O18: =(N18-D18)/N18 -> 0.25409836 | P18: 1500 | Q18: =(P18-E18)/P18 -> 0.25333333 | R18: 1880 | S18: =(R18-F18)/R18 -> 0.25212766 | T18: 2320 | U18: =(T18-G18)/T18 -> 0.28448276
A19: 16 | B19: 225 mm | C19: 9" | D19: 1150 | E19: 1429 | F19: 1786 | G19: 2110 | H19: 2657 | I19: 3267 | J19: 3950 | K19: 4701 | L19: 5570 | N19: 1545 | O19: =(N19-D19)/N19 -> 0.25566343 | P19: 1910 | Q19: =(P19-E19)/P19 -> 0.25183246 | R19: 2390 | S19: =(R19-F19)/R19 -> 0.25271967 | T19: 2930 | U19: =(T19-G19)/T19 -> 0.27986348
A20: 17 | B20: 250 mm | C20: 10" | D20: 1410 | E20: 1750 | F20: 2210 | G20: 2595 | H20: 3259 | I20: 4014 | J20: 4860 | K20: 5803 | L20: 6858 | N20: 1890 | O20: =(N20-D20)/N20 -> 0.25396825 | P20: 2340 | Q20: =(P20-E20)/P20 -> 0.25213675 | R20: 2955 | S20: =(R20-F20)/R20 -> 0.25211506 | T20: 3615 | U20: =(T20-G20)/T20 -> 0.28215768
A21: 18 | B21: 280 mm | C21: 11" | D21: 1790 | E21: 2190 | F21: 2750 | G21: 3255 | H21: 4110 | I21: 5042 | J21: 6100 | K21: 7294 | L21: 8609 | N21: 2395 | O21: =(N21-D21)/N21 -> 0.2526096 | P21: 2935 | Q21: =(P21-E21)/P21 -> 0.25383305 | R21: 3685 | S21: =(R21-F21)/R21 -> 0.25373134 | T21: 4510 | U21: =(T21-G21)/T21 -> 0.27827051
A22: 19 | B22: 315 mm | C22: 12" | D22: 2249 | E22: 2780 | F22: 3490 | G22: 4120 | H22: 5208 | I22: 6378 | J22: 7720 | K22: 9209 | L22: 10889 | N22: 3010 | O22: =(N22-D22)/N22 -> 0.25282392 | P22: 3720 | Q22: =(P22-E22)/P22 -> 0.25268817 | R22: 4670 | S22: =(R22-F22)/R22 -> 0.25267666 | T22: 5690 | U22: =(T22-G22)/T22 -> 0.27592267
... A26: 23 | B26: 500 mm | C26: 19-2/3" | D26: 5630 | E26: 6962 | F26: 8755 | G26: 10742 | H26: 13090 | I26: 16058 | J26: 19461 | K26: 23215 | L26: 27415 | N26: 7530 | O26: =(N26-D26)/N26 -> 0.25232404 | P26: 9315 | Q26: =(P26-E26)/P26 -> 0.25260333 | R26: 11710 | S26: =(R26-F26)/R26 -> 0.25234842 | T26: 14370 | U26: =(T26-G26)/T26 -> 0.25247042

Sheet uPVC
A1: ७.२. यु.पि.भि.सी. पाइप (NS-206/046) | O1: पञ्चकन्या
A2: s|=;+= | B2: kfOk ;fOh | D2: OsfO{ | E2: प्रेसर रेटिङ्ग | I2: s}lkmot | O2: kfOk ;fOh | P2: OsfO{ | Q2: पंचकन्या | R2: रुपन्देही | S2: नवलपरासीको | T2: रुपन्देहीको | U2: पंचकन्या | V2: रुपन्देही | W2: नवलपरासीको | X2: रुपन्देहीको | Y2: पंचकन्या | Z2: रुपन्देही | AA2: नवलपरासीको | AB2: रुपन्देहीको | AC2: पंचकन्या | AD2: रुपन्देही | AE2: नवलपरासीको | AF2: रुपन्देहीको | AG2: s}lkmot
B3: dL=dL= | C3: OGr | E3: 2.5 kg/cm2 | F3: 4 kg/cm2 | G3: 6 kg/cm2 | H3: 10 kg/cm2 | O3: dL=dL= | Q3: 2.5 kg/cm2 | S3: फरक % | T3: फरक % | U3: 4 kg/cm2 | W3: फरक % | X3: फरक % | Y3: 6 kg/cm2 | AA3: फरक % | AB3: फरक % | AC3: 10 kg/cm2 | AE3: फरक % | AF3: फरक %
A4: ! | B4: 20 | C4: 1/2" | D4: k|lt /=dL= | E4: - | F4: - | G4: - | H4: =28*1.1 -> 30.8 | O4: 20 | P4: k|lt /=dL=
A5: 2 | B5: 25 | C5: 3/4" | D5: k|lt /=dL= | E5: - | F5: - | G5: - | H5: =44*1.1 -> 48.4 | O5: 25 | P5: k|lt /=dL=
A6: 3 | B6: 32 | C6: 1" | D6: k|lt /=dL= | E6: - | F6: - | G6: - | H6: =72*1.1 -> 79.2 | O6: 32 | P6: k|lt /=dL=
A7: 4 | B7: 40 | C7: 1.25" | D7: k|lt /=dL= | E7: - | F7: - | G7: =100*1.1 -> 110 | H7: =170*1.1 -> 187 | J7: 178 | O7: 40 | P7: k|lt /=dL= | Y7: 178 | Z7: 94 | AA7: =(Y7-G7)/Y7 -> 0.38202247 | AB7: =(Y7-Z7)/Y7 -> 0.47191011 | AC7: 265 | AD7: 141 | AE7: =(AC7-H7)/AC7 -> 0.29433962 | AF7: =(AC7-AD7)/AC7 -> 0.46792453
A8: 5 | B8: 50 | C8: 1.5" | D8: k|lt /=dL= | E8: - | F8: - | G8: =140*1.1 -> 154 | H8: =200*1.1 -> 220 | O8: 50 | P8: k|lt /=dL= | Y8: 240 | Z8: 142 | AA8: =(Y8-G8)/Y8 -> 0.35833333 | AB8: =(Y8-Z8)/Y8 -> 0.40833333 | AC8: 400 | AD8: 221 | AE8: =(AC8-H8)/AC8 -> 0.45 | AF8: =(AC8-AD8)/AC8 -> 0.4475
A9: 6 | B9: 63 | C9: 2" | D9: k|lt /=dL= | E9: - | F9: =190*1.1 -> 209 | G9: =290*1.1 -> 319 | H9: =400*1.1 -> 440 | O9: 63 | P9: k|lt /=dL= | U9: 290 | V9: 159 | W9: =(U9-F9)/U9 -> 0.27931034 | X9: =(U9-V9)/U9 -> 0.45172414 | Y9: 445 | Z9: 226 | AA9: =(Y9-G9)/Y9 -> 0.28314607 | AB9: =(Y9-Z9)/Y9 -> 0.49213483 | AC9: 625 | AD9: 351 | AE9: =(AC9-H9)/AC9 -> 0.296 | AF9: =(AC9-AD9)/AC9 -> 0.4384
A10: 7 | B10: 75 | C10: 2.5" | D10: k|lt /=dL= | E10: - | F10: =250*1.1 -> 275 | G10: =390*1.1 -> 429 | H10: =580*1.1 -> 638 | O10: 75 | P10: k|lt /=dL= | U10: 385 | V10: 220 | W10: =(U10-F10)/U10 -> 0.28571429 | X10: =(U10-V10)/U10 -> 0.42857143 | Y10: 565 | Z10: 317 | AA10: =(Y10-G10)/Y10 -> 0.24070796 | AB10: =(Y10-Z10)/Y10 -> 0.43893805 | AC10: 885 | AD10: 502 | AE10: =(AC10-H10)/AC10 -> 0.27909605 | AF10: =(AC10-AD10)/AC10 -> 0.43276836
A11: 8 | B11: 90 | C11: 3" | D11: k|lt /=dL= | E11: =200*1.1 -> 220 | F11: =325*1.1 -> 357.5 | G11: =500*1.1 -> 550 | H11: =800*1.1 -> 880 | O11: 90 | P11: k|lt /=dL= | Q11: 340 | R11: 201 | S11: =(Q11-E11)/Q11 -> 0.35294118 | T11: =(Q11-R11)/Q11 -> 0.40882353 | U11: 530 | V11: 313 | W11: =(U11-F11)/U11 -> 0.3254717 | X11: =(U11-V11)/U11 -> 0.40943396 | Y11: 765 | Z11: 457 | AA11: =(Y11-G11)/Y11 -> 0.28104575 | AB11: =(Y11-Z11)/Y11 -> 0.40261438 | AC11: 1230 | AD11: 715 | AE11: =(AC11-H11)/AC11 -> 0.28455285 | AF11: =(AC11-AD11)/AC11 -> 0.41869919
A12: 9 | B12: 110 | C12: 4" | D12: k|lt /=dL= | E12: =350*1.1 -> 385 | F12: =500*1.1 -> 550 | G12: =750*1.1 -> 825 | H12: =1300*1.1 -> 1430 | O12: 110 | P12: k|lt /=dL= | Q12: 550 | R12: 298 | S12: =(Q12-E12)/Q12 -> 0.3 | T12: =(Q12-R12)/Q12 -> 0.45818182 | U12: 760 | V12: 430 | W12: =(U12-F12)/U12 -> 0.27631579 | X12: =(U12-V12)/U12 -> 0.43421053 | Y12: 1160 | Z12: 660 | AA12: =(Y12-G12)/Y12 -> 0.2887931 | AB12: =(Y12-Z12)/Y12 -> 0.43103448 | AC12: 1960 | AD12: 1060 | AE12: =(AC12-H12)/AC12 -> 0.27040816 | AF12: =(AC12-AD12)/AC12 -> 0.45918367
A13: 10 | B13: 125 | C13: 4.5" | D13: k|lt /=dL= | E13: =420*1.1 -> 462 | F13: =650*1.1 -> 715 | G13: =1000*1.1 -> 1100 | H13: =1500*1.1 -> 1650 | O13: 125 | P13: k|lt /=dL= | Q13: 655 | R13: 380 | S13: =(Q13-E13)/Q13 -> 0.29465649 | T13: =(Q13-R13)/Q13 -> 0.41984733 | U13: 1005 | V13: 593 | W13: =(U13-F13)/U13 -> 0.28855721 | X13: =(U13-V13)/U13 -> 0.40995025 | Y13: 1515 | Z13: 880 | AA13: =(Y13-G13)/Y13 -> 0.27392739 | AB13: =(Y13-Z13)/Y13 -> 0.41914191 | AC13: 2330 | AD13: 1358 | AE13: =(AC13-H13)/AC13 -> 0.29184549 | AF13: =(AC13-AD13)/AC13 -> 0.41716738
A14: 11 | B14: 140 | C14: 5" | D14: k|lt /=dL= | E14: =600*1.1 -> 660 | F14: =860*1.1 -> 946 | G14: =1225*1.1 -> 1347.5 | H14: =1900*1.1 -> 2090 | O14: 140 | P14: k|lt /=dL= | Q14: 810 | R14: 469 | S14: =(Q14-E14)/Q14 -> 0.18518519 | T14: =(Q14-R14)/Q14 -> 0.42098765 | U14: 1295 | V14: 753 | W14: =(U14-F14)/U14 -> 0.26949807 | X14: =(U14-V14)/U14 -> 0.41853282 | Y14: 1860 | Z14: 1095 | AA14: =(Y14-G14)/Y14 -> 0.27553763 | AB14: =(Y14-Z14)/Y14 -> 0.41129032 | AC14: 2925 | AD14: 1712 | AE14: =(AC14-H14)/AC14 -> 0.28547009 | AF14: =(AC14-AD14)/AC14 -> 0.41470085
A15: 12 | B15: 160 | C15: 6" | D15: k|lt /=dL= | E15: =700*1.1 -> 770 | F15: =1100*1.1 -> 1210 | G15: =1700*1.1 -> 1870 | H15: =2700*1.1 -> 2970 | O15: 160 | P15: k|lt /=dL= | Q15: 1070 | R15: 613 | S15: =(Q15-E15)/Q15 -> 0.28037383 | T15: =(Q15-R15)/Q15 -> 0.4271028 | U15: 1805 | V15: 975 | W15: =(U15-F15)/U15 -> 0.32963989 | X15: =(U15-V15)/U15 -> 0.4598338 | Y15: 2505 | Z15: 1403 | AA15: =(Y15-G15)/Y15 -> 0.25349301 | AB15: =(Y15-Z15)/Y15 -> 0.43992016 | AC15: 4150 | AD15: 2204 | AE15: =(AC15-H15)/AC15 -> 0.28433735 | AF15: =(AC15-AD15)/AC15 -> 0.46891566
A16: 13 | B16: 180 | C16: 7" | D16: k|lt /=dL= | E16: =900*1.1 -> 990 | F16: =1420*1.1 -> 1562 | G16: =2000*1.1 -> 2200 | H16: =3000*1.1 -> 3300 | O16: 180 | P16: k|lt /=dL= | Q16: 1350 | R16: 785 | S16: =(Q16-E16)/Q16 -> 0.26666667 | T16: =(Q16-R16)/Q16 -> 0.41851852 | U16: 2150 | V16: 1253 | W16: =(U16-F16)/U16 -> 0.27348837 | X16: =(U16-V16)/U16 -> 0.4172093 | Y16: 3050 | Z16: 1788 | AA16: =(Y16-G16)/Y16 -> 0.27868852 | AB16: =(Y16-Z16)/Y16 -> 0.41377049 | AC16: 4790 | AD16: 2809 | AE16: =(AC16-H16)/AC16 -> 0.31106472 | AF16: =(AC16-AD16)/AC16 -> 0.41356994
A17: 14 | B17: 200 | C17: 8" | D17: k|lt /=dL= | E17: =1200*1.1 -> 1320 | F17: =1900*1.1 -> 2090 | G17: =2900*1.1 -> 3190 | H17: =5700*1.1 -> 6270 | O17: 200 | P17: k|lt /=dL= | Q17: 1805 | R17: 958 | S17: =(Q17-E17)/Q17 -> 0.26869806 | T17: =(Q17-R17)/Q17 -> 0.46925208 | U17: 2890 | V17: 1519 | W17: =(U17-F17)/U17 -> 0.27681661 | X17: =(U17-V17)/U17 -> 0.47439446 | Y17: 4200 | Z17: 2191 | AA17: =(Y17-G17)/Y17 -> 0.24047619 | AB17: =(Y17-Z17)/Y17 -> 0.47833333 | AC17: 8850 | AD17: 3473 | AE17: =(AC17-H17)/AC17 -> 0.29152542 | AF17: =(AC17-AD17)/AC17 -> 0.60757062
K21: 9847546403

Sheet cpvc
A1: ७.३. सि.पि.भि.सी. पाइप
A2: l;=g+ | B2: lgdf{)f ;fdfu|Lx?sf] ljj/)f | C2: PsfO{ | D2: आ.व.२०८२।०८३ को दररेट | E2: आ.व.२०८३।०८४ को दररेट | F2: कैफियत
A3: 1 | B3: CPVC Pipe SDR 13.5 (22.5 Kg/cm2)-ASTM F-493 2846 | G3: 9847546403 | K3: Panchakanya
B4: 1/2" dia (15mm) | C4: /=dL | D4: 122 | E4: =D4 -> 122 | K4: 175 | L4: =(K4-E4)/K4 -> 0.30285714
B5: 3/4" dia (20mm) | C5: /=dL | D5: 170 | E5: =D5 -> 170 | K5: 275 | L5: =(K5-E5)/K5 -> 0.38181818
B6: 1" dia (25mm) | C6: /=dL | D6: 223 | E6: =D6 -> 223 | K6: 445 | L6: =(K6-E6)/K6 -> 0.4988764
B7: 1-1/4" dia (32mm) | C7: /=dL | D7: 278 | E7: =D7 -> 278 | K7: 630 | L7: =(K7-E7)/K7 -> 0.55873016
B8: 1-1/2" dia (40mm) | C8: /=dL | D8: 390 | E8: =D8 -> 390 | K8: 860 | L8: =(K8-E8)/K8 -> 0.54651163
B9: 2" dia (50mm) | C9: /=dL | D9: 596 | E9: =D9 -> 596 | K9: 1485 | L9: =(K9-E9)/K9 -> 0.5986532
A10: 2 | B10: CPVC Pipe SDR 11 (28.1 Kg/cm2)-ASTM F-493 2846
B11: 1/2" dia (15mm) | C11: /=dL | D11: 139 | E11: =D11 -> 139 | K11: 200 | L11: =(K11-E11)/K11 -> 0.305
B12: 3/4" dia (20mm) | C12: /=dL | D12: 189 | E12: =D12 -> 189 | K12: 310 | L12: =(K12-E12)/K12 -> 0.39032258
B13: 1" dia (25mm) | C13: /=dL | D13: 264 | E13: =D13 -> 264 | K13: 485 | L13: =(K13-E13)/K13 -> 0.4556701
B14: 1-1/4" dia (32mm) | C14: /=dL | D14: 319 | E14: =D14 -> 319 | K14: 710 | L14: =(K14-E14)/K14 -> 0.55070423
B15: 1-1/2" dia (40mm) | C15: /=dL | D15: 445 | E15: =D15 -> 445 | K15: 1005 | L15: =(K15-E15)/K15 -> 0.55721393
B16: 2" dia (50mm) | C16: /=dL | D16: 721 | E16: =D16 -> 721 | K16: 1685 | L16: =(K16-E16)/K16 -> 0.57210682
A17: 3 | B17: CPVC Ball Valve (CTS Sockets)
B18: 1/2" dia (15mm) | C18: uf]6f | D18: 235 | E18: =D18 -> 235 | K18: 350 | L18: =(K18-E18)/K18 -> 0.32857143
B19: 3/4" dia (20mm) | C19: uf]6f | D19: 363 | E19: =D19 -> 363 | K19: 550 | L19: =(K19-E19)/K19 -> 0.34
B20: 1" dia (25mm) | C20: uf]6f | D20: 597 | E20: =D20 -> 597 | K20: 890 | L20: =(K20-E20)/K20 -> 0.32921348
B21: 1-1/4" dia (32mm) | C21: uf]6f | D21: 1059 | E21: =D21 -> 1059 | K21: 1590 | L21: =(K21-E21)/K21 -> 0.33396226
B22: 1-1/2" dia (40mm) | C22: uf]6f | D22: 1725 | E22: =D22 -> 1725 | K22: 2590 | L22: =(K22-E22)/K22 -> 0.33397683
B23: 2" dia (50mm) | C23: uf]6f | D23: 2222 | E23: =D23 -> 2222 | K23: 3900 | L23: =(K23-E23)/K23 -> 0.43025641
A24: 4 | B24: CPVC Reducer Brass Coupling
B25: 3/4" X 1/2" | C25: uf]6f | D25: 147 | E25: =D25 -> 147 | K25: 235 | L25: =(K25-E25)/K25 -> 0.37446809
B26: 1" X 1/2" | C26: uf]6f | D26: 192 | E26: =D26 -> 192 | K26: 335 | L26: =(K26-E26)/K26 -> 0.42686567
A27: 5 | B27: CPVC Tee
B28: 1/2" dia (15mm) | C28: uf]6f | D28: 38 | E28: =D28 -> 38 | K28: 39 | L28: =(K28-E28)/K28 -> 0.025641026
B29: 3/4" dia (20mm) | C29: uf]6f | D29: 82 | E29: 65 | K29: 65 | L29: =(K29-E29)/K29 -> 0
B30: 1" dia (25mm) | C30: uf]6f | D30: 124 | E30: 110 | K30: 110 | L30: =(K30-E30)/K30 -> 0
B31: 1-1/4" dia (32mm) | C31: uf]6f | D31: 234 | E31: 230 | K31: 230 | L31: =(K31-E31)/K31 -> 0
B32: 1-1/2" dia (40mm) | C32: uf]6f | D32: 341 | E32: =D32 -> 341 | K32: 355 | L32: =(K32-E32)/K32 -> 0.03943662
B33: 2" dia (50mm) | C33: uf]6f | D33: 732 | E33: =D33 -> 732 | K33: 795 | L33: =(K33-E33)/K33 -> 0.079245283
A34: 6 | B34: CPVC Reducer Tee
B35: 1/2" X 1/2" X 3/4" | C35: uf]6f | D35: 74 | E35: =D35 -> 74
B36: 3/4" X 3/4" x1/2" | C36: uf]6f | D36: 114 | E36: =D36 -> 114
B37: 3/4" X 1 /2" X 3/4" | C37: uf]6f | D37: 142 | E37: =D37 -> 142
B38: 3/4" X 1/2" X 1/2" | C38: uf]6f | D38: 163 | E38: =D38 -> 163
B39: 1"x1"x3/4" | C39: uf]6f | D39: 171 | E39: =D39 -> 171
B40: 1-1/2" X 1-1/2" X 1" | C40: uf]6f | D40: 267 | E40: =D40 -> 267
B41: 2"x2"x 1" | C41: uf]6f | D41: 464 | E41: =D41 -> 464
B42: 1-1/4" X 1-1/4" X 1/2" | C42: uf]6f | D42: 151 | E42: =D42 -> 151
B43: 1-1/4" X 1-1/4" X 1" | C43: uf]6f | D43: 163 | E43: =D43 -> 163
B44: 2" X 2" X 1/2" | C44: uf]6f | D44: 456 | E44: =D44 -> 456
B45: 1" X 1" X 1/2" | C45: uf]6f | D45: 104 | E45: =D45 -> 104
A46: 7 | B46: CPVC Brass FPT Tee
B47: 1/2" X 1/2" X 1/2" | C47: uf]6f | D47: 127 | E47: =D47 -> 127
B48: 3/4" X 3/4" X 1/2" | C48: uf]6f | D48: 133 | E48: =D48 -> 133
B49: 1" X 1" X 1/2" | C49: uf]6f | D49: 148 | E49: =D49 -> 148
B50: 1-1/4" X 1-1/4" X 1-1/4" | C50: uf]6f | D50: 534 | E50: =D50 -> 534
B51: 1-1/4" X 1-1/4" X 1/2" | C51: uf]6f | D51: 290 | E51: =D51 -> 290
A52: 8 | B52: CPVC Elbow 90°
B53: 1/2" dia (15mm) | C53: uf]6f | D53: 18 | E53: =D53 -> 18 | K53: 29 | L53: =(K53-E53)/K53 -> 0.37931034
B54: 3/4" dia (20mm) | C54: uf]6f | D54: 33 | E54: =D54 -> 33 | K54: 49 | L54: =(K54-E54)/K54 -> 0.32653061
B55: 1" dia (25mm) | C55: uf]6f | D55: 61 | E55: =D55 -> 61 | K55: 90 | L55: =(K55-E55)/K55 -> 0.32222222
B56: 1-1/4" dia (32mm) | C56: uf]6f | D56: 124 | E56: =D56 -> 124 | K56: 180 | L56: =(K56-E56)/K56 -> 0.31111111
B57: 1-1/2" dia (40mm) | C57: uf]6f | D57: 180 | E57: =D57 -> 180 | K57: 270 | L57: =(K57-E57)/K57 -> 0.33333333
B58: 2" dia (50mm) | C58: uf]6f | D58: 396 | E58: =D58 -> 396 | K58: 635 | L58: =(K58-E58)/K58 -> 0.37637795
A59: 9 | B59: CPVC Reducer Elbow 90°
B60: 3/4" X 1/2" | C60: uf]6f | D60: 56 | E60: =D60 -> 56 | K60: 95 | L60: =(K60-E60)/K60 -> 0.41052632
A61: 10 | B61: CPVC Brass FPT Elbow 90°
B62: 1/2" X 1/2" | C62: uf]6f | D62: 239 | E62: =K62 -> 205 | K62: 205 | L62: =(K62-E62)/K62 -> 0
B63: 3/4" X 1/2" | C63: uf]6f | D63: 263 | E63: =K63 -> 220 | K63: 220 | L63: =(K63-E63)/K63 -> 0
B64: 3/4" X 3/4" | C64: uf]6f | D64: 287 | E64: =K64 -> 295 | K64: 295 | L64: =(K64-E64)/K64 -> 0
B65: 1" X 1/2" | C65: uf]6f | D65: 424 | E65: =K65 -> 320 | K65: 320 | L65: =(K65-E65)/K65 -> 0
B66: 1" X 1" | C66: uf]6f | D66: 502 | E66: =D66 -> 502 | K66: 875 | L66: =(K66-E66)/K66 -> 0.42628571
B67: 1-1/4" X 1-1/4" | C67: uf]6f | D67: 919 | E67: =D67 -> 919 | K67: 0
A68: 11 | B68: CPVC Elbow 45°
B69: 1/2" dia (15mm) | C69: uf]6f | D69: 31 | E69: =D69 -> 31 | K69: 52 | L69: =(K69-E69)/K69 -> 0.40384615
B70: 3/4" dia (20mm) | C70: uf]6f | D70: 57 | E70: 45 | K70: 62 | L70: =(K70-E70)/K70 -> 0.27419355
B71: 1" dia (25mm) | C71: uf]6f | D71: 82 | E71: 75 | K71: 100 | L71: =(K71-E71)/K71 -> 0.25
B72: 1-1/4" dia (32mm) | C72: uf]6f | D72: 145 | E72: =D72 -> 145 | K72: 295 | L72: =(K72-E72)/K72 -> 0.50847458
B73: 1-1/2" dia (40mm) | C73: uf]6f | D73: 210 | E73: =D73 -> 210 | K73: 450 | L73: =(K73-E73)/K73 -> 0.53333333
B74: 2" dia (50mm) | C74: uf]6f | D74: 455 | E74: =D74 -> 455 | K74: 910 | L74: =(K74-E74)/K74 -> 0.5
A75: 12 | B75: CPVC Male Adapter (CPVC Threads)
B76: 1/2" dia (15mm) | C76: uf]6f | D76: 23 | E76: =D76 -> 23 | K76: 38 | L76: =(K76-E76)/K76 -> 0.39473684
B77: 3/4" dia (20mm) | C77: uf]6f | D77: 41 | E77: =D77 -> 41 | K77: 57 | L77: =(K77-E77)/K77 -> 0.28070175
B78: 1" dia (25mm) | C78: uf]6f | D78: 62 | E78: =D78 -> 62 | K78: 90 | L78: =(K78-E78)/K78 -> 0.31111111
B79: 1-1/4" dia (32mm) | C79: uf]6f | D79: 113 | E79: =D79 -> 113 | K79: 150 | L79: =(K79-E79)/K79 -> 0.24666667
B80: 1-1/2" dia (40mm) | C80: uf]6f | D80: 158 | E80: =D80 -> 158 | K80: 220 | L80: =(K80-E80)/K80 -> 0.28181818
B81: 2" dia (50mm) | C81: uf]6f | D81: 309 | E81: =D81 -> 309 | K81: 430 | L81: =(K81-E81)/K81 -> 0.28139535
A82: 13 | B82: CPVC Reducing Male Adapter (CPVC Threads)
B83: 3/4" X 1/2" | C83: uf]6f | D83: 43 | E83: =D83 -> 43 | K83: 85 | L83: =(K83-E83)/K83 -> 0.49411765
A84: 14 | B84: CPVC Male Adapters (Brass Threads)
B85: 1/2" dia (15mm) | C85: uf]6f | D85: 219 | E85: =D85 -> 219 | K85: 410 | L85: =(K85-E85)/K85 -> 0.46585366
B86: 3/4" dia (20mm) | C86: uf]6f | D86: 284 | E86: =D86 -> 284 | K86: 570 | L86: =(K86-E86)/K86 -> 0.50175439
B87: 1" dia (25mm) | C87: uf]6f | D87: 448 | E87: =D87 -> 448 | K87: 990 | L87: =(K87-E87)/K87 -> 0.54747475
B88: 1-1/4" dia (32mm) | C88: uf]6f | D88: 987 | E88: =D88 -> 987 | K88: 1990 | L88: =(K88-E88)/K88 -> 0.5040201
B89: 1-1/2" dia (40mm) | C89: uf]6f | D89: 1151 | E89: =D89 -> 1151 | K89: 2550 | L89: =(K89-E89)/K89 -> 0.54862745
B90: 2" dia (50mm) | C90: uf]6f | D90: 2371 | E90: =D90 -> 2371 | K90: 4450 | L90: =(K90-E90)/K90 -> 0.46719101
A91: 15 | B91: CPVC Reducing Male Adapter (Brass Threads)
B92: 3/4" X 1/2" | C92: uf]6f | D92: 244 | E92: =D92 -> 244
A93: 16 | B93: CPVC Female Adapter (CPVC Threads)
B94: 1/2" dia (15mm) | C94: uf]6f | D94: 33 | E94: =D94 -> 33 | K94: 60 | L94: =(K94-E94)/K94 -> 0.45
B95: 3/4" dia (20mm) | C95: uf]6f | D95: 54 | E95: =D95 -> 54 | K95: 90 | L95: =(K95-E95)/K95 -> 0.4
B96: 1" dia (25mm) | C96: uf]6f | D96: 82 | E96: =D96 -> 82 | K96: 140 | L96: =(K96-E96)/K96 -> 0.41428571
A97: 17 | B97: CPVC Female Adapters Brass Threads
B98: 1/2" dia (15mm) | C98: uf]6f | D98: 211 | E98: =D98 -> 211 | K98: 425 | L98: =(K98-E98)/K98 -> 0.50352941
B99: 3/4" dia (20mm) | C99: uf]6f | D99: 286 | E99: =D99 -> 286 | K99: 545 | L99: =(K99-E99)/K99 -> 0.47522936
B100: 1" dia (25mm) | C100: uf]6f | D100: 372 | E100: =D100 -> 372 | K100: 1110 | L100: =(K100-E100)/K100 -> 0.66486486
...

Sheet PPR fittings
A1: ७.४. पी.पी. आर फिटिङ्गस
A2: सि.नं. | B2: सामाग्रीको विवरण | C2: इकाइ | D2: 20mm | E2: 25mm | F2: 32mm | G2: 40mm | H2: 50mm | I2: 63mm | J2: 75mm | K2: 90mm | L2: 110mm | M2: s}lkmot
A3: 1 | B3: Elbow 90º | C3: गोटा | D3: =11*1.1 -> 12.1 | E3: 22 | F3: 37 | G3: 78 | H3: 130 | I3: 229 | J3: 430 | K3: 726 | L3: 1352
A4: 2 | B4: Elbow 45º | C4: गोटा | D4: 15 | E4: 24 | F4: 38 | G4: 70 | H4: 118 | I4: 195 | J4: 382 | K4: 645 | L4: 1127
A5: 3 | B5: Tee | C5: गोटा | D5: 15 | E5: 27 | F5: 46 | G5: 89 | H5: 151 | I5: 275 | J5: 478 | K5: 645 | L5: 1127
A6: 4 | B6: Coupler (socket) | C6: गोटा | D6: 9 | E6: 11 | F6: 22 | G6: 42 | H6: 70 | I6: 123 | J6: 239 | K6: 353 | L6: 1519
A7: 5 | B7: End cap | C7: गोटा | D7: 12 | E7: 19 | F7: 29 | G7: 43 | H7: 76 | I7: 146 | J7: 234 | K7: - | L7: -
A8: 6 | B8: Stop valve | C8: गोटा | D8: 336 | E8: 406 | F8: 535 | G8: 573 | H8: 955 | I8: 1435 | J8: - | K8: - | L8: -
A9: 7 | B9: Ball valve (Plastic) | C9: गोटा | D9: 91 | E9: 124 | F9: 215 | G9: 458 | H9: 664 | I9: 1123 | J9: - | K9: - | L9: -
A10: 8 | B10: Low footed pipe clip | C10: गोटा | D10: 6 | E10: 7 | F10: 14 | G10: 19 | H10: 30 | I10: 38 | J10: - | K10: - | L10: -
A11: 9 | B11: High footed pipe clip | C11: गोटा | D11: 12 | E11: 14 | F11: 22 | G11: 24 | H11: 27 | I11: 36 | J11: - | K11: - | L11: -
A12: 10 | B12: "Y" type pipe clip | C12: गोटा | D12: 19 | E12: 22 | F12: 27 | G12: - | H12: - | I12: - | J12: - | K12: - | L12: -
A13: 11 | B13: Union (plastic) | C13: गोटा | D13: 57 | E13: 97 | F13: 157 | G13: 238 | H13: 373 | I13: 445 | J13: - | K13: - | L13: -
A14: 12 | B14: Ball valve (Brass) | C14: गोटा | D14: 329 | E14: 406 | F14: 552 | G14: 912 | H14: - | I14: - | J14: - | K14: - | L14: -
A15: 13 | B15: Short Passover | C15: गोटा | D15: 73 | E15: 105 | F15: 163 | G15: - | H15: - | I15: - | J15: - | K15: - | L15: -
A16: 14 | B16: Long Bypass | C16: गोटा | D16: 84 | E16: 138 | F16: 203 | G16: - | H16: - | I16: - | J16: - | K16: - | L16: -
A17: 15 | B17: Cross tee | C17: गोटा | D17: 25 | E17: 38 | F17: 65 | G17: - | H17: - | I17: - | J17: - | K17: - | L17: -
A18: 16 | B18: End plug | C18: गोटा | D18: 6 | E18: 18 | F18: 23 | G18: - | H18: - | I18: - | J18: - | K18: - | L18: -
A19: 17 | B19: Long End plug | C19: गोटा | D19: 9 | E19: - | F19: - | G19: - | H19: - | I19: - | J19: - | K19: - | L19: -
A20: 18 | B20: End plug with Ring | C20: गोटा | D20: 22 | E20: - | F20: - | G20: - | H20: - | I20: - | J20: - | K20: - | L20: -
A21: 19 | B21: Concealed valve (Nor) | C21: गोटा | D21: 902 | E21: - | F21: - | G21: - | H21: - | I21: - | J21: - | K21: - | L21: -
A22: 20 | B22: Concealed valve (Lux) | C22: गोटा | D22: 1072 | E22: - | F22: - | G22: - | H22: - | I22: - | J22: - | K22: - | L22: -
B24: सामाग्रीको विवरण | D24: 25*20mm | E24: 32*20mm | F24: 32*25mm | G24: - | H24: - | I24: - | J24: - | K24: - | L24: -
A25: 21 | B25: Reducing elbow | C25: गोटा | D25: 22 | E25: 39 | F25: 48 | G25: - | H25: - | I25: - | J25: - | K25: - | L25: -
A26: 22 | B26: Reducing coupler | C26: गोटा | D26: 25*20mm | E26: 32*20mm | F26: 32*25mm | G26: 40*20mm | H26: 40*25mm | I26: 40*32mm | J26: 50*20mm | K26: 50*25mm | L26: 50*32mm
D27: 16 | E27: 20 | F27: 22 | G27: 33 | H27: 34 | I27: 46 | J27: 61 | K27: 59 | L27: 67
C28: गोटा | D28: 50*40mm | E28: 63*20mm | F28: 63*25mm | G28: 63*32mm | H28: 63*40mm | I28: 63*50mm | J28: 75*40mm | K28: 75*50mm | L28: 75*63mm
D29: 71 | E29: 96 | F29: 119 | G29: 120 | H29: 120 | I29: 120 | J29: 239 | K29: 244 | L29: 246
C30: गोटा | D30: 90*50mm | E30: 90*63mm | F30: 90*75mm | G30: 110*75mm | H30: 110*90mm | I30: - | J30: - | K30: - | L30: -
D31: 454 | E31: 487 | F31: 573 | G31: 803 | H31: 893 | I31: - | J31: - | K31: - | L31: -
A33: 23 | B33: सामाग्रीको विवरण | D33: 25*20*25 | E33: 32*20*32 | F33: 32*25*32 | G33: 40*20*40 | H33: 40*25*40 | I33: 40*32*40 | J33: 50*20*50 | K33: 50*25*50 | L33: 50*32*50
B34: Reducing Tee | C34: गोटा | D34: 29 | E34: 43 | F34: 43 | G34: 61 | H34: 69 | I34: 74 | J34: 126 | K34: 129 | L34: 138
C35: गोटा | D35: 50*40*50 | E35: 63*20*63 | F35: 63*25*63 | G35: 63*32*63 | H35: 63*40*63 | I35: 63*50*63 | J35: 75*50*75 | K35: 75*63*75 | L35: 90*63*90
D36: 143 | E36: 187 | F36: 208 | G36: 215 | H36: 220 | I36: 227 | J36: 550 | K36: 552 | L36: 907
D37: 90*75*90 | E37: 110*75*110 | F37: 110*90*110 | G37: - | H37: - | I37: - | J37: - | K37: - | L37: -
C38: गोटा | D38: 1003 | E38: 1624 | F38: 1672 | G38: - | H38: - | I38: - | J38: - | K38: - | L38: -
B40: सामाग्रीको विवरण | D40: 20*1/2" | E40: 20*3/4" | F40: 25*1/2" | G40: 25*3/4" | H40: 32*1/2" | I40: 32*3/4" | J40: 32*1" | K40: 40*11/4" | L40: 50*11/2"
A41: 24 | B41: Female coupling | C41: गोटा | D41: 105 | E41: 124 | F41: 138 | G41: 140 | H41: 119 | I41: 127 | J41: 300 | K41: 519 | L41: 672
D42: 901 | E42: 2675 | F42: - | G42: - | H42: - | I42: - | J42: - | K42: - | L42: -
A43: 25 | B43: Male coupling | C43: गोटा | D43: 20*1/2" | E43: 20*3/4" | F43: 25*1/2" | G43: 25*3/4" | H43: 32*1/2" | I43: 32*3/4" | J43: 32*1" | K43: 40*11/4" | L43: 50*11/2"
D44: 129 | E44: 136 | F44: 157 | G44: 181 | H44: 163 | I44: 174 | J44: 350 | K44: 591 | L44: 891
C45: गोटा | D45: 63*2" | E45: 75*21/2" | F45: - | G45: - | H45: - | I45: - | J45: - | K45: - | L45: -
D46: 1176 | E46: 2923 | F46: - | G46: - | H46: - | I46: - | J46: - | K46: - | L46: -
A47: 26 | B47: Female union | C47: गोटा | D47: 20*1/2" | E47: 20*3/4" | F47: 25*1/2" | G47: 25*3/4" | H47: 32*1/2" | I47: 32*3/4" | J47: 32*1" | K47: 40*11/4" | L47: 50*11/2"
D48: 281 | F48: - | G48: 364 | H48: - | I48: - | J48: 589 | K48: 812 | L48: 1388
C49: गोटा | D49: 63*2" | E49: 75*21/2" | F49: - | G49: - | H49: - | I49: - | J49: - | K49: - | L49: -
D50: 2531 | F50: - | G50: - | H50: - | I50: - | J50: - | K50: - | L50: -
A51: 27 | B51: Male union | C51: गोटा | D51: 20*1/2" | E51: 20*3/4" | F51: 25*1/2" | G51: 25*3/4" | H51: 32*1/2" | I51: 32*3/4" | J51: 32*1" | K51: 40*11/4" | L51: 50*11/2"
D52: 292 | F52: - | G52: 419 | H52: - | I52: - | J52: 615 | K52: 1108 | L52: 1431
C53: गोटा | D53: 63*2" | E53: 75*21/2" | F53: - | G53: - | H53: - | I53: - | J53: - | K53: - | L53: -
D54: 3821 | F54: - | G54: - | H54: - | I54: - | J54: - | K54: - | L54: -
B55: सामाग्रीको विवरण | D55: 20*1/2" | E55: 20*3/4" | F55: 25*1/2" | G55: 25*3/4" | H55: 32*1/2" | I55: 32*3/4" | J55: 32*1" | K55: 40*11/4" | L55: 50*11/2"
A56: 28 | B56: Metal Ball Valve double | C56: गोटा | D56: 621 | E56: 910 | F56: 1123 | G56: 3198 | H56: 4394 | I56: - | J56: -
A57: 29 | B57: Metal Ball Valve Single | C57: गोटा | D57: 573 | E57: 917 | F57: 1266 | G57: - | H57: - | I57: - | J57: - | K57: - | L57: -
A58: 30 | B58: Female Elbow: | C58: गोटा | D58: 109 | E58: - | F58: 178 | G58: 146 | H58: 195 | I58: 229 | J58: 321 | K58: - | L58: -
A59: 31 | B59: Male Elbow | C59: गोटा | D59: 133 | E59: - | F59: 146 | G59: 179 | H59: 301 | I59: 239 | J59: 396 | K59: - | L59: -
A60: 32 | B60: Female Tee | C60: गोटा | D60: 112 | E60: - | F60: 146 | G60: 170 | H60: 167 | I60: 219 | J60: 381 | K60: - | L60: -
A61: 33 | B61: Male Tee | C61: गोटा | D61: 138 | E61: - | F61: 146 | G61: 174 | H61: 211 | I61: 219 | J61: 381 | K61: - | L61: -
A62: 34 | B62: Female Base Elbow | C62: गोटा | D62: 148 | E62: - | F62: 182 | G62: 179 | H62: - | I62: - | J62: - | K62: - | L62: -
A63: 35 | B63: Male Base Elbow | C63: गोटा | D63: 151 | E63: - | F63: 186 | G63: 186 | H63: - | I63: - | J63: - | K63: - | L63: -

Sheet uPVC Fittings
A1: ७.४. U-PVC SWR फिटिङ्गस
A2: सि.नं. | B2: विवरण | C2: इकाइ | D2: साइज | H2: कैफियत
D3: 50mm | E3: 75mm | F3: 110mm | G3: 160mm
A4: 1 | B4: Coupler | C4: Pc | D4: 34 | E4: 83 | F4: 141 | G4: 377
A5: 2 | B5: Bend 87.5º | C5: Pc | D5: 51 | E5: 120 | F5: 221 | G5: 500
A6: 3 | B6: Bend 45º | C6: Pc | D6: 49 | E6: 96 | F6: 175 | G6: 530
A7: 4 | B7: Single Tee | C7: Pc | D7: 75 | E7: 162 | F7: 308 | G7: 683
A8: 5 | B8: Pipe Clip | C8: Pc | D8: 16 | E8: 31 | F8: 41 | G8: 79
A9: 6 | B9: Bend 87.5º with Door | C9: Pc | D9: - | E9: 153 | F9: 267 | G9: 774
A10: 7 | B10: Single Tee with Door | C10: Pc | D10: - | E10: 219 | F10: 407 | G10: 1023
A11: 8 | B11: Double Tee | C11: Pc | D11: - | E11: 356 | F11: 563 | G11: -
A12: 9 | B12: Double Tee with Door | C12: Pc | D12: - | E12: 473 | F12: 732 | G12: -
A13: 10 | B13: Vent Cowl | C13: Pc | D13: - | E13: 58 | F13: 97 | G13: -
A14: 11 | B14: Socket Plug | C14: Pc | D14: - | E14: 73 | F14: 119 | G14: -
A15: 12 | B15: Single 'Y' | C15: Pc | D15: - | E15: 208 | F15: 401 | G15: -
A16: 13 | B16: Single 'Y' with Door | C16: Pc | D16: - | E16: 254 | F16: 484 | G16: -
A17: 14 | B17: Double 'Y' | C17: Pc | D17: - | E17: 280 | F17: 552 | G17: -
A18: 15 | B18: Double 'Y' with Door | C18: Pc | D18: - | E18: 358 | F18: 578 | G18: -
A19: 16 | B19: Cleaning pipe | C19: Pc | D19: - | E19: 163 | F19: 314 | G19: -
A20: 17 | B20: Reducer 160*110mm | C20: Pc | D20: - | E20: - | G20: 365
A21: 18 | B21: Reducer 110*75mm | C21: Pc | D21: - | E21: - | F21: 145 | G21: -
A22: 19 | B22: Reducer 75*50mm | C22: Pc | D22: - | E22: 77 | G22: -
A23: 20 | B23: P' Trap 125*110mm | C23: Pc | D23: - | E23: - | F23: 596 | G23: -
A24: 21 | B24: P' Trap 110*110mm | C24: Pc | D24: - | E24: - | F24: 558 | G24: -
A25: 22 | B25: P' Trap 75*75mm | C25: Pc | D25: - | E25: 214 | G25: -
A26: 23 | B26: Multi floor Trap 110*75mm | C26: Pc | D26: - | E26: - | F26: 310 | G26: -
A27: 24 | B27: Nahani Trap 110*75mm | C27: Pc | D27: - | E27: - | F27: 282 | G27: -
A28: 25 | B28: W.C. Connector (Bent type) | C28: Pc | D28: - | E28: - | F28: 421 | G28: -
A29: 26 | B29: Square Tile with Jali | C29: Pc | D29: - | E29: - | F29: 93 | G29: -
A30: 27 | B30: Round Jali | C30: Pc | D30: - | E30: - | F30: 42 | G30: -
A31: 28 | B31: End Cap (50mm) | C31: Pc | D31: 27 | E31: - | G31: -

Sheet Khanepani fittings
A1: ७.५. खानेपानी सम्बन्धी फिटिङ्स
A2: qm=;+= | B2: lgdf{)f ;fdu|Lsf] ljj/)f | C2: OsfO{ | D2: cf=a= 062÷063 | E2: cf=a= 2066÷67 | F2: cf=a= 2067÷68 | G2: cf=a= 2068÷69 | H2: cf=a= 2074÷75 | I2: cf=a= 2075÷76 | J2: cf=a= 2076÷77 sf] :jLs[t b/ /]^ | K2: cf=a= 2077÷78 sf] :jLs[t b/ /]^ | L2: cf=a= 2078÷79 sf] :jLs[t b/ /]^ | M2: cf=a= 2079÷80 sf] :jLs[t b/ /]^ | N2: आ.व. २०८०/०८१ को दररेट | O2: आ.व. २०८१/०८२ को दररेट | P2: आ.व. २०८२/०८३ को दररेट | Q2: आ.व. २०८३/०८४ को दररेट | R2: s}lkmot
A3: 1 | B3: kfO{k lkml^ª\; PgP;
A4: =A3+0.01 -> 1.01 | B4: 15 ld=ld=kh=Pd=jf; km]/f]n | C4: k|lt uf]^f | H4: 850 | I4: 850 | J4: =I4 -> 850 | K4: =J4 -> 850 | L4: =K4 -> 850 | M4: =L4*1.1 -> 935 | N4: =M4 -> 935 | O4: =N4 -> 935 | P4: =O4 -> 935 | Q4: 935
A5: =A4+0.01 -> 1.02 | B5: 20 ld=ld=Aof; lh=Pd=a|f; km]/f]n | C5: k|lt uf]^f | H5: 2520 | I5: 2520 | J5: =I5 -> 2520 | K5: =J5 -> 2520 | L5: =K5 -> 2520 | M5: =L5*1.1 -> 2772 | N5: =M5 -> 2772 | O5: =N5 -> 2772 | P5: =O5 -> 2772 | Q5: 2772
A6: =A5+0.01 -> 1.03 | B6: 25 ld=ld=Aof; lh=Pd=a|f; km]/f]n | C6: k|lt uf]^f | H6: 4500 | I6: 4500 | J6: =I6 -> 4500 | K6: =J6 -> 4500 | L6: =K6 -> 4500 | M6: =L6*1.1 -> 4950 | N6: =M6 -> 4950 | O6: =N6 -> 4950 | P6: =O6 -> 4950 | Q6: 4950
A7: =A6+0.01 -> 1.04 | B7: 15 ld=ld=lh=Pd=Nkmf] /]u'n]l^ª km]/f]n | C7: k|lt uf]^f | H7: 1050 | I7: 1050 | J7: =I7 -> 1050 | K7: =J7 -> 1050 | L7: =K7 -> 1050 | M7: =L7*1.1 -> 1155 | N7: =M7 -> 1155 | O7: =N7 -> 1155 | P7: =O7 -> 1155 | Q7: 1155
A8: =A7+0.01 -> 1.05 | B8: 15 ld=ld= lkQnsf] wf/f 400 u}fdsf] | C8: k|lt uf]^f | H8: 575 | I8: 575 | J8: =I8 -> 575 | K8: =J8 -> 575 | L8: =K8 -> 575 | M8: =L8*1.1 -> 632.5 | N8: =M8 -> 632.5 | O8: =N8 -> 632.5 | P8: =O8 -> 632.5 | Q8: 632.5
A9: 2 | B9: lh=cfO{= ;s]^ NS Mark (ISI Heavy)
A10: =A9+0.01 -> 2.01 | B10: 15 ld=ld= Aof; | C10: k|lt uf]^f | H10: 41 | I10: 41 | J10: =I10 -> 41 | K10: =J10 -> 41 | L10: =K10 -> 41 | M10: =L10*1.1 -> 45.1 | N10: =M10 -> 45.1 | O10: =N10 -> 45.1 | P10: =O10 -> 45.1 | Q10: 45.1
A11: =A10+0.01 -> 2.02 | B11: 20 ld=ld= Aof; | C11: k|lt uf]^f | H11: 64 | I11: 64 | J11: =I11 -> 64 | K11: =J11 -> 64 | L11: =K11 -> 64 | M11: =L11*1.1 -> 70.4 | N11: =M11 -> 70.4 | O11: =N11 -> 70.4 | P11: =O11 -> 70.4 | Q11: 70.4
A12: =A11+0.01 -> 2.03 | B12: 25 ld=ld= Aof; | C12: k|lt uf]^f | H12: 82 | I12: 82 | J12: =I12 -> 82 | K12: =J12 -> 82 | L12: =K12 -> 82 | M12: =L12*1.1 -> 90.2 | N12: =M12 -> 90.2 | O12: =N12 -> 90.2 | P12: =O12 -> 90.2 | Q12: 90.2
A13: =A12+0.01 -> 2.04 | B13: 32 ld=ld= Aof; | C13: k|lt uf]^f | H13: 129 | I13: 129 | J13: =I13 -> 129 | K13: =J13 -> 129 | L13: =K13 -> 129 | M13: =L13*1.1 -> 141.9 | N13: =M13 -> 141.9 | O13: =N13 -> 141.9 | P13: =O13 -> 141.9 | Q13: 141.9
A14: =A13+0.01 -> 2.05 | B14: 40 ld=ld= Aof; | C14: k|lt uf]^f | H14: 173 | I14: 173 | J14: =I14 -> 173 | K14: =J14 -> 173 | L14: =K14 -> 173 | M14: =L14*1.1 -> 190.3 | N14: =M14 -> 190.3 | O14: =N14 -> 190.3 | P14: =O14 -> 190.3 | Q14: 190.3
A15: =A14+0.01 -> 2.06 | B15: 50 ld=ld= Aof; | C15: k|lt uf]^f | H15: 268 | I15: 268 | J15: =I15 -> 268 | K15: =J15 -> 268 | L15: =K15 -> 268 | M15: =L15*1.1 -> 294.8 | N15: =M15 -> 294.8 | O15: =N15 -> 294.8 | P15: =O15 -> 294.8 | Q15: 294.8
A16: =A15+0.01 -> 2.07 | B16: 65 ld=ld= Aof; | C16: k|lt uf]^f | H16: 375 | I16: 375 | J16: =I16 -> 375 | K16: =J16 -> 375 | L16: =K16 -> 375 | M16: =L16*1.1 -> 412.5 | N16: =M16 -> 412.5 | O16: =N16 -> 412.5 | P16: =O16 -> 412.5 | Q16: 412.5
A17: =A16+0.01 -> 2.08 | B17: 80 ld=ld= Aof; | C17: k|lt uf]^f | H17: 600 | I17: 600 | J17: =I17 -> 600 | K17: =J17 -> 600 | L17: =K17 -> 600 | M17: =L17*1.1 -> 660 | N17: =M17 -> 660 | O17: =N17 -> 660 | P17: =O17 -> 660 | Q17: 660
A18: =A17+0.01 -> 2.09 | B18: 100 ld=ld= Aof; | C18: k|lt uf]^f | H18: 950 | I18: 950 | J18: =I18 -> 950 | K18: =J18 -> 950 | L18: =K18 -> 950 | M18: =L18*1.1 -> 1045 | N18: =M18 -> 1045 | O18: =N18 -> 1045 | P18: =O18 -> 1045 | Q18: 1045
A19: 3 | B19: lh=cfO{= Pnaf] NS Mark (ISI Heavy)
A20: =A19+0.01 -> 3.01 | B20: 15 ld=ld= Aof; | C20: k|lt uf]^f | H20: 45 | I20: 45 | J20: =I20 -> 45 | K20: =J20 -> 45 | L20: =K20 -> 45 | M20: =L20*1.1 -> 49.5 | N20: =M20 -> 49.5 | O20: =N20 -> 49.5 | P20: =O20 -> 49.5 | Q20: 49.5
A21: =A20+0.01 -> 3.02 | B21: 20 ld=ld= Aof; | C21: k|lt uf]^f | H21: 71 | I21: 71 | J21: =I21 -> 71 | K21: =J21 -> 71 | L21: =K21 -> 71 | M21: =L21*1.1 -> 78.1 | N21: =M21 -> 78.1 | O21: =N21 -> 78.1 | P21: =O21 -> 78.1 | Q21: 78.1
A22: =A21+0.01 -> 3.03 | B22: 25 ld=ld= Aof; | C22: k|lt uf]^f | H22: 113 | I22: 113 | J22: =I22 -> 113 | K22: =J22 -> 113 | L22: =K22 -> 113 | M22: =L22*1.1 -> 124.3 | N22: =M22 -> 124.3 | O22: =N22 -> 124.3 | P22: =O22 -> 124.3 | Q22: 124.3
A23: =A22+0.01 -> 3.04 | B23: 32 ld=ld= Aof; | C23: k|lt uf]^f | H23: 176 | I23: 176 | J23: =I23 -> 176 | K23: =J23 -> 176 | L23: =K23 -> 176 | M23: =L23*1.1 -> 193.6 | N23: =M23 -> 193.6 | O23: =N23 -> 193.6 | P23: =O23 -> 193.6 | Q23: 193.6
A24: =A23+0.01 -> 3.05 | B24: 40 ld=ld= Aof; | C24: k|lt uf]^f | H24: 242 | I24: 242 | J24: =I24 -> 242 | K24: =J24 -> 242 | L24: =K24 -> 242 | M24: =L24*1.1 -> 266.2 | N24: =M24 -> 266.2 | O24: =N24 -> 266.2 | P24: =O24 -> 266.2 | Q24: 266.2
A25: =A24+0.01 -> 3.06 | B25: 50 ld=ld= Aof; | C25: k|lt uf]^f | H25: 368 | I25: 368 | J25: =I25 -> 368 | K25: =J25 -> 368 | L25: =K25 -> 368 | M25: =L25*1.1 -> 404.8 | N25: =M25 -> 404.8 | O25: =N25 -> 404.8 | P25: =O25 -> 404.8 | Q25: 404.8
A26: =A25+0.01 -> 3.07 | B26: 65 ld=ld= Aof; | C26: k|lt uf]^f | H26: 685 | I26: 685 | J26: =I26 -> 685 | K26: =J26 -> 685 | L26: =K26 -> 685 | M26: =L26*1.1 -> 753.5 | N26: =M26 -> 753.5 | O26: =N26 -> 753.5 | P26: =O26 -> 753.5 | Q26: 753.5
A27: =A26+0.01 -> 3.08 | B27: 80 ld=ld= Aof; | C27: k|lt uf]^f | H27: 978 | I27: 978 | J27: =I27 -> 978 | K27: =J27 -> 978 | L27: =K27 -> 978 | M27: =L27*1.1 -> 1075.8 | N27: =M27 -> 1075.8 | O27: =N27 -> 1075.8 | P27: =O27 -> 1075.8 | Q27: 1075.8
A28: =A27+0.01 -> 3.09 | B28: 100 ld=ld= Aof; | C28: k|lt uf]^f | H28: 1753 | I28: 1753 | J28: =I28 -> 1753 | K28: =J28 -> 1753 | L28: =K28 -> 1753 | M28: =L28*1.1 -> 1928.3 | N28: =M28 -> 1928.3 | O28: =N28 -> 1928.3 | P28: =O28 -> 1928.3 | Q28: 1928.3
A29: 4 | B29: lh=cfO{=^L -Pg=P;=383_
A30: =A29+0.01 -> 4.01 | B30: 15 ld=ld= Aof; | C30: k|lt uf]^f | H30: 70 | I30: 70 | J30: =I30 -> 70 | K30: =J30 -> 70 | L30: =K30 -> 70 | M30: =L30*1.1 -> 77 | N30: =M30 -> 77 | O30: =N30 -> 77 | P30: =O30 -> 77 | Q30: 77
A31: =A30+0.01 -> 4.02 | B31: 20 ld=ld= Aof; | C31: k|lt uf]^f | H31: 110 | I31: 110 | J31: =I31 -> 110 | K31: =J31 -> 110 | L31: =K31 -> 110 | M31: =L31*1.1 -> 121 | N31: =M31 -> 121 | O31: =N31 -> 121 | P31: =O31 -> 121 | Q31: 121
A32: =A31+0.01 -> 4.03 | B32: 25 ld=ld= Aof; | C32: k|lt uf]^f | H32: 150 | I32: 150 | J32: =I32 -> 150 | K32: =J32 -> 150 | L32: =K32 -> 150 | M32: =L32*1.1 -> 165 | N32: =M32 -> 165 | O32: =N32 -> 165 | P32: =O32 -> 165 | Q32: 165
A33: =A32+0.01 -> 4.04 | B33: 32 ld=ld= Aof; | C33: k|lt uf]^f | H33: 240 | I33: 240 | J33: =I33 -> 240 | K33: =J33 -> 240 | L33: =K33 -> 240 | M33: =L33*1.1 -> 264 | N33: =M33 -> 264 | O33: =N33 -> 264 | P33: =O33 -> 264 | Q33: 264
A34: =A33+0.01 -> 4.05 | B34: 40 ld=ld= Aof; | C34: k|lt uf]^f | H34: 295 | I34: 295 | J34: =I34 -> 295 | K34: =J34 -> 295 | L34: =K34 -> 295 | M34: =L34*1.1 -> 324.5 | N34: =M34 -> 324.5 | O34: =N34 -> 324.5 | P34: =O34 -> 324.5 | Q34: 324.5
A35: =A34+0.01 -> 4.06 | B35: 50 ld=ld= Aof; | C35: k|lt uf]^f | H35: 460 | I35: 460 | J35: =I35 -> 460 | K35: =J35 -> 460 | L35: =K35 -> 460 | M35: =L35*1.1 -> 506 | N35: =M35 -> 506 | O35: =N35 -> 506 | P35: =O35 -> 506 | Q35: 506
A36: =A35+0.01 -> 4.07 | B36: 65 ld=ld= Aof; | C36: k|lt uf]^f | H36: 905 | I36: 905 | J36: =I36 -> 905 | K36: =J36 -> 905 | L36: =K36 -> 905 | M36: =L36*1.1 -> 995.5 | N36: =M36 -> 995.5 | O36: =N36 -> 995.5 | P36: =O36 -> 995.5 | Q36: 995.5
A37: =A36+0.01 -> 4.08 | B37: 80 ld=ld= Aof; | C37: k|lt uf]^f | H37: 1205 | I37: 1205 | J37: =I37 -> 1205 | K37: =J37 -> 1205 | L37: =K37 -> 1205 | M37: =L37*1.1 -> 1325.5 | N37: =M37 -> 1325.5 | O37: =N37 -> 1325.5 | P37: =O37 -> 1325.5 | Q37: 1325.5
A38: =A37+0.01 -> 4.09 | B38: 100 ld=ld= Aof; | C38: k|lt uf]^f | H38: 2053 | I38: 2053 | J38: =I38 -> 2053 | K38: =J38 -> 2053 | L38: =K38 -> 2053 | M38: =L38*1.1 -> 2258.3 | N38: =M38 -> 2258.3 | O38: =N38 -> 2258.3 | P38: =O38 -> 2258.3 | Q38: 2258.3
A39: 5 | B39: lh=cfO{=o"lgog
A40: =A39+0.01 -> 5.01 | B40: 15 ld=ld= Aof; | C40: k|lt uf]^f | H40: 124 | I40: 124 | J40: =I40 -> 124 | K40: =J40 -> 124 | L40: =K40 -> 124 | M40: =L40*1.1 -> 136.4 | N40: =M40 -> 136.4 | O40: =N40 -> 136.4 | P40: =O40 -> 136.4 | Q40: 136.4
A41: =A40+0.01 -> 5.02 | B41: 20 ld=ld= Aof; | C41: k|lt uf]^f | H41: 173 | I41: 173 | J41: =I41 -> 173 | K41: =J41 -> 173 | L41: =K41 -> 173 | M41: =L41*1.1 -> 190.3 | N41: =M41 -> 190.3 | O41: =N41 -> 190.3 | P41: =O41 -> 190.3 | Q41: 190.3
A42: =A41+0.01 -> 5.03 | B42: 25 ld=ld= Aof; | C42: k|lt uf]^f | H42: 230 | I42: 230 | J42: =I42 -> 230 | K42: =J42 -> 230 | L42: =K42 -> 230 | M42: =L42*1.1 -> 253 | N42: =M42 -> 253 | O42: =N42 -> 253 | P42: =O42 -> 253 | Q42: 253
A43: =A42+0.01 -> 5.04 | B43: 32 ld=ld= Aof; | C43: k|lt uf]^f | H43: 345 | I43: 345 | J43: =I43 -> 345 | K43: =J43 -> 345 | L43: =K43 -> 345 | M43: =L43*1.1 -> 379.5 | N43: =M43 -> 379.5 | O43: =N43 -> 379.5 | P43: =O43 -> 379.5 | Q43: 379.5
A44: =A43+0.01 -> 5.05 | B44: 40 ld=ld= Aof; | C44: k|lt uf]^f | H44: 455 | I44: 455 | J44: =I44 -> 455 | K44: =J44 -> 455 | L44: =K44 -> 455 | M44: =L44*1.1 -> 500.5 | N44: =M44 -> 500.5 | O44: =N44 -> 500.5 | P44: =O44 -> 500.5 | Q44: 500.5
A45: =A44+0.01 -> 5.06 | B45: 50 ld=ld= Aof; | C45: k|lt uf]^f | H45: 630 | I45: 630 | J45: =I45 -> 630 | K45: =J45 -> 630 | L45: =K45 -> 630 | M45: =L45*1.1 -> 693 | N45: =M45 -> 693 | O45: =N45 -> 693 | P45: =O45 -> 693 | Q45: 693
A46: =A45+0.01 -> 5.07 | B46: 65 ld=ld= Aof; | C46: k|lt uf]^f | H46: 1230 | I46: 1230 | J46: =I46 -> 1230 | K46: =J46 -> 1230 | L46: =K46 -> 1230 | M46: =L46*1.1 -> 1353 | N46: =M46 -> 1353 | O46: =N46 -> 1353 | P46: =O46 -> 1353 | Q46: 1353
A47: =A46+0.01 -> 5.08 | B47: 80 ld=ld= Aof; | C47: k|lt uf]^f | H47: 1680 | I47: 1680 | J47: =I47 -> 1680 | K47: =J47 -> 1680 | L47: =K47 -> 1680 | M47: =L47*1.1 -> 1848 | N47: =M47 -> 1848 | O47: =N47 -> 1848 | P47: =O47 -> 1848 | Q47: 1848
A48: =A47+0.01 -> 5.09 | B48: 100 ld=ld= Aof; | C48: k|lt uf]^f | H48: 2308 | I48: 2308 | J48: =I48 -> 2308 | K48: =J48 -> 2308 | L48: =K48 -> 2308 | M48: =L48*1.1 -> 2538.8 | N48: =M48 -> 2538.8 | O48: =N48 -> 2538.8 | P48: =O48 -> 2538.8 | Q48: 2538.8
A49: 6 | B49: lh=cfO{= O)*Sofk
A50: =A49+0.01 -> 6.01 | B50: 15 ld=ld= Aof; | C50: k|lt uf]^f | H50: 25 | I50: 25 | J50: =I50 -> 25 | K50: =J50 -> 25 | L50: =K50 -> 25 | M50: =L50*1.1 -> 27.5 | N50: =M50 -> 27.5 | O50: =N50 -> 27.5 | P50: =O50 -> 27.5 | Q50: 27.5
A51: =A50+0.01 -> 6.02 | B51: 20 ld=ld= Aof; | C51: k|lt uf]^f | H51: 40 | I51: 40 | J51: =I51 -> 40 | K51: =J51 -> 40 | L51: =K51 -> 40 | M51: =L51*1.1 -> 44 | N51: =M51 -> 44 | O51: =N51 -> 44 | P51: =O51 -> 44 | Q51: 44
A52: =A51+0.01 -> 6.03 | B52: 25 ld=ld= Aof; | C52: k|lt uf]^f | H52: 65 | I52: 65 | J52: =I52 -> 65 | K52: =J52 -> 65 | L52: =K52 -> 65 | M52: =L52*1.1 -> 71.5 | N52: =M52 -> 71.5 | O52: =N52 -> 71.5 | P52: =O52 -> 71.5 | Q52: 71.5
A53: =A52+0.01 -> 6.04 | B53: 32 ld=ld= Aof; | C53: k|lt uf]^f | H53: 80 | I53: 80 | J53: =I53 -> 80 | K53: =J53 -> 80 | L53: =K53 -> 80 | M53: =L53*1.1 -> 88 | N53: =M53 -> 88 | O53: =N53 -> 88 | P53: =O53 -> 88 | Q53: 88
A54: =A53+0.01 -> 6.05 | B54: 40 ld=ld= Aof; | C54: k|lt uf]^f | H54: 175 | I54: 175 | J54: =I54 -> 175 | K54: =J54 -> 175 | L54: =K54 -> 175 | M54: =L54*1.1 -> 192.5 | N54: =M54 -> 192.5 | O54: =N54 -> 192.5 | P54: =O54 -> 192.5 | Q54: 192.5
A55: =A54+0.01 -> 6.06 | B55: 50 ld=ld= Aof; | C55: k|lt uf]^f | H55: 250 | I55: 250 | J55: =I55 -> 250 | K55: =J55 -> 250 | L55: =K55 -> 250 | M55: =L55*1.1 -> 275 | N55: =M55 -> 275 | O55: =N55 -> 275 | P55: =O55 -> 275 | Q55: 275
A56: 7 | B56: lh=cfO{= /]*';/ ^L
A57: =A56+0.01 -> 7.01 | B57: 20 ld=ld= Aof; | C57: k|lt uf]^f | H57: 120 | I57: 120 | J57: =I57 -> 120 | K57: =J57 -> 120 | L57: =K57 -> 120 | M57: =L57*1.1 -> 132 | N57: =M57 -> 132 | O57: =N57 -> 132 | P57: =O57 -> 132 | Q57: 132
A58: =A57+0.01 -> 7.02 | B58: 25 ld=ld= Aof; | C58: k|lt uf]^f | H58: 162 | I58: 162 | J58: =I58 -> 162 | K58: =J58 -> 162 | L58: =K58 -> 162 | M58: =L58*1.1 -> 178.2 | N58: =M58 -> 178.2 | O58: =N58 -> 178.2 | P58: =O58 -> 178.2 | Q58: 178.2
A59: =A58+0.01 -> 7.03 | B59: 32 ld=ld= Aof; | C59: k|lt uf]^f | H59: 148 | I59: 148 | J59: =I59 -> 148 | K59: =J59 -> 148 | L59: =K59 -> 148 | M59: =L59*1.1 -> 162.8 | N59: =M59 -> 162.8 | O59: =N59 -> 162.8 | P59: =O59 -> 162.8 | Q59: 162.8
A60: =A59+0.01 -> 7.04 | B60: 40 ld=ld= Aof; | C60: k|lt uf]^f | H60: 325 | I60: 325 | J60: =I60 -> 325 | K60: =J60 -> 325 | L60: =K60 -> 325 | M60: =L60*1.1 -> 357.5 | N60: =M60 -> 357.5 | O60: =N60 -> 357.5 | P60: =O60 -> 357.5 | Q60: 357.5
A61: =A60+0.01 -> 7.05 | B61: 50 ld=ld= Aof; | C61: k|lt uf]^f | H61: 517 | I61: 517 | J61: =I61 -> 517 | K61: =J61 -> 517 | L61: =K61 -> 517 | M61: =L61*1.1 -> 568.7 | N61: =M61 -> 568.7 | O61: =N61 -> 568.7 | P61: =O61 -> 568.7 | Q61: 568.7
A62: =A61+0.01 -> 7.06 | B62: 65 ld=ld= Aof; | C62: k|lt uf]^f | H62: 918 | I62: 918 | J62: =I62 -> 918 | K62: =J62 -> 918 | L62: =K62 -> 918 | M62: =L62*1.1 -> 1009.8 | N62: =M62 -> 1009.8 | O62: =N62 -> 1009.8 | P62: =O62 -> 1009.8 | Q62: 1009.8
A63: =A62+0.01 -> 7.07 | B63: 80 ld=ld= Aof; | C63: k|lt uf]^f | H63: 1450 | I63: 1450 | J63: =I63 -> 1450 | K63: =J63 -> 1450 | L63: =K63 -> 1450 | M63: =L63*1.1 -> 1595 | N63: =M63 -> 1595 | O63: =N63 -> 1595 | P63: =O63 -> 1595 | Q63: 1595
A64: =A63+0.01 -> 7.08 | B64: 100 ld=ld= Aof; | C64: k|lt uf]^f | H64: 2750 | I64: 2750 | J64: =I64 -> 2750 | K64: =J64 -> 2750 | L64: =K64 -> 2750 | M64: =L64*1.1 -> 3025 | N64: =M64 -> 3025 | O64: =N64 -> 3025 | P64: =O64 -> 3025 | Q64: 3025
A65: 8 | B65: lh=cfO{= /]*';/ ;s]^
A66: =A65+0.01 -> 8.01 | B66: 20 ld=ld= Aof; | C66: k|lt uf]^f | H66: 64 | I66: 64 | J66: =I66 -> 64 | K66: =J66 -> 64 | L66: =K66 -> 64 | M66: =L66*1.1 -> 70.4 | N66: =M66 -> 70.4 | O66: =N66 -> 70.4 | P66: =O66 -> 70.4 | Q66: 70.4
A67: =A66+0.01 -> 8.02 | B67: 25 ld=ld= Aof; | C67: k|lt uf]^f | H67: 87 | I67: 87 | J67: =I67 -> 87 | K67: =J67 -> 87 | L67: =K67 -> 87 | M67: =L67*1.1 -> 95.7 | N67: =M67 -> 95.7 | O67: =N67 -> 95.7 | P67: =O67 -> 95.7 | Q67: 95.7
A68: =A67+0.01 -> 8.03 | B68: 32 ld=ld= Aof; | C68: k|lt uf]^f | H68: 134 | I68: 134 | J68: =I68 -> 134 | K68: =J68 -> 134 | L68: =K68 -> 134 | M68: =L68*1.1 -> 147.4 | N68: =M68 -> 147.4 | O68: =N68 -> 147.4 | P68: =O68 -> 147.4 | Q68: 147.4
A69: =A68+0.01 -> 8.04 | B69: 40 ld=ld= Aof; | C69: k|lt uf]^f | H69: 168 | I69: 168 | J69: =I69 -> 168 | K69: =J69 -> 168 | L69: =K69 -> 168 | M69: =L69*1.1 -> 184.8 | N69: =M69 -> 184.8 | O69: =N69 -> 184.8 | P69: =O69 -> 184.8 | Q69: 184.8
A70: =A69+0.01 -> 8.05 | B70: 50 ld=ld= Aof; | C70: k|lt uf]^f | H70: 280 | I70: 280 | J70: =I70 -> 280 | K70: =J70 -> 280 | L70: =K70 -> 280 | M70: =L70*1.1 -> 308 | N70: =M70 -> 308 | O70: =N70 -> 308 | P70: =O70 -> 308 | Q70: 308
A71: =A70+0.01 -> 8.06 | B71: 65 ld=ld= Aof; | C71: k|lt uf]^f | H71: 430 | I71: 430 | J71: =I71 -> 430 | K71: =J71 -> 430 | L71: =K71 -> 430 | M71: =L71*1.1 -> 473 | N71: =M71 -> 473 | O71: =N71 -> 473 | P71: =O71 -> 473 | Q71: 473
A72: =A71+0.01 -> 8.07 | B72: 80 ld=ld= Aof; | C72: k|lt uf]^f | H72: 675 | I72: 675 | J72: =I72 -> 675 | K72: =J72 -> 675 | L72: =K72 -> 675 | M72: =L72*1.1 -> 742.5 | N72: =M72 -> 742.5 | O72: =N72 -> 742.5 | P72: =O72 -> 742.5 | Q72: 742.5
A73: =A72+0.01 -> 8.08 | B73: 100 ld=ld= Aof; | C73: k|lt uf]^f | H73: 1020 | I73: 1020 | J73: =I73 -> 1020 | K73: =J73 -> 1020 | L73: =K73 -> 1020 | M73: =L73*1.1 -> 1122 | N73: =M73 -> 1122 | O73: =N73 -> 1122 | P73: =O73 -> 1122 | Q73: 1122
A74: 9 | B74: lh=cfO{= /]*';/ PNaf]
A75: =A74+0.01 -> 9.01 | B75: 20 ld=ld= Aof; | C75: k|lt uf]^f | H75: 77 | I75: 77 | J75: =I75 -> 77 | K75: =J75 -> 77 | L75: =K75 -> 77 | M75: =L75*1.1 -> 84.7 | N75: =M75 -> 84.7 | O75: =N75 -> 84.7 | P75: =O75 -> 84.7 | Q75: 84.7
A76: =A75+0.01 -> 9.02 | B76: 25 ld=ld= Aof; | C76: k|lt uf]^f | H76: 120 | I76: 120 | J76: =I76 -> 120 | K76: =J76 -> 120 | L76: =K76 -> 120 | M76: =L76*1.1 -> 132 | N76: =M76 -> 132 | O76: =N76 -> 132 | P76: =O76 -> 132 | Q76: 132
A77: =A76+0.01 -> 9.03 | B77: 32 ld=ld= Aof; | C77: k|lt uf]^f | H77: 190 | I77: 190 | J77: =I77 -> 190 | K77: =J77 -> 190 | L77: =K77 -> 190 | M77: =L77*1.1 -> 209 | N77: =M77 -> 209 | O77: =N77 -> 209 | P77: =O77 -> 209 | Q77: 209
A78: =A77+0.01 -> 9.04 | B78: 40 ld=ld= Aof; | C78: k|lt uf]^f | H78: 255 | I78: 255 | J78: =I78 -> 255 | K78: =J78 -> 255 | L78: =K78 -> 255 | M78: =L78*1.1 -> 280.5 | N78: =M78 -> 280.5 | O78: =N78 -> 280.5 | P78: =O78 -> 280.5 | Q78: 280.5
A79: =A78+0.01 -> 9.05 | B79: 50 ld=ld= Aof; | C79: k|lt uf]^f | H79: 398 | I79: 398 | J79: =I79 -> 398 | K79: =J79 -> 398 | L79: =K79 -> 398 | M79: =L79*1.1 -> 437.8 | N79: =M79 -> 437.8 | O79: =N79 -> 437.8 | P79: =O79 -> 437.8 | Q79: 437.8
A80: =A79+0.01 -> 9.06 | B80: 65 ld=ld= Aof; | C80: k|lt uf]^f | H80: 705 | I80: 705 | J80: =I80 -> 705 | K80: =J80 -> 705 | L80: =K80 -> 705 | M80: =L80*1.1 -> 775.5 | N80: =M80 -> 775.5 | O80: =N80 -> 775.5 | P80: =O80 -> 775.5 | Q80: 775.5
A81: =A80+0.01 -> 9.07 | B81: 80 ld=ld= Aof; | C81: k|lt uf]^f | H81: 1005 | I81: 1005 | J81: =I81 -> 1005 | K81: =J81 -> 1005 | L81: =K81 -> 1005 | M81: =L81*1.1 -> 1105.5 | N81: =M81 -> 1105.5 | O81: =N81 -> 1105.5 | P81: =O81 -> 1105.5 | Q81: 1105.5
A82: =A81+0.01 -> 9.08 | B82: 100 ld=ld= Aof; | C82: k|lt uf]^f | H82: 1850 | I82: 1850 | J82: =I82 -> 1850 | K82: =J82 -> 1850 | L82: =K82 -> 1850 | M82: =L82*1.1 -> 2035 | N82: =M82 -> 2035 | O82: =N82 -> 2035 | P82: =O82 -> 2035 | Q82: 2035
A83: 10 | B83: lh=cfO{=;^{ a])*
A84: =A83+0.01 -> 10.01 | B84: 15 ld=ld=Aof; | C84: k|lt uf]^f | H84: 130 | I84: 130 | J84: =I84 -> 130 | K84: =J84 -> 130 | L84: =K84 -> 130 | M84: =L84*1.1 -> 143 | N84: =M84 -> 143 | O84: =N84 -> 143 | P84: =O84 -> 143 | Q84: 143
A85: =A84+0.01 -> 10.02 | B85: 20 ld=ld= Aof; | C85: k|lt uf]^f | H85: 150 | I85: 150 | J85: =I85 -> 150 | K85: =J85 -> 150 | L85: =K85 -> 150 | M85: =L85*1.1 -> 165 | N85: =M85 -> 165 | O85: =N85 -> 165 | P85: =O85 -> 165 | Q85: 165
A86: =A85+0.01 -> 10.03 | B86: 25 ld=ld= Aof; | C86: k|lt uf]^f | H86: 190 | I86: 190 | J86: =I86 -> 190 | K86: =J86 -> 190 | L86: =K86 -> 190 | M86: =L86*1.1 -> 209 | N86: =M86 -> 209 | O86: =N86 -> 209 | P86: =O86 -> 209 | Q86: 209
A87: =A86+0.01 -> 10.04 | B87: 32 ld=ld= Aof; | C87: k|lt uf]^f | H87: 290 | I87: 290 | J87: =I87 -> 290 | K87: =J87 -> 290 | L87: =K87 -> 290 | M87: =L87*1.1 -> 319 | N87: =M87 -> 319 | O87: =N87 -> 319 | P87: =O87 -> 319 | Q87: 319
A88: =A87+0.01 -> 10.05 | B88: 40 ld=ld= Aof; | C88: k|lt uf]^f | H88: 400 | I88: 400 | J88: =I88 -> 400 | K88: =J88 -> 400 | L88: =K88 -> 400 | M88: =L88*1.1 -> 440 | N88: =M88 -> 440 | O88: =N88 -> 440 | P88: =O88 -> 440 | Q88: 440
A89: =A88+0.01 -> 10.06 | B89: 50 ld=ld= Aof; | C89: k|lt uf]^f | H89: 590 | I89: 590 | J89: =I89 -> 590 | K89: =J89 -> 590 | L89: =K89 -> 590 | M89: =L89*1.1 -> 649 | N89: =M89 -> 649 | O89: =N89 -> 649 | P89: =O89 -> 649 | Q89: 649
A90: 11 | B90: lh=cfO{= lgKkn 2 O~r nfdf]
A91: =A90+0.01 -> 11.01 | B91: 15 ld=ld= Aof; | C91: k|lt uf]^f | H91: 22 | I91: 22 | J91: =I91 -> 22 | K91: =J91 -> 22 | L91: =K91 -> 22 | M91: =L91*1.1 -> 24.2 | N91: =M91 -> 24.2 | O91: =N91 -> 24.2 | P91: =O91 -> 24.2 | Q91: 24.2
A92: =A91+0.01 -> 11.02 | B92: 20 ld=ld= Aof; | C92: k|lt uf]^f | H92: 34 | I92: 34 | J92: =I92 -> 34 | K92: =J92 -> 34 | L92: =K92 -> 34 | M92: =L92*1.1 -> 37.4 | N92: =M92 -> 37.4 | O92: =N92 -> 37.4 | P92: =O92 -> 37.4 | Q92: 37.4
A93: =A92+0.01 -> 11.03 | B93: 25 ld=ld= Aof; | C93: k|lt uf]^f | H93: 44 | I93: 44 | J93: =I93 -> 44 | K93: =J93 -> 44 | L93: =K93 -> 44 | M93: =L93*1.1 -> 48.4 | N93: =M93 -> 48.4 | O93: =N93 -> 48.4 | P93: =O93 -> 48.4 | Q93: 48.4
A94: =A93+0.01 -> 11.04 | B94: 32 ld=ld= Aof; | C94: k|lt uf]^f | H94: 56.5 | I94: 56.5 | J94: =I94 -> 56.5 | K94: =J94 -> 56.5 | L94: =K94 -> 56.5 | M94: =L94*1.1 -> 62.15 | N94: =M94 -> 62.15 | O94: =N94 -> 62.15 | P94: =O94 -> 62.15 | Q94: 62.15
A95: =A94+0.01 -> 11.05 | B95: 40 ld=ld= Aof; | C95: k|lt uf]^f | H95: 70.5 | I95: 70.5 | J95: =I95 -> 70.5 | K95: =J95 -> 70.5 | L95: =K95 -> 70.5 | M95: =L95*1.1 -> 77.55 | N95: =M95 -> 77.55 | O95: =N95 -> 77.55 | P95: =O95 -> 77.55 | Q95: 77.55
A96: 12 | B96: lh=cfO{= lgKkn 3 O~r nfdf]
A97: =A96+0.01 -> 12.01 | B97: 15 ld=ld= Aof; | C97: k|lt uf]^f | H97: 34 | I97: 34 | J97: =I97 -> 34 | K97: =J97 -> 34 | L97: =K97 -> 34 | M97: =L97*1.1 -> 37.4 | N97: =M97 -> 37.4 | O97: =N97 -> 37.4 | P97: =O97 -> 37.4 | Q97: 37.4
A98: =A97+0.01 -> 12.02 | B98: 20 ld=ld= Aof; | C98: k|lt uf]^f | H98: 47.25 | I98: 47.25 | J98: =I98 -> 47.25 | K98: =J98 -> 47.25 | L98: =K98 -> 47.25 | M98: =L98*1.1 -> 51.975 | N98: =M98 -> 51.975 | O98: =N98 -> 51.975 | P98: =O98 -> 51.975 | Q98: 51.975
A99: =A98+0.01 -> 12.03 | B99: 25 ld=ld= Aof; | C99: k|lt uf]^f | H99: 66.2 | I99: 66.2 | J99: =I99 -> 66.2 | K99: =J99 -> 66.2 | L99: =K99 -> 66.2 | M99: =L99*1.1 -> 72.82 | N99: =M99 -> 72.82 | O99: =N99 -> 72.82 | P99: =O99 -> 72.82 | Q99: 72.82
A100: =A99+0.01 -> 12.04 | B100: 32 ld=ld= Aof; | C100: k|lt uf]^f | H100: 85 | I100: 85 | J100: =I100 -> 85 | K100: =J100 -> 85 | L100: =K100 -> 85 | M100: =L100*1.1 -> 93.5 | N100: =M100 -> 93.5 | O100: =N100 -> 93.5 | P100: =O100 -> 93.5 | Q100: 93.5
...

Sheet Wat,Sant_3
A1: ७.६. खानेपानी सम्बन्धी फिटिङ्स
A2: सि.नं. | B2: आइटमको विवरण | C2: इकाइ | D2: 1/2" | E2: 3/4" | F2: 1" | G2: 11/4" | H2: 11/2" | I2: 2" | J2: 21/2" | K2: 3" | L2: 4" | M2: 5" | N2: 6" | O2: 8" | P2: 10" | Q2: 12"
D3: 15mm | E3: 20mm | F3: 25mm | G3: 32mm | H3: 40mm | I3: 50mm | J3: 65mm | K3: 80mm | L3: 100mm | M3: 125mm | N3: 150mm | O3: 200mm | P3: 250mm | Q3: 300mm | R3: रुपन्देही जिल्ला रेटबाट साभार
A4: 41 | B4: पाइप | R4: रुपन्देही जिल्ला रेटबाट साभार
A5: =A4+0.01 -> 41.01 | B5: DI Pipe M/C | C5: प्रति मि. | D5: − | E5: − | F5: − | G5: − | H5: − | I5: − | J5: − | K5: − | L5: − | M5: − | N5: 7000 | O5: 9000 | P5: 11000 | Q5: − | R5: रुपन्देही जिल्ला रेटबाट साभार
A6: =A5+0.01 -> 41.02 | B6: MS Slotted Pipe | C6: प्रति मि. | D6: − | E6: − | F6: − | G6: − | H6: − | I6: − | J6: − | K6: − | L6: − | M6: − | N6: 4500 | O6: 7450 | P6: − | Q6: − | R6: रुपन्देही+दाङ्ग जिल्ला रेटबाट साभार
A7: =A6+0.01 -> 41.03 | B7: LCG Screen Pipe | C7: प्रति मि. | D7: − | E7: − | F7: − | G7: − | H7: − | I7: − | J7: − | K7: − | L7: − | M7: − | N7: 8090 | O7: 10400 | P7: − | Q7: − | R7: दाङ्ग जिल्ला रेटबाट साभार
A8: =A7+0.01 -> 41.04 | B8: Jhonson radial screen (SS 304) | C8: प्रति मि. | D8: − | E8: − | F8: − | G8: − | H8: − | I8: − | J8: − | K8: − | L8: − | M8: − | N8: − | O8: 25000 | P8: − | Q8: − | R8: रुपन्देही जिल्ला रेटबाट साभार
A9: 42 | B9: फिटिङ्गस | R9: रुपन्देही जिल्ला रेटबाट साभार
A10: =A9+0.01 -> 42.01 | B10: DI Sluice Valve | C10: संख्या | D10: − | E10: − | F10: − | G10: − | H10: − | I10: − | J10: − | K10: 15000 | L10: 21000 | M10: 25000 | N10: 30000 | O10: 56000 | P10: 65000 | Q10: 75000 | R10: रुपन्देही जिल्ला रेटबाट साभार
A11: =A10+0.01 -> 42.02 | B11: DI Cross Tee | C11: संख्या | D11: − | E11: − | F11: − | G11: − | H11: − | I11: − | J11: − | K11: − | L11: − | M11: − | N11: 14000 | O11: 22000 | P11: 35000 | Q11: − | R11: रुपन्देही जिल्ला रेटबाट साभार
A12: =A11+0.01 -> 42.03 | B12: DI Tee(Double Socket with Flange Branch) | C12: संख्या | D12: − | E12: − | F12: − | G12: − | H12: − | I12: − | J12: − | K12: 13000 | L12: 15000 | M12: 17000 | N12: 18000 | O12: 20000 | P12: 25000 | Q12: 30000 | R12: रुपन्देही जिल्ला रेटबाट साभार
A13: =A12+0.01 -> 42.04 | B13: DI Reducer | C13: संख्या | D13: − | E13: − | F13: − | G13: − | H13: − | I13: − | J13: − | K13: 5295 | L13: 6917 | M13: 8730 | N13: 9811 | O13: 11800 | P13: 14144 | Q13: 19792 | R13: रुपन्देही जिल्ला रेटबाट साभार
A14: =A13+0.01 -> 42.05 | B14: DI Mechanical Coupling | C14: संख्या | D14: − | E14: − | F14: − | G14: − | H14: − | I14: − | J14: − | K14: − | L14: − | M14: − | N14: 15000 | O14: 18000 | P14: 20000 | Q14: − | R14: रुपन्देही जिल्ला रेटबाट साभार
A15: =A14+0.01 -> 42.06 | B15: DI Bell Mouth | C15: संख्या | D15: − | E15: − | F15: − | G15: − | H15: − | I15: − | J15: − | K15: − | L15: − | M15: − | N15: 7500 | O15: 9000 | P15: 12000 | Q15: − | R15: रुपन्देही जिल्ला रेटबाट साभार
A16: =A15+0.01 -> 42.07 | B16: DI Duck foot | C16: संख्या | D16: − | E16: − | F16: − | G16: − | H16: − | I16: − | J16: − | K16: − | L16: − | M16: − | N16: 16500 | O16: 19500 | P16: 22500 | Q16: − | R16: रुपन्देही जिल्ला रेटबाट साभार
A17: =A16+0.01 -> 42.08 | B17: DI Puddlecolor 1 mtr long | C17: संख्या | D17: − | E17: − | F17: − | G17: − | H17: − | I17: − | J17: − | K17: − | L17: − | M17: − | N17: 18000 | O17: 20000 | P17: 25000 | Q17: − | R17: रुपन्देही जिल्ला रेटबाट साभार
A18: =A17+0.01 -> 42.09 | B18: MS Clamp | C18: संख्या | D18: − | E18: − | F18: − | G18: − | H18: 800 | I18: 850 | J18: 960 | K18: 1200 | L18: 1300 | M18: 1500 | N18: 1800 | O18: 2300 | P18: 2500 | Q18: 3000 | R18: रुपन्देही जिल्ला रेटबाट साभार
A19: =A18+0.01 -> 42.1 | B19: DI Tail Pice(400) | C19: संख्या | D19: − | E19: − | F19: − | G19: − | H19: − | I19: − | J19: − | K19: − | L19: − | M19: − | N19: 4300 | O19: 6000 | P19: 8300 | Q19: − | R19: रुपन्देही जिल्ला रेटबाट साभार
A20: =A19+0.01 -> 42.11 | B20: DI Bend(Double Flange) | C20: संख्या | D20: − | E20: − | F20: − | G20: − | H20: − | I20: − | J20: − | K20: − | L20: 11500 | M20: 12500 | N20: 13500 | O20: 16000 | P20: 18050 | Q20: 25000 | R20: रुपन्देही जिल्ला रेटबाट साभार
A21: =A20+0.01 -> 42.12 | B21: MS Elbow | C21: संख्या | D21: − | E21: − | F21: − | G21: − | H21: − | I21: − | J21: − | K21: − | L21: 1492 | M21: − | N21: 2254 | O21: 2842 | P21: − | Q21: − | R21: कञचनपुरबाट साभार
A22: =A21+0.01 -> 42.13 | B22: MS TEE | C22: संख्या | D22: − | E22: − | F22: − | G22: − | H22: − | I22: − | J22: − | K22: − | L22: − | M22: − | N22: 2084 | O22: 3837 | P22: − | Q22: − | R22: कञचनपुरबाट साभार
A23: =A22+0.01 -> 42.14 | B23: MS Bend | C23: संख्या | D23: − | E23: − | F23: − | G23: − | H23: − | I23: − | J23: − | K23: − | L23: − | M23: − | N23: 2368 | O23: − | P23: − | Q23: − | R23: कञचनपुरबाट साभार
A24: =A23+0.01 -> 42.15 | B24: DI Socket with Flange | C24: संख्या | D24: − | E24: − | F24: − | G24: − | H24: − | I24: − | J24: − | K24: − | L24: − | M24: − | N24: 5500 | O24: 7500 | P24: 10000 | Q24: − | R24: रुपन्देही जिल्ला रेटबाट साभार
A25: =A24+0.01 -> 42.16 | B25: MS Flange Set OD | C25: सेट | D25: − | E25: − | F25: − | G25: − | H25: − | I25: − | J25: − | K25: 2500 | L25: 3200 | M25: 5500 | N25: 7500 | O25: 9500 | P25: 11000 | Q25: − | R25: रुपन्देही जिल्ला रेटबाट साभार

Sheet Well tubewall
A1: ७.७. ईनार तथा ट्यूववेल सम्बन्धी
A2: qm=;+= | B2: lgdf{)f ;fdu|Lsf] ljj/)f | C2: OsfO{ | D2: cf=a= 062÷063 | E2: cf=a= 2066÷67 | F2: cf=a= 2067÷68 | G2: cf=a= 2068÷69 | H2: cf=a= 2074÷75 | I2: cf=a= 2075÷76 | J2: cf=a= 2076÷77 sf] :jLs[t b/ /]^ | K2: cf=a= 2077÷78 sf] :jLs[t b/ /]^ | L2: cf=a= 2078÷79 sf] :jLs[t b/ /]^ | M2: cf=a= 2079÷80 sf] :jLs[t b/ /]^ | N2: आ.व. २०८०/०८१ को दररेट | O2: आ.व. २०८१/०८२ को दररेट | P2: आ.व. २०८२/०८३ को दररेट | Q2: आ.व. २०८३/०८४ को दररेट | R2: s}lkmot
A3: 1 | B3: DEEP Tube Well
A4: =A3+0.01 -> 1.01 | B4: Pea Gravel | C4: Cum | H4: 2400 | I4: 2520 | J4: =I4 -> 2520 | K4: =J4 -> 2520 | L4: =K4 -> 2520 | M4: =L4*1.1 -> 2772 | N4: =M4 -> 2772 | O4: =N4 -> 2772 | P4: =O4 -> 2772 | Q4: 2772
A5: =A4+0.01 -> 1.02 | B5: Gasket | C5: KG | H5: 44 | I5: 46 | J5: =I5 -> 46 | K5: =J5 -> 46 | L5: =K5 -> 46 | M5: =L5*1.1 -> 50.6 | N5: =M5 -> 50.6 | O5: =N5 -> 50.6 | P5: =O5 -> 50.6 | Q5: 50.6
A6: =A5+0.01 -> 1.03 | B6: Bentonite | C6: KG | H6: 25 | I6: 26 | J6: =I6 -> 26 | K6: =J6 -> 26 | L6: =K6 -> 26 | M6: =L6*1.1 -> 28.6 | N6: =M6 -> 28.6 | O6: =N6 -> 28.6 | P6: =O6 -> 28.6 | Q6: 28.6
A7: =A6+0.01 -> 1.04 | B7: Barite | C7: KG | H7: 26 | I7: 27 | J7: =I7 -> 27 | K7: =J7 -> 27 | L7: =K7 -> 27 | M7: =L7*1.1 -> 29.7 | N7: =M7 -> 29.7 | O7: =N7 -> 29.7 | P7: =O7 -> 29.7 | Q7: 29.7
A8: =A7+0.01 -> 1.05 | B8: MS Casing pipe 10" | C8: KG | H8: 95 | I8: 100 | J8: =I8 -> 100 | K8: =J8 -> 100 | L8: =K8 -> 100 | M8: =L8*1.1 -> 110 | N8: =M8 -> 110 | O8: =N8 -> 110 | P8: =O8 -> 110 | Q8: 110
A9: =A8+0.01 -> 1.06 | B9: MS Casing pipe 8" | C9: KG | H9: 86 | I9: 90 | J9: =I9 -> 90 | K9: =J9 -> 90 | L9: =K9 -> 90 | M9: =L9*1.1 -> 99 | N9: =M9 -> 99 | O9: =N9 -> 99 | P9: =O9 -> 99 | Q9: 99
A10: =A9+0.01 -> 1.07 | B10: MS Casing pipe 6" | C10: KG | H10: 85 | I10: 89 | J10: =I10 -> 89 | K10: =J10 -> 89 | L10: =K10 -> 89 | M10: =L10*1.1 -> 97.9 | N10: =M10 -> 97.9 | O10: =N10 -> 97.9 | P10: =O10 -> 97.9 | Q10: 97.9
A11: =A10+0.01 -> 1.08 | B11: Reducer 8/6" | C11: No | H11: 2000 | I11: 2100 | J11: =I11 -> 2100 | K11: =J11 -> 2100 | L11: =K11 -> 2100 | M11: =L11*1.1 -> 2310 | N11: =M11 -> 2310 | O11: =N11 -> 2310 | P11: =O11 -> 2310 | Q11: 2310
A12: =A11+0.01 -> 1.09 | B12: Flange-Set 8 " | C12: No | H12: 3500 | I12: 3675 | J12: =I12 -> 3675 | K12: =J12 -> 3675 | L12: =K12 -> 3675 | M12: =L12*1.1 -> 4042.5 | N12: =M12 -> 4042.5 | O12: =N12 -> 4042.5 | P12: =O12 -> 4042.5 | Q12: 4042.5
A13: =A12+0.01 -> 1.1 | B13: Alfa-Alfa Valve 6" | C13: No | N13: − | O13: 0 | P13: 4950 | Q13: 4950 | S13: दाङ्गबाट साभार गरीएको
A14: =A13+0.01 -> 1.11 | B14: Alfa-Alfa Valve 8" | C14: No | N14: − | O14: 0 | P14: 6000 | Q14: 6000 | S14: दाङ्गबाट साभार गरीएको
A15: =A14+0.01 -> 1.12 | B15: Butterfly Valve 4" | C15: No | N15: − | O15: 0 | P15: 4500 | Q15: 4500 | S15: दाङ्गबाट साभार गरीएको
A16: =A15+0.01 -> 1.13 | B16: Butterfly Valve 5" | C16: No | N16: − | O16: 0 | P16: 5500 | Q16: 5500 | S16: दाङ्गबाट साभार गरीएको
A17: =A16+0.01 -> 1.14 | B17: Butterfly Valve 6" | C17: No | N17: − | O17: 0 | P17: 6500 | Q17: 6500 | S17: दाङ्गबाट साभार गरीएको
A18: =A17+0.01 -> 1.15 | B18: Butterfly Valve 8" | C18: No | N18: − | O18: 0 | P18: 7500 | Q18: 7500 | S18: दाङ्गबाट साभार गरीएको
A19: 2 | B19: Shallow Tube Well
